BEGIN:VCALENDAR
VERSION:2.0
PRODID:-//BMBFA - ECPv6.15.20//NONSGML v1.0//EN
CALSCALE:GREGORIAN
METHOD:PUBLISH
X-WR-CALNAME:BMBFA
X-ORIGINAL-URL:https://blackmothersbreastfeeding.org
X-WR-CALDESC:Events for BMBFA
REFRESH-INTERVAL;VALUE=DURATION:PT1H
X-Robots-Tag:noindex
X-PUBLISHED-TTL:PT1H
BEGIN:VTIMEZONE
TZID:America/Detroit
BEGIN:DAYLIGHT
TZOFFSETFROM:-0500
TZOFFSETTO:-0400
TZNAME:EDT
DTSTART:20230312T070000
END:DAYLIGHT
BEGIN:STANDARD
TZOFFSETFROM:-0400
TZOFFSETTO:-0500
TZNAME:EST
DTSTART:20231105T060000
END:STANDARD
BEGIN:DAYLIGHT
TZOFFSETFROM:-0500
TZOFFSETTO:-0400
TZNAME:EDT
DTSTART:20240310T070000
END:DAYLIGHT
BEGIN:STANDARD
TZOFFSETFROM:-0400
TZOFFSETTO:-0500
TZNAME:EST
DTSTART:20241103T060000
END:STANDARD
BEGIN:DAYLIGHT
TZOFFSETFROM:-0500
TZOFFSETTO:-0400
TZNAME:EDT
DTSTART:20250309T070000
END:DAYLIGHT
BEGIN:STANDARD
TZOFFSETFROM:-0400
TZOFFSETTO:-0500
TZNAME:EST
DTSTART:20251102T060000
END:STANDARD
BEGIN:DAYLIGHT
TZOFFSETFROM:-0500
TZOFFSETTO:-0400
TZNAME:EDT
DTSTART:20260308T070000
END:DAYLIGHT
BEGIN:STANDARD
TZOFFSETFROM:-0400
TZOFFSETTO:-0500
TZNAME:EST
DTSTART:20261101T060000
END:STANDARD
END:VTIMEZONE
BEGIN:VEVENT
DTSTART;TZID=America/Detroit:20250108T180000
DTEND;TZID=America/Detroit:20250108T190000
DTSTAMP:20260425T080427
CREATED:20250107T150853Z
LAST-MODIFIED:20250107T151812Z
UID:9474-1736359200-1736362800@blackmothersbreastfeeding.org
SUMMARY:BMBFC (Virtual)
DESCRIPTION:Interested in a Breastfeeding club? Join us on Zoom\, every 1st Wednesday of the month from 6-7 pm! Please register at least 30 minutes in advance.
URL:https://blackmothersbreastfeeding.org/calendar/breastfeeding-club-virtual/
LOCATION:Zoom
ATTACH;FMTTYPE=image/png:https://blackmothersbreastfeeding.org/wp-content/uploads/2025/01/image-7.png
ORGANIZER;CN="Kim Price":MAILTO:kimberlyp@bmbfa.org
END:VEVENT
BEGIN:VEVENT
DTSTART;TZID=America/Detroit:20250108T180000
DTEND;TZID=America/Detroit:20250108T190000
DTSTAMP:20260425T080427
CREATED:20241125T163938Z
LAST-MODIFIED:20241125T163941Z
UID:9412-1736359200-1736362800@blackmothersbreastfeeding.org
SUMMARY:BMBFC (Virtual)
DESCRIPTION:Interested in a Breastfeeding club? Join us on Zoom\, every 1st Wednesday of the month from 6-7 pm! Please register at least 30 minutes in advance.
URL:https://blackmothersbreastfeeding.org/calendar/bmbfc-virtual-2/
LOCATION:Zoom
ATTACH;FMTTYPE=image/png:https://blackmothersbreastfeeding.org/wp-content/uploads/2024/11/Winter-24-25-1.png
ORGANIZER;CN="Kim Price":MAILTO:kimberlyp@bmbfa.org
END:VEVENT
BEGIN:VEVENT
DTSTART;TZID=America/Detroit:20250108T113000
DTEND;TZID=America/Detroit:20250108T130000
DTSTAMP:20260425T080427
CREATED:20250107T145836Z
LAST-MODIFIED:20250107T145838Z
UID:9455-1736335800-1736341200@blackmothersbreastfeeding.org
SUMMARY:BLISS
DESCRIPTION:Birthing\, Lactating\, Inspiring\, & Supporting Series. Anything you want to know about birth & breastfeeding! Breastfeeding challenges and solutions. Learn how to involve your whole family. Resources and more! Questions? Contact Program Manager Kimberly Price.
URL:https://blackmothersbreastfeeding.org/calendar/bliss-8/
LOCATION:McKenny Center\, 19750 Burt Rd\, Detroit\, Michigan\, 48219
ATTACH;FMTTYPE=image/png:https://blackmothersbreastfeeding.org/wp-content/uploads/2025/01/image-6.png
ORGANIZER;CN="Kim Price":MAILTO:kimberlyp@bmbfa.org
END:VEVENT
BEGIN:VEVENT
DTSTART;TZID=America/Detroit:20241220T163000
DTEND;TZID=America/Detroit:20241220T183000
DTSTAMP:20260425T080427
CREATED:20241125T163300Z
LAST-MODIFIED:20241125T163303Z
UID:9405-1734712200-1734719400@blackmothersbreastfeeding.org
SUMMARY:BMBFC (In-Person)
DESCRIPTION:Interested in Breastfeeding club? Join us at The McKenny Center Gymnasium\, every 3rd Friday of the month from 4:30-6:30 pm! Please register at least 30 minutes in advance.
URL:https://blackmothersbreastfeeding.org/calendar/bmbfc-in-person/
LOCATION:McKenny Center\, 19750 Burt Rd\, Detroit\, Michigan\, 48219
ATTACH;FMTTYPE=image/png:https://blackmothersbreastfeeding.org/wp-content/uploads/2024/11/Winter-24-25-1.png
ORGANIZER;CN="Kim Price":MAILTO:kimberlyp@bmbfa.org
END:VEVENT
BEGIN:VEVENT
DTSTART;TZID=America/Detroit:20241212T130000
DTEND;TZID=America/Detroit:20241212T150000
DTSTAMP:20260425T080427
CREATED:20241202T170420Z
LAST-MODIFIED:20241202T170423Z
UID:9430-1734008400-1734015600@blackmothersbreastfeeding.org
SUMMARY:Breastfeeding Peer Counselor Training Informational
DESCRIPTION:Have you had a positive human milk-feeding experience? Want to educate\, advise\, and support moms on common breastfeeding concerns? Join us for our Breastfeeding Peer Counselor Training Informational to learn if you would be a great fit for our program! This session will provide an overview of the training\, the role of a Breastfeeding Peer Counselor\, and how you can make a difference in your community. Whether you’re looking to share your own experience or gain new skills to support families on their breastfeeding journey\, this training could be the perfect opportunity for you. Don’t miss out—join us to explore how you can empower moms and babies through breastfeeding support! \n\n\n\n\n\n\nRegister for the Informational!
URL:https://blackmothersbreastfeeding.org/calendar/breastfeeding-peer-counselor-training-informational-2/
LOCATION:McKenny Center\, 19750 Burt Rd\, Detroit\, Michigan\, 48219
ATTACH;FMTTYPE=image/jpeg:https://blackmothersbreastfeeding.org/wp-content/uploads/2024/12/Peer-Counselor-Information24-1.jpg
ORGANIZER;CN="Kim Price":MAILTO:kimberlyp@bmbfa.org
END:VEVENT
BEGIN:VEVENT
DTSTART;TZID=America/Detroit:20241211T113000
DTEND;TZID=America/Detroit:20241211T130000
DTSTAMP:20260425T080427
CREATED:20241125T164902Z
LAST-MODIFIED:20241125T164904Z
UID:9419-1733916600-1733922000@blackmothersbreastfeeding.org
SUMMARY:BLISS
DESCRIPTION: Birthing\, Lactating\, Inspiring\, & Supporting Series. Anything you want to know about birth & breastfeeding! Breastfeeding challenges and solutions. Learn how to involve your whole family. Resources and more! Questions? Contact Program Manager Kimberly Price.
URL:https://blackmothersbreastfeeding.org/calendar/bliss-7/
LOCATION:McKenny Center\, 19750 Burt Rd\, Detroit\, Michigan\, 48219
ATTACH;FMTTYPE=image/png:https://blackmothersbreastfeeding.org/wp-content/uploads/2024/11/BLISS-FL-5.png
ORGANIZER;CN="Kim Price":MAILTO:kimberlyp@bmbfa.org
END:VEVENT
BEGIN:VEVENT
DTSTART;TZID=America/Detroit:20241206T180000
DTEND;TZID=America/Detroit:20241206T220000
DTSTAMP:20260425T080427
CREATED:20241011T143145Z
LAST-MODIFIED:20241203T033551Z
UID:9269-1733508000-1733522400@blackmothersbreastfeeding.org
SUMMARY:Triple Crown Gala and Awards Ceremony!
DESCRIPTION:Triple Crown Gala and Awards Ceremony \n\n\n\n\n\n\n\n\n\nThe evening will honor and celebrate the incredible achievements and contributions that are helping transform the lives of Black families and the broader community. This elegant event is an opportunity to highlight the impact of our collective efforts and the ways in which Babies Win. Families Thrive. Communities Transform!
URL:https://blackmothersbreastfeeding.org/calendar/save-the-date/
LOCATION:Dossin Great Lakes Museum 100 The Strand Detroit\, MI 48207\, 100 The Strand\, Detroit\, Michigan\, 48207\, United States
END:VEVENT
BEGIN:VEVENT
DTSTART;TZID=America/Detroit:20241204T180000
DTEND;TZID=America/Detroit:20241204T190000
DTSTAMP:20260425T080427
CREATED:20241125T163801Z
LAST-MODIFIED:20241125T163805Z
UID:9410-1733335200-1733338800@blackmothersbreastfeeding.org
SUMMARY:BMBFC (Virtual)
DESCRIPTION:Interested in a Breastfeeding club? Join us on Zoom\, every 1st Wednesday of the month from 6-7 pm! Please register at least 30 minutes in advance.
URL:https://blackmothersbreastfeeding.org/calendar/bmbfc-virtual/
LOCATION:Zoom
ATTACH;FMTTYPE=image/png:https://blackmothersbreastfeeding.org/wp-content/uploads/2024/11/Winter-24-25-1.png
ORGANIZER;CN="Kim Price":MAILTO:kimberlyp@bmbfa.org
END:VEVENT
BEGIN:VEVENT
DTSTART;TZID=America/Detroit:20241204T113000
DTEND;TZID=America/Detroit:20241204T130000
DTSTAMP:20260425T080427
CREATED:20241125T164703Z
LAST-MODIFIED:20241125T164707Z
UID:9417-1733311800-1733317200@blackmothersbreastfeeding.org
SUMMARY:BLISS
DESCRIPTION: Birthing\, Lactating\, Inspiring\, & Supporting Series. Anything you want to know about birth & breastfeeding! Breastfeeding challenges and solutions. Learn how to involve your whole family. Resources and more! Questions? Contact Program Manager Kimberly Price.
URL:https://blackmothersbreastfeeding.org/calendar/bliss-6/
LOCATION:McKenny Center\, 19750 Burt Rd\, Detroit\, Michigan\, 48219
ATTACH;FMTTYPE=image/png:https://blackmothersbreastfeeding.org/wp-content/uploads/2024/11/BLISS-FL-5.png
ORGANIZER;CN="Kim Price":MAILTO:kimberlyp@bmbfa.org
END:VEVENT
BEGIN:VEVENT
DTSTART;TZID=America/Detroit:20241203T150000
DTEND;TZID=America/Detroit:20241203T200000
DTSTAMP:20260425T080427
CREATED:20241203T032640Z
LAST-MODIFIED:20241203T032640Z
UID:9440-1733238000-1733256000@blackmothersbreastfeeding.org
SUMMARY:Giving Tuesday with BMBFA Mommy Ambassadors
DESCRIPTION:Join us for a special Giving Tuesday Fundraiser hosted by BMBFA Mommy Ambassador at Applebee’s on 8 Mile & Woodward in Detroit!  \n\n\n\nEnjoy a delicious meal while supporting a great cause—20% of your meal price will be donated to Black Mothers Breastfeeding Association. Whether you dine in\, take out\, or pick up\, you’re making a difference! \n\n\n\n Date: Tuesday\, December 3rd\, 2024 \n\n\n\nTime: 3:00 PM – 8:00 PM \n\n\n\n Location: 21111 Eight Mile\, Detroit\, MI \n\n\n\nDon’t forget to mention the fundraiser when you order!
URL:https://blackmothersbreastfeeding.org/calendar/giving-tuesday-with-bmbfa-mommy-ambassadors/
LOCATION:Applebee’s Grill + Bar\, 2111 W. Eight Mile Rd.\, Detroit\, Michigan\, 48203
END:VEVENT
BEGIN:VEVENT
DTSTART;TZID=America/Detroit:20241127T113000
DTEND;TZID=America/Detroit:20241127T130000
DTSTAMP:20260425T080427
CREATED:20241125T164551Z
LAST-MODIFIED:20241125T164555Z
UID:9414-1732707000-1732712400@blackmothersbreastfeeding.org
SUMMARY:BLISS
DESCRIPTION: Birthing\, Lactating\, Inspiring\, & Supporting Series. Anything you want to know about birth & breastfeeding! Breastfeeding challenges and solutions. Learn how to involve your whole family. Resources and more! Questions? Contact Program Manager Kimberly Price.
URL:https://blackmothersbreastfeeding.org/calendar/bliss-5/
LOCATION:McKenny Center\, 19750 Burt Rd\, Detroit\, Michigan\, 48219
ATTACH;FMTTYPE=image/png:https://blackmothersbreastfeeding.org/wp-content/uploads/2024/11/BLISS-FL-5.png
ORGANIZER;CN="Kim Price":MAILTO:kimberlyp@bmbfa.org
END:VEVENT
BEGIN:VEVENT
DTSTART;TZID=America/Detroit:20241112T093000
DTEND;TZID=America/Detroit:20241112T113000
DTSTAMP:20260425T080427
CREATED:20241031T184239Z
LAST-MODIFIED:20241105T163133Z
UID:9373-1731403800-1731411000@blackmothersbreastfeeding.org
SUMMARY:Community-Based Doula Information Session
DESCRIPTION:Interested in being a Community-Based Doula? Join us for an information session to learn more about this impactful role! Community-Based Doulas provide essential support to expecting families\, empowering them through pregnancy\, birth\, and postpartum. In this information session\, you’ll gain insight into the training requirements\, responsibilities\, and benefits of becoming a Community-Based Doula. Learn how our program equips you with the skills to provide compassionate\, culturally appropriate\, non-clinical care to families in your community. Whether you’re new to birth work or looking to expand your expertise\, this session will offer the guidance and resources you need to take the next step. Don’t miss this opportunity to make a difference! \n\n\n\n\n\n\nRegister for Information Session!
URL:https://blackmothersbreastfeeding.org/calendar/community-based-doula-information-session/
LOCATION:McKenny Center\, 19750 Burt Rd\, Detroit\, Michigan\, 48219
CATEGORIES:Professional Development
ATTACH;FMTTYPE=image/png:https://blackmothersbreastfeeding.org/wp-content/uploads/2024/10/2024-Cohort-10.2-3.png
ORGANIZER;CN="Kim Price":MAILTO:kimberlyp@bmbfa.org
END:VEVENT
BEGIN:VEVENT
DTSTART;TZID=America/Detroit:20241106T180000
DTEND;TZID=America/Detroit:20241106T190000
DTSTAMP:20260425T080427
CREATED:20240930T191138Z
LAST-MODIFIED:20240930T191315Z
UID:9248-1730916000-1730919600@blackmothersbreastfeeding.org
SUMMARY:Black Mothers' Breastfeeding Club (Virtual)
DESCRIPTION:Interested in a Breastfeeding club? Join us on Zoom\, every 1st Wednesday of the month from 6-7 pm! Please register at least 30 minutes in advance.
URL:https://blackmothersbreastfeeding.org/calendar/black-mothers-breastfeeding-club-virtual-9/
LOCATION:Zoom
CATEGORIES:Breastfeeding Club,Community Breastfeeding Program
ATTACH;FMTTYPE=image/png:https://blackmothersbreastfeeding.org/wp-content/uploads/2024/09/Fall24-3.png
ORGANIZER;CN="Kim Price":MAILTO:kimberlyp@bmbfa.org
END:VEVENT
BEGIN:VEVENT
DTSTART;TZID=America/Detroit:20241106T113000
DTEND;TZID=America/Detroit:20241106T130000
DTSTAMP:20260425T080427
CREATED:20240930T192808Z
LAST-MODIFIED:20240930T192812Z
UID:9259-1730892600-1730898000@blackmothersbreastfeeding.org
SUMMARY:B.L.I.S.S.
DESCRIPTION:Birthing\, Lactating\, Inspiring\, & Supporting Series. Anything you want to know about birth & breastfeeding! Breastfeeding challenges and solutions. Learn how to involve your whole family. Resources and more! Questions? Contact Program Manager Kimberly Price.
URL:https://blackmothersbreastfeeding.org/calendar/b-l-i-s-s-11/
LOCATION:McKenny Center\, 19750 Burt Rd\, Detroit\, Michigan\, 48219
CATEGORIES:Breastfeeding Information Session,Community Breastfeeding Program
ATTACH;FMTTYPE=image/png:https://blackmothersbreastfeeding.org/wp-content/uploads/2024/09/BLISS-FL-4.png
ORGANIZER;CN="Kim Price":MAILTO:kimberlyp@bmbfa.org
END:VEVENT
BEGIN:VEVENT
DTSTART;TZID=America/Detroit:20241030T113000
DTEND;TZID=America/Detroit:20241030T130000
DTSTAMP:20260425T080427
CREATED:20240930T192622Z
LAST-MODIFIED:20240930T192627Z
UID:9257-1730287800-1730293200@blackmothersbreastfeeding.org
SUMMARY:B.L.I.S.S.
DESCRIPTION:Birthing\, Lactating\, Inspiring\, & Supporting Series. Anything you want to know about birth & breastfeeding! Breastfeeding challenges and solutions. Learn how to involve your whole family. Resources and more! Questions? Contact Program Manager Kimberly Price.
URL:https://blackmothersbreastfeeding.org/calendar/b-l-i-s-s-10/
LOCATION:McKenny Center\, 19750 Burt Rd\, Detroit\, Michigan\, 48219
CATEGORIES:Breastfeeding Information Session,Community Breastfeeding Program
ATTACH;FMTTYPE=image/png:https://blackmothersbreastfeeding.org/wp-content/uploads/2024/09/BLISS-FL-4.png
ORGANIZER;CN="Kim Price":MAILTO:kimberlyp@bmbfa.org
END:VEVENT
BEGIN:VEVENT
DTSTART;TZID=America/Detroit:20241023T113000
DTEND;TZID=America/Detroit:20241023T130000
DTSTAMP:20260425T080427
CREATED:20240930T192410Z
LAST-MODIFIED:20240930T192415Z
UID:9255-1729683000-1729688400@blackmothersbreastfeeding.org
SUMMARY:B.L.I.S.S.
DESCRIPTION:Birthing\, Lactating\, Inspiring\, & Supporting Series. Anything you want to know about birth & breastfeeding! Breastfeeding challenges and solutions. Learn how to involve your whole family. Resources and more! Questions? Contact Program Manager Kimberly Price.
URL:https://blackmothersbreastfeeding.org/calendar/b-l-i-s-s-9/
LOCATION:McKenny Center\, 19750 Burt Rd\, Detroit\, Michigan\, 48219
CATEGORIES:Breastfeeding Information Session,Community Breastfeeding Program
ATTACH;FMTTYPE=image/png:https://blackmothersbreastfeeding.org/wp-content/uploads/2024/09/BLISS-FL-4.png
ORGANIZER;CN="Kim Price":MAILTO:kimberlyp@bmbfa.org
END:VEVENT
BEGIN:VEVENT
DTSTART;TZID=America/Detroit:20241021T093000
DTEND;TZID=America/Detroit:20241021T113000
DTSTAMP:20260425T080427
CREATED:20240328T172256Z
LAST-MODIFIED:20251006T202623Z
UID:8798-1729503000-1729510200@blackmothersbreastfeeding.org
SUMMARY:Community-Based Doula Training Informational Session: Cohort 10
DESCRIPTION:Interested in becoming a Community-Based Doula with BMBFA’s 2025 Cohort 10? \n\n\n\nAttendance at this informational session is required as part of the application process. \n\n\n\nDuring the session\, you’ll learn about: \n\n\n\n\nThe requirements and expectations for Cohort 10\n\n\n\nThe application and interview process\n\n\n\nProvided materials and general course topics\n\n\n\n\nFor more information\, contact Mackenzie Currie. at mackenziec@bmbfa.org. \n\n\n\n\n\n\n\nRegister (Free) for the 2025 CBD Cohort 10 Informational Session
URL:https://blackmothersbreastfeeding.org/calendar/community-based-doula-training-informational-session-cohort-10/
LOCATION:McKenny Center\, 19750 Burt Rd\, Detroit\, Michigan\, 48219\, United States
ATTACH;FMTTYPE=image/png:https://blackmothersbreastfeeding.org/wp-content/uploads/2024/03/2024-Cohort-9-1-1.png
ORGANIZER;CN="Black Mothers&#8217%3B Breastfeeding Association":MAILTO:info@bmbfa.org
END:VEVENT
BEGIN:VEVENT
DTSTART;TZID=America/Detroit:20241018T163000
DTEND;TZID=America/Detroit:20241018T183000
DTSTAMP:20260425T080427
CREATED:20240930T194206Z
LAST-MODIFIED:20240930T201151Z
UID:9261-1729269000-1729276200@blackmothersbreastfeeding.org
SUMMARY:Black Mothers' Breastfeeding Club - Harvest Fest
DESCRIPTION:Join us for our Annual Harvest Fest Celebration! Fall Themed Games\, Delicious food\, Kids activities\, Giveaways and more!
URL:https://blackmothersbreastfeeding.org/calendar/black-mothers-breastfeeding-club-harvest-fest/
LOCATION:Curtis Jones Park\, 1941 Ferry Park St.\, Detroit\, Michigan\, 48208\, United States
CATEGORIES:Breastfeeding Club
ORGANIZER;CN="Kim Price":MAILTO:kimberlyp@bmbfa.org
END:VEVENT
BEGIN:VEVENT
DTSTART;TZID=America/Detroit:20241016T113000
DTEND;TZID=America/Detroit:20241016T130000
DTSTAMP:20260425T080427
CREATED:20240930T192023Z
LAST-MODIFIED:20240930T192029Z
UID:9253-1729078200-1729083600@blackmothersbreastfeeding.org
SUMMARY:B.L.I.S.S.
DESCRIPTION:Birthing\, Lactating\, Inspiring\, & Supporting Series. Anything you want to know about birth & breastfeeding! Breastfeeding challenges and solutions. Learn how to involve your whole family. Resources and more! Questions? Contact Program Manager Kimberly Price.
URL:https://blackmothersbreastfeeding.org/calendar/b-l-i-s-s-8/
LOCATION:McKenny Center\, 19750 Burt Rd\, Detroit\, Michigan\, 48219
CATEGORIES:Breastfeeding Information Session,Community Breastfeeding Program
ATTACH;FMTTYPE=image/png:https://blackmothersbreastfeeding.org/wp-content/uploads/2024/09/BLISS-FL-4.png
ORGANIZER;CN="Kim Price":MAILTO:kimberlyp@bmbfa.org
END:VEVENT
BEGIN:VEVENT
DTSTART;TZID=America/Detroit:20241009T120000
DTEND;TZID=America/Detroit:20241011T150000
DTSTAMP:20260425T080427
CREATED:20240930T185821Z
LAST-MODIFIED:20240930T185942Z
UID:9237-1728475200-1728658800@blackmothersbreastfeeding.org
SUMMARY:Understanding the Village Experience: Birth & Breastfeeding Conference
DESCRIPTION:The overarching goal of the 2024 Understanding the Village Experience: Birth & Breastfeeding Conference is to enhance Black birth and breastfeeding outcomes by focusing on equity\, empowerment\, and resilience\, fostering professional skill-building and community support.
URL:https://blackmothersbreastfeeding.org/calendar/understanding-the-village-experience-birth-breastfeeding-conference/
LOCATION:Virtual
CATEGORIES:Professional Development
ATTACH;FMTTYPE=image/png:https://blackmothersbreastfeeding.org/wp-content/uploads/2024/09/2024-Conference-Instagram-Post-1.png
ORGANIZER;CN="Rachel Singley":MAILTO:conference@bmbfa.org
END:VEVENT
BEGIN:VEVENT
DTSTART;TZID=America/Detroit:20241002T180000
DTEND;TZID=America/Detroit:20241002T190000
DTSTAMP:20260425T080427
CREATED:20240930T190618Z
LAST-MODIFIED:20240930T191331Z
UID:9245-1727892000-1727895600@blackmothersbreastfeeding.org
SUMMARY:Black Mothers' Breastfeeding Club (Virtual)
DESCRIPTION: Interested in a Breastfeeding club? Join us on Zoom\, every 1st Wednesday of the month from 6-7 pm! Please register at least 30 minutes in advance.
URL:https://blackmothersbreastfeeding.org/calendar/black-mothers-breastfeeding-club-virtual-8/
LOCATION:Zoom
CATEGORIES:Breastfeeding Club,Community Breastfeeding Program
ATTACH;FMTTYPE=image/png:https://blackmothersbreastfeeding.org/wp-content/uploads/2024/09/Fall24-3.png
ORGANIZER;CN="Kim Price":MAILTO:kimberlyp@bmbfa.org
END:VEVENT
BEGIN:VEVENT
DTSTART;TZID=America/Detroit:20241002T113000
DTEND;TZID=America/Detroit:20241002T130000
DTSTAMP:20260425T080427
CREATED:20240930T191702Z
LAST-MODIFIED:20240930T191707Z
UID:9250-1727868600-1727874000@blackmothersbreastfeeding.org
SUMMARY:B.L.I.S.S.
DESCRIPTION:Birthing\, Lactating\, Inspiring\, & Supporting Series. Anything you want to know about birth & breastfeeding! Breastfeeding challenges and solutions. Learn how to involve your whole family. Resources and more! Questions? Contact Program Manager Kimberly Price.
URL:https://blackmothersbreastfeeding.org/calendar/b-l-i-s-s-7/
LOCATION:McKenny Center\, 19750 Burt Rd\, Detroit\, Michigan\, 48219
CATEGORIES:Breastfeeding Information Session,Community Breastfeeding Program
ATTACH;FMTTYPE=image/png:https://blackmothersbreastfeeding.org/wp-content/uploads/2024/09/BLISS-FL-4.png
ORGANIZER;CN="Kim Price":MAILTO:kimberlyp@bmbfa.org
END:VEVENT
BEGIN:VEVENT
DTSTART;TZID=America/Detroit:20240920T080000
DTEND;TZID=America/Detroit:20240920T170000
DTSTAMP:20260425T080427
CREATED:20240627T161801Z
LAST-MODIFIED:20240627T162906Z
UID:9073-1726819200-1726851600@blackmothersbreastfeeding.org
SUMMARY:Black Mothers' Breastfeeding Club In the Park
DESCRIPTION:Interested in Breastfeeding club?  Join us for Black Mothers’ Breastfeeding Club in the Park\, every 3rd Friday of the month from 4:30-6:30 pm! Please register at least 30 minutes in advance.
URL:https://blackmothersbreastfeeding.org/calendar/black-mothers-breastfeeding-club-in-the-park/
LOCATION:Curtis Jones Park\, 1941 Ferry Park St.\, Detroit\, Michigan\, 48208\, United States
CATEGORIES:Breastfeeding Club,Community Breastfeeding Program
ATTACH;FMTTYPE=image/png:https://blackmothersbreastfeeding.org/wp-content/uploads/2024/06/BMBFC-SUMMER-24.png
ORGANIZER;CN="Kim Price":MAILTO:kimberlyp@bmbfa.org
END:VEVENT
BEGIN:VEVENT
DTSTART;TZID=America/Detroit:20240904T080000
DTEND;TZID=America/Detroit:20240904T170000
DTSTAMP:20260425T080427
CREATED:20240627T163701Z
LAST-MODIFIED:20240627T163712Z
UID:9088-1725436800-1725469200@blackmothersbreastfeeding.org
SUMMARY:Black Mothers' Breastfeeding Club (Virtual)
DESCRIPTION:Interested in a Breastfeeding club? Join us on Zoom\, every 1st Wednesday of the month from 6-7 pm! Please register at least 30 minutes in advance.
URL:https://blackmothersbreastfeeding.org/calendar/black-mothers-breastfeeding-club-virtual-7/
LOCATION:Zoom
CATEGORIES:Breastfeeding Club,Community Breastfeeding Program
ATTACH;FMTTYPE=image/png:https://blackmothersbreastfeeding.org/wp-content/uploads/2024/06/BMBFC-SUMMER-24.png
ORGANIZER;CN="Kim Price":MAILTO:kimberlyp@bmbfa.org
END:VEVENT
BEGIN:VEVENT
DTSTART;TZID=America/Detroit:20240828T113000
DTEND;TZID=America/Detroit:20240828T130000
DTSTAMP:20260425T080427
CREATED:20240605T171836Z
LAST-MODIFIED:20240605T171844Z
UID:9066-1724844600-1724850000@blackmothersbreastfeeding.org
SUMMARY:B.L.I.S.S.
DESCRIPTION:Birthing\, Lactating\, Inspiring\, & Supporting Series. Anything you want to know about birth & breastfeeding! Breastfeeding challenges and solutions. Learn how to involve your whole family. Resources and more! Questions? Contact Program Manager Kimberly Price.
URL:https://blackmothersbreastfeeding.org/calendar/b-l-i-s-s-6/
LOCATION:McKenny Center\, 19750 Burt Rd\, Detroit\, Michigan\, 48219
CATEGORIES:Breastfeeding Information Session
ATTACH;FMTTYPE=image/jpeg:https://blackmothersbreastfeeding.org/wp-content/uploads/2024/06/BLISS-FL.jpg
ORGANIZER;CN="Kim Price":MAILTO:kimberlyp@bmbfa.org
END:VEVENT
BEGIN:VEVENT
DTSTART;TZID=America/Detroit:20240816T163000
DTEND;TZID=America/Detroit:20240816T183000
DTSTAMP:20260425T080427
CREATED:20240603T194209Z
LAST-MODIFIED:20240627T163141Z
UID:9010-1723825800-1723833000@blackmothersbreastfeeding.org
SUMMARY:Black Mothers' Breastfeeding Club In the Park
DESCRIPTION:Interested in Breastfeeding club?  Join us for Black Mothers’ Breastfeeding Club in the Park\, every 3rd Friday of the month at 4:30-6:30pm! Please register at least 30 minutes in advance.
URL:https://blackmothersbreastfeeding.org/calendar/black-mothers-breastfeeding-club-in-person-3/
LOCATION:Curtis Jones Park\, 1941 Ferry Park St.\, Detroit\, Michigan\, 48208\, United States
CATEGORIES:Breastfeeding Club,Community Breastfeeding Program
ATTACH;FMTTYPE=image/png:https://blackmothersbreastfeeding.org/wp-content/uploads/2024/06/BMBFC-SUMMER-24.png
ORGANIZER;CN="Kim Price":MAILTO:kimberlyp@bmbfa.org
END:VEVENT
BEGIN:VEVENT
DTSTART;TZID=America/Detroit:20240814T113000
DTEND;TZID=America/Detroit:20240814T130000
DTSTAMP:20260425T080427
CREATED:20240605T171208Z
LAST-MODIFIED:20240605T171301Z
UID:9064-1723635000-1723640400@blackmothersbreastfeeding.org
SUMMARY:B.L.I.S.S.
DESCRIPTION:Birthing\, Lactating\, Inspiring\, & Supporting Series. Anything you want to know about birth & breastfeeding! Breastfeeding challenges and solutions. Learn how to involve your whole family. Resources and more! Questions? Contact Program Manager Kimberly Price.
URL:https://blackmothersbreastfeeding.org/calendar/b-l-i-s-s-5/
LOCATION:McKenny Center\, 19750 Burt Rd\, Detroit\, Michigan\, 48219
CATEGORIES:Breastfeeding Information Session
ATTACH;FMTTYPE=image/jpeg:https://blackmothersbreastfeeding.org/wp-content/uploads/2024/06/BLISS-FL.jpg
ORGANIZER;CN="Kim Price":MAILTO:kimberlyp@bmbfa.org
END:VEVENT
BEGIN:VEVENT
DTSTART;TZID=America/Detroit:20240807T180000
DTEND;TZID=America/Detroit:20240807T190000
DTSTAMP:20260425T080427
CREATED:20240603T185440Z
LAST-MODIFIED:20240627T160823Z
UID:9001-1723053600-1723057200@blackmothersbreastfeeding.org
SUMMARY:Black Mothers' Breastfeeding Club (Virtual)
DESCRIPTION:Interested in Breastfeeding club?  Join us on Zoom\, every 1st Wednesday of the month from 6-7 pm! Please register at least 30 minutes in advance.
URL:https://blackmothersbreastfeeding.org/calendar/black-mothers-breastfeeding-club-virtual-6/
LOCATION:Zoom
CATEGORIES:Breastfeeding Club,Community Breastfeeding Program
ATTACH;FMTTYPE=image/png:https://blackmothersbreastfeeding.org/wp-content/uploads/2024/06/BMBFC-SUMMER-24.png
ORGANIZER;CN="Kim Price":MAILTO:kimberlyp@bmbfa.org
END:VEVENT
BEGIN:VEVENT
DTSTART;TZID=America/Detroit:20240807T113000
DTEND;TZID=America/Detroit:20240807T130000
DTSTAMP:20260425T080427
CREATED:20240605T170949Z
LAST-MODIFIED:20240605T171004Z
UID:9062-1723030200-1723035600@blackmothersbreastfeeding.org
SUMMARY:B.L.I.S.S.
DESCRIPTION:Birthing\, Lactating\, Inspiring\, & Supporting Series. Anything you want to know about birth & breastfeeding! Breastfeeding challenges and solutions. Learn how to involve your whole family. Resources and more! Questions? Contact Program Manager Kimberly Price.
URL:https://blackmothersbreastfeeding.org/calendar/b-l-i-s-s-4/
LOCATION:McKenny Center\, 19750 Burt Rd\, Detroit\, Michigan\, 48219
CATEGORIES:Breastfeeding Information Session
ATTACH;FMTTYPE=image/jpeg:https://blackmothersbreastfeeding.org/wp-content/uploads/2024/06/BLISS-FL.jpg
ORGANIZER;CN="Kim Price":MAILTO:kimberlyp@bmbfa.org
END:VEVENT
BEGIN:VEVENT
DTSTART;TZID=America/Detroit:20240731T113000
DTEND;TZID=America/Detroit:20240731T130000
DTSTAMP:20260425T080427
CREATED:20240605T165642Z
LAST-MODIFIED:20240605T165730Z
UID:9058-1722425400-1722430800@blackmothersbreastfeeding.org
SUMMARY:B.L.I.S.S.
DESCRIPTION:Birthing\, Lactating\, Inspiring\, & Supporting Series. Anything you want to know about birth & breastfeeding! Breastfeeding challenges and solutions. Learn how to involve your whole family. Resources and more! Questions? Contact Program Manager Kimberly Price.
URL:https://blackmothersbreastfeeding.org/calendar/9058/
LOCATION:McKenny Center\, 19750 Burt Rd\, Detroit\, Michigan\, 48219
CATEGORIES:Breastfeeding Information Session
ATTACH;FMTTYPE=image/jpeg:https://blackmothersbreastfeeding.org/wp-content/uploads/2024/06/BLISS-FL.jpg
ORGANIZER;CN="Kim Price":MAILTO:kimberlyp@bmbfa.org
END:VEVENT
END:VCALENDAR