BEGIN:VCALENDAR
VERSION:2.0
PRODID:-//BMBFA - ECPv6.15.20//NONSGML v1.0//EN
CALSCALE:GREGORIAN
METHOD:PUBLISH
X-WR-CALNAME:BMBFA
X-ORIGINAL-URL:https://blackmothersbreastfeeding.org
X-WR-CALDESC:Events for BMBFA
REFRESH-INTERVAL;VALUE=DURATION:PT1H
X-Robots-Tag:noindex
X-PUBLISHED-TTL:PT1H
BEGIN:VTIMEZONE
TZID:America/Detroit
BEGIN:DAYLIGHT
TZOFFSETFROM:-0500
TZOFFSETTO:-0400
TZNAME:EDT
DTSTART:20230312T070000
END:DAYLIGHT
BEGIN:STANDARD
TZOFFSETFROM:-0400
TZOFFSETTO:-0500
TZNAME:EST
DTSTART:20231105T060000
END:STANDARD
BEGIN:DAYLIGHT
TZOFFSETFROM:-0500
TZOFFSETTO:-0400
TZNAME:EDT
DTSTART:20240310T070000
END:DAYLIGHT
BEGIN:STANDARD
TZOFFSETFROM:-0400
TZOFFSETTO:-0500
TZNAME:EST
DTSTART:20241103T060000
END:STANDARD
BEGIN:DAYLIGHT
TZOFFSETFROM:-0500
TZOFFSETTO:-0400
TZNAME:EDT
DTSTART:20250309T070000
END:DAYLIGHT
BEGIN:STANDARD
TZOFFSETFROM:-0400
TZOFFSETTO:-0500
TZNAME:EST
DTSTART:20251102T060000
END:STANDARD
BEGIN:DAYLIGHT
TZOFFSETFROM:-0500
TZOFFSETTO:-0400
TZNAME:EDT
DTSTART:20260308T070000
END:DAYLIGHT
BEGIN:STANDARD
TZOFFSETFROM:-0400
TZOFFSETTO:-0500
TZNAME:EST
DTSTART:20261101T060000
END:STANDARD
END:VTIMEZONE
BEGIN:VEVENT
DTSTART;TZID=America/Detroit:20250604T113000
DTEND;TZID=America/Detroit:20250604T130000
DTSTAMP:20260424T062430
CREATED:20250513T202214Z
LAST-MODIFIED:20250513T202218Z
UID:9694-1749036600-1749042000@blackmothersbreastfeeding.org
SUMMARY:B.L.I.S.S
DESCRIPTION:Birthing\, Lactating\, Inspiring\, & Supporting Series. Anything you want to know about birth & breastfeeding! Breastfeeding challenges and solutions. Learn how to involve your whole family. Resources and more! Questions? Contact Program Manager Kimberly Price.
URL:https://blackmothersbreastfeeding.org/calendar/b-l-i-s-s-16/
LOCATION:McKenny Center\, 19750 Burt Rd\, Detroit\, Michigan\, 48219
ORGANIZER;CN="Kim Price":MAILTO:kimberlyp@bmbfa.org
END:VEVENT
BEGIN:VEVENT
DTSTART;TZID=America/Detroit:20250528T113000
DTEND;TZID=America/Detroit:20250528T130000
DTSTAMP:20260424T062430
CREATED:20250522T195707Z
LAST-MODIFIED:20250522T195711Z
UID:9755-1748431800-1748437200@blackmothersbreastfeeding.org
SUMMARY:B.L.I.S.S
DESCRIPTION:Birthing\, Lactating\, Inspiring\, & Supporting Series. Anything you want to know about birth & breastfeeding! Breastfeeding challenges and solutions. Learn how to involve your whole family. Resources and more! Questions? Contact Program Manager Kimberly Price.
URL:https://blackmothersbreastfeeding.org/calendar/b-l-i-s-s-32/
LOCATION:McKenny Center\, 19750 Burt Rd\, Detroit\, Michigan\, 48219
END:VEVENT
BEGIN:VEVENT
DTSTART;TZID=America/Detroit:20250516T163000
DTEND;TZID=America/Detroit:20250516T183000
DTSTAMP:20260424T062430
CREATED:20250513T175342Z
LAST-MODIFIED:20250513T175346Z
UID:9668-1747413000-1747420200@blackmothersbreastfeeding.org
SUMMARY:BMBFC(In-Person)
DESCRIPTION:Interested in Breastfeeding club? Join us at The McKenny Center Gymnasium\, every 3rd* Friday of the month from 4:30-6:30 pm! Please register at least 30 minutes in advance.
URL:https://blackmothersbreastfeeding.org/calendar/bmbfcin-person/
LOCATION:McKenny Center\, 19750 Burt Rd\, Detroit\, Michigan\, 48219
ATTACH;FMTTYPE=image/png:https://blackmothersbreastfeeding.org/wp-content/uploads/2025/04/Social-Media-March25.zip-March-11th.png
ORGANIZER;CN="Kim Price":MAILTO:kimberlyp@bmbfa.org
END:VEVENT
BEGIN:VEVENT
DTSTART;TZID=America/Detroit:20250514T113000
DTEND;TZID=America/Detroit:20250514T130000
DTSTAMP:20260424T062430
CREATED:20250408T162843Z
LAST-MODIFIED:20250408T162901Z
UID:9556-1747222200-1747227600@blackmothersbreastfeeding.org
SUMMARY:BLISS
DESCRIPTION:Birthing\, Lactating\, Inspiring\, & Supporting Series. Anything you want to know about birth & breastfeeding! Breastfeeding challenges and solutions. Learn how to involve your whole family. Resources and more! Questions? Contact Program Manager Kimberly Price.
URL:https://blackmothersbreastfeeding.org/calendar/bliss-16/
LOCATION:McKenny Center\, 19750 Burt Rd\, Detroit\, Michigan\, 48219
ATTACH;FMTTYPE=image/png:https://blackmothersbreastfeeding.org/wp-content/uploads/2025/04/BLISS-FL-8.png
ORGANIZER;CN="Kim Price":MAILTO:kimberlyp@bmbfa.org
END:VEVENT
BEGIN:VEVENT
DTSTART;TZID=America/Detroit:20250507T180000
DTEND;TZID=America/Detroit:20250507T190000
DTSTAMP:20260424T062430
CREATED:20250402T173752Z
LAST-MODIFIED:20250402T173937Z
UID:9547-1746640800-1746644400@blackmothersbreastfeeding.org
SUMMARY:BMBFC (Virtual)
DESCRIPTION:Interested in a Breastfeeding club? Join us on Zoom\, every 1st Wednesday of the month from 6-7 pm! Please register at least 30 minutes in advance on the BMBFA B’Right Hub App.
URL:https://blackmothersbreastfeeding.org/calendar/bmbfc-virtual-4/
LOCATION:Zoom
ATTACH;FMTTYPE=image/png:https://blackmothersbreastfeeding.org/wp-content/uploads/2025/04/Social-Media-March25.zip-March-11th.png
ORGANIZER;CN="Kim Price":MAILTO:kimberlyp@bmbfa.org
END:VEVENT
BEGIN:VEVENT
DTSTART;TZID=America/Detroit:20250503T150000
DTEND;TZID=America/Detroit:20250503T170000
DTSTAMP:20260424T062430
CREATED:20250428T162241Z
LAST-MODIFIED:20250428T162244Z
UID:9580-1746284400-1746291600@blackmothersbreastfeeding.org
SUMMARY:BBLI Pinning Ceremony
DESCRIPTION:We’re proud to mark a powerful moment in our organization’s history: the Pinning Ceremony of our FIRST Detroit-based BBLI cohort! \n\n\n\nOn Saturday\, May 3rd\, we will honor the incredible accomplishments of Cohort 5\, a dynamic group of leaders deeply rooted in Detroit\, advancing Black maternal and infant health with passion and purpose.
URL:https://blackmothersbreastfeeding.org/calendar/bbli-pinning-ceremony/
LOCATION:University of Michigan Detroit Center\, 3663 Woodward Ave\, Detroit\, Michigan\, 48201\, United States
END:VEVENT
BEGIN:VEVENT
DTSTART;TZID=America/Detroit:20250430T113000
DTEND;TZID=America/Detroit:20250430T130000
DTSTAMP:20260424T062430
CREATED:20250402T173008Z
LAST-MODIFIED:20250402T173011Z
UID:9542-1746012600-1746018000@blackmothersbreastfeeding.org
SUMMARY:B.L.I.S.S.
DESCRIPTION:Birthing\, Lactating\, Inspiring\, & Supporting Series. Anything you want to know about birth & breastfeeding! Breastfeeding challenges and solutions. Learn how to involve your whole family. Resources and more! Questions? Contact Program Manager Kimberly Price.
URL:https://blackmothersbreastfeeding.org/calendar/b-l-i-s-s-15/
LOCATION:McKenny Center\, 19750 Burt Rd\, Detroit\, Michigan\, 48219
ATTACH;FMTTYPE=image/png:https://blackmothersbreastfeeding.org/wp-content/uploads/2025/04/BLISS-FL-8.png
ORGANIZER;CN="Kim Price":MAILTO:kimberlyp@bmbfa.org
END:VEVENT
BEGIN:VEVENT
DTSTART;TZID=America/Detroit:20250423T113000
DTEND;TZID=America/Detroit:20250423T130000
DTSTAMP:20260424T062430
CREATED:20250402T172901Z
LAST-MODIFIED:20250402T172905Z
UID:9540-1745407800-1745413200@blackmothersbreastfeeding.org
SUMMARY:B.L.I.S.S.
DESCRIPTION:Birthing\, Lactating\, Inspiring\, & Supporting Series. Anything you want to know about birth & breastfeeding! Breastfeeding challenges and solutions. Learn how to involve your whole family. Resources and more! Questions? Contact Program Manager Kimberly Price.
URL:https://blackmothersbreastfeeding.org/calendar/b-l-i-s-s-14/
LOCATION:McKenny Center\, 19750 Burt Rd\, Detroit\, Michigan\, 48219
ATTACH;FMTTYPE=image/png:https://blackmothersbreastfeeding.org/wp-content/uploads/2025/04/BLISS-FL-8.png
ORGANIZER;CN="Kim Price":MAILTO:kimberlyp@bmbfa.org
END:VEVENT
BEGIN:VEVENT
DTSTART;TZID=America/Detroit:20250416T113000
DTEND;TZID=America/Detroit:20250416T130000
DTSTAMP:20260424T062430
CREATED:20250402T172748Z
LAST-MODIFIED:20250402T172751Z
UID:9538-1744803000-1744808400@blackmothersbreastfeeding.org
SUMMARY:B.L.I.S.S.
DESCRIPTION:Birthing\, Lactating\, Inspiring\, & Supporting Series. Anything you want to know about birth & breastfeeding! Breastfeeding challenges and solutions. Learn how to involve your whole family. Resources and more! Questions? Contact Program Manager Kimberly Price.
URL:https://blackmothersbreastfeeding.org/calendar/b-l-i-s-s-13/
LOCATION:McKenny Center\, 19750 Burt Rd\, Detroit\, Michigan\, 48219
ATTACH;FMTTYPE=image/png:https://blackmothersbreastfeeding.org/wp-content/uploads/2025/04/BLISS-FL-8.png
ORGANIZER;CN="Kim Price":MAILTO:kimberlyp@bmbfa.org
END:VEVENT
BEGIN:VEVENT
DTSTART;TZID=America/Detroit:20250411T163000
DTEND;TZID=America/Detroit:20250411T183000
DTSTAMP:20260424T062430
CREATED:20250402T174517Z
LAST-MODIFIED:20250402T174521Z
UID:9553-1744389000-1744396200@blackmothersbreastfeeding.org
SUMMARY:BMBFC (In-Person)
DESCRIPTION:Interested in Breastfeeding club? Join us at The McKenny Center Gymnasium\, every 3rd* Friday of the month from 4:30-6:30 pm! Please register at least 30 minutes in advance. *Please be advised that the April 2025 BMBFC meeting will take place on the second Friday of the month to accommodate the Good Friday holiday.*
URL:https://blackmothersbreastfeeding.org/calendar/bmbfc-in-person-6/
LOCATION:McKenny Center\, 19750 Burt Rd\, Detroit\, Michigan\, 48219
ATTACH;FMTTYPE=image/png:https://blackmothersbreastfeeding.org/wp-content/uploads/2025/04/Social-Media-March25.zip-March-11th.png
ORGANIZER;CN="Kim Price":MAILTO:kimberlyp@bmbfa.org
END:VEVENT
BEGIN:VEVENT
DTSTART;TZID=America/Detroit:20250409T113000
DTEND;TZID=America/Detroit:20250409T130000
DTSTAMP:20260424T062430
CREATED:20250402T172622Z
LAST-MODIFIED:20250402T172625Z
UID:9535-1744198200-1744203600@blackmothersbreastfeeding.org
SUMMARY:B.L.I.S.S.
DESCRIPTION:Birthing\, Lactating\, Inspiring\, & Supporting Series. Anything you want to know about birth & breastfeeding! Breastfeeding challenges and solutions. Learn how to involve your whole family. Resources and more! Questions? Contact Program Manager Kimberly Price.
URL:https://blackmothersbreastfeeding.org/calendar/b-l-i-s-s-12/
LOCATION:McKenny Center\, 19750 Burt Rd\, Detroit\, Michigan\, 48219
ATTACH;FMTTYPE=image/png:https://blackmothersbreastfeeding.org/wp-content/uploads/2025/04/BLISS-FL-8.png
ORGANIZER;CN="Kim Price":MAILTO:kimberlyp@bmbfa.org
END:VEVENT
BEGIN:VEVENT
DTSTART;TZID=America/Detroit:20250402T180000
DTEND;TZID=America/Detroit:20250402T190000
DTSTAMP:20260424T062430
CREATED:20250402T173623Z
LAST-MODIFIED:20250402T173846Z
UID:9544-1743616800-1743620400@blackmothersbreastfeeding.org
SUMMARY:BMBFC (Virtual)
DESCRIPTION:Interested in a Breastfeeding club? Join us on Zoom\, every 1st Wednesday of the month from 6-7 pm! Please register at least 30 minutes in advance on the BMBFA B’Right Hub App.
URL:https://blackmothersbreastfeeding.org/calendar/bmbfc-virtual-3/
LOCATION:Zoom
ATTACH;FMTTYPE=image/png:https://blackmothersbreastfeeding.org/wp-content/uploads/2025/04/Social-Media-March25.zip-March-11th.png
ORGANIZER;CN="Kim Price":MAILTO:kimberlyp@bmbfa.org
END:VEVENT
BEGIN:VEVENT
DTSTART;TZID=America/Detroit:20250321T163000
DTEND;TZID=America/Detroit:20250321T183000
DTSTAMP:20260424T062430
CREATED:20250107T151714Z
LAST-MODIFIED:20250107T151719Z
UID:9484-1742574600-1742581800@blackmothersbreastfeeding.org
SUMMARY:BMBFC (In-Person)
DESCRIPTION:Interested in Breastfeeding club? Join us at The McKenny Center Gymnasium\, every 3rd Friday of the month from 4:30-6:30 pm! Please register at least 30 minutes in advance.
URL:https://blackmothersbreastfeeding.org/calendar/bmbfc-in-person-5/
LOCATION:McKenny Center\, 19750 Burt Rd\, Detroit\, Michigan\, 48219
ATTACH;FMTTYPE=image/png:https://blackmothersbreastfeeding.org/wp-content/uploads/2025/01/image-7.png
ORGANIZER;CN="Kim Price":MAILTO:kimberlyp@bmbfa.org
END:VEVENT
BEGIN:VEVENT
DTSTART;TZID=America/Detroit:20250305T180000
DTEND;TZID=America/Detroit:20250305T190000
DTSTAMP:20260424T062430
CREATED:20250107T151207Z
LAST-MODIFIED:20250107T151743Z
UID:9478-1741197600-1741201200@blackmothersbreastfeeding.org
SUMMARY:BMBFC (Virtual)
DESCRIPTION:Interested in a Breastfeeding club? Join us on Zoom\, every 1st Wednesday of the month from 6-7 pm! Please register at least 30 minutes in advance.
URL:https://blackmothersbreastfeeding.org/calendar/breastfeeding-club-virtual-3/
LOCATION:Zoom
ATTACH;FMTTYPE=image/png:https://blackmothersbreastfeeding.org/wp-content/uploads/2025/01/image-7.png
ORGANIZER;CN="Kim Price":MAILTO:kimberlyp@bmbfa.org
END:VEVENT
BEGIN:VEVENT
DTSTART;TZID=America/Detroit:20250226T113000
DTEND;TZID=America/Detroit:20250226T130000
DTSTAMP:20260424T062430
CREATED:20250107T150700Z
LAST-MODIFIED:20250107T150706Z
UID:9472-1740569400-1740574800@blackmothersbreastfeeding.org
SUMMARY:BLISS
DESCRIPTION:Birthing\, Lactating\, Inspiring\, & Supporting Series. Anything you want to know about birth & breastfeeding! Breastfeeding challenges and solutions. Learn how to involve your whole family. Resources and more! Questions? Contact Program Manager Kimberly Price.
URL:https://blackmothersbreastfeeding.org/calendar/bliss-15/
LOCATION:McKenny Center\, 19750 Burt Rd\, Detroit\, Michigan\, 48219
ATTACH;FMTTYPE=image/png:https://blackmothersbreastfeeding.org/wp-content/uploads/2025/01/image-6.png
ORGANIZER;CN="Kim Price":MAILTO:kimberlyp@bmbfa.org
END:VEVENT
BEGIN:VEVENT
DTSTART;TZID=America/Detroit:20250221T163000
DTEND;TZID=America/Detroit:20250221T183000
DTSTAMP:20260424T062430
CREATED:20250107T151540Z
LAST-MODIFIED:20250107T151546Z
UID:9482-1740155400-1740162600@blackmothersbreastfeeding.org
SUMMARY:BMBFC (In-Person)
DESCRIPTION:Interested in Breastfeeding club? Join us at The McKenny Center Gymnasium\, every 3rd Friday of the month from 4:30-6:30 pm! Please register at least 30 minutes in advance.
URL:https://blackmothersbreastfeeding.org/calendar/bmbfc-in-person-4/
LOCATION:McKenny Center\, 19750 Burt Rd\, Detroit\, Michigan\, 48219
ATTACH;FMTTYPE=image/png:https://blackmothersbreastfeeding.org/wp-content/uploads/2025/01/image-7.png
ORGANIZER;CN="Kim Price":MAILTO:kimberlyp@bmbfa.org
END:VEVENT
BEGIN:VEVENT
DTSTART;TZID=America/Detroit:20250219T113000
DTEND;TZID=America/Detroit:20250219T130000
DTSTAMP:20260424T062430
CREATED:20250107T150555Z
LAST-MODIFIED:20250107T150558Z
UID:9470-1739964600-1739970000@blackmothersbreastfeeding.org
SUMMARY:BLISS
DESCRIPTION:Birthing\, Lactating\, Inspiring\, & Supporting Series. Anything you want to know about birth & breastfeeding! Breastfeeding challenges and solutions. Learn how to involve your whole family. Resources and more! Questions? Contact Program Manager Kimberly Price.
URL:https://blackmothersbreastfeeding.org/calendar/bliss-14/
LOCATION:McKenny Center\, 19750 Burt Rd\, Detroit\, Michigan\, 48219
ATTACH;FMTTYPE=image/png:https://blackmothersbreastfeeding.org/wp-content/uploads/2025/01/image-6.png
ORGANIZER;CN="Kim Price":MAILTO:kimberlyp@bmbfa.org
END:VEVENT
BEGIN:VEVENT
DTSTART;TZID=America/Detroit:20250212T113000
DTEND;TZID=America/Detroit:20250212T130000
DTSTAMP:20260424T062430
CREATED:20250107T150441Z
LAST-MODIFIED:20250107T150444Z
UID:9468-1739359800-1739365200@blackmothersbreastfeeding.org
SUMMARY:BLISS
DESCRIPTION:Birthing\, Lactating\, Inspiring\, & Supporting Series. Anything you want to know about birth & breastfeeding! Breastfeeding challenges and solutions. Learn how to involve your whole family. Resources and more! Questions? Contact Program Manager Kimberly Price.
URL:https://blackmothersbreastfeeding.org/calendar/bliss-13/
LOCATION:McKenny Center\, 19750 Burt Rd\, Detroit\, Michigan\, 48219
ATTACH;FMTTYPE=image/png:https://blackmothersbreastfeeding.org/wp-content/uploads/2025/01/image-6.png
END:VEVENT
BEGIN:VEVENT
DTSTART;TZID=America/Detroit:20250205T180000
DTEND;TZID=America/Detroit:20250205T190000
DTSTAMP:20260424T062430
CREATED:20250107T151029Z
LAST-MODIFIED:20250107T151755Z
UID:9476-1738778400-1738782000@blackmothersbreastfeeding.org
SUMMARY:BMBFC (Virtual)
DESCRIPTION:Interested in a Breastfeeding club? Join us on Zoom\, every 1st Wednesday of the month from 6-7 pm! Please register at least 30 minutes in advance.
URL:https://blackmothersbreastfeeding.org/calendar/breastfeeding-club-virtual-2/
LOCATION:Zoom
ATTACH;FMTTYPE=image/png:https://blackmothersbreastfeeding.org/wp-content/uploads/2025/01/image-7.png
ORGANIZER;CN="Kim Price":MAILTO:kimberlyp@bmbfa.org
END:VEVENT
BEGIN:VEVENT
DTSTART;TZID=America/Detroit:20250205T113000
DTEND;TZID=America/Detroit:20250205T130000
DTSTAMP:20260424T062430
CREATED:20250107T150331Z
LAST-MODIFIED:20250107T150334Z
UID:9466-1738755000-1738760400@blackmothersbreastfeeding.org
SUMMARY:BLISS
DESCRIPTION:Birthing\, Lactating\, Inspiring\, & Supporting Series. Anything you want to know about birth & breastfeeding! Breastfeeding challenges and solutions. Learn how to involve your whole family. Resources and more! Questions? Contact Program Manager Kimberly Price.
URL:https://blackmothersbreastfeeding.org/calendar/bliss-12/
LOCATION:McKenny Center\, 19750 Burt Rd\, Detroit\, Michigan\, 48219
ATTACH;FMTTYPE=image/png:https://blackmothersbreastfeeding.org/wp-content/uploads/2025/01/image-6.png
ORGANIZER;CN="Kim Price":MAILTO:kimberlyp@bmbfa.org
END:VEVENT
BEGIN:VEVENT
DTSTART;TZID=America/Detroit:20250129T113000
DTEND;TZID=America/Detroit:20250129T130000
DTSTAMP:20260424T062430
CREATED:20250107T150226Z
LAST-MODIFIED:20250107T150229Z
UID:9464-1738150200-1738155600@blackmothersbreastfeeding.org
SUMMARY:BLISS
DESCRIPTION:Birthing\, Lactating\, Inspiring\, & Supporting Series. Anything you want to know about birth & breastfeeding! Breastfeeding challenges and solutions. Learn how to involve your whole family. Resources and more! Questions? Contact Program Manager Kimberly Price.
URL:https://blackmothersbreastfeeding.org/calendar/bliss-11/
LOCATION:McKenny Center\, 19750 Burt Rd\, Detroit\, Michigan\, 48219
ATTACH;FMTTYPE=image/png:https://blackmothersbreastfeeding.org/wp-content/uploads/2025/01/image-6.png
ORGANIZER;CN="Kim Price":MAILTO:kimberlyp@bmbfa.org
END:VEVENT
BEGIN:VEVENT
DTSTART;TZID=America/Detroit:20250122T113000
DTEND;TZID=America/Detroit:20250122T130000
DTSTAMP:20260424T062430
CREATED:20250107T150106Z
LAST-MODIFIED:20250107T150109Z
UID:9462-1737545400-1737550800@blackmothersbreastfeeding.org
SUMMARY:BLISS
DESCRIPTION:Birthing\, Lactating\, Inspiring\, & Supporting Series. Anything you want to know about birth & breastfeeding! Breastfeeding challenges and solutions. Learn how to involve your whole family. Resources and more! Questions? Contact Program Manager Kimberly Price.
URL:https://blackmothersbreastfeeding.org/calendar/bliss-10/
LOCATION:McKenny Center\, 19750 Burt Rd\, Detroit\, Michigan\, 48219
ATTACH;FMTTYPE=image/png:https://blackmothersbreastfeeding.org/wp-content/uploads/2025/01/image-6.png
ORGANIZER;CN="Kim Price":MAILTO:kimberlyp@bmbfa.org
END:VEVENT
BEGIN:VEVENT
DTSTART;TZID=America/Detroit:20250117T163000
DTEND;TZID=America/Detroit:20250117T183000
DTSTAMP:20260424T062430
CREATED:20250107T151401Z
LAST-MODIFIED:20250107T151405Z
UID:9480-1737131400-1737138600@blackmothersbreastfeeding.org
SUMMARY:BMBFC (In-Person)
DESCRIPTION:Interested in Breastfeeding club? Join us at The McKenny Center Gymnasium\, every 3rd Friday of the month from 4:30-6:30 pm! Please register at least 30 minutes in advance.
URL:https://blackmothersbreastfeeding.org/calendar/bmbfc-in-person-3/
LOCATION:McKenny Center\, 19750 Burt Rd\, Detroit\, Michigan\, 48219
ATTACH;FMTTYPE=image/png:https://blackmothersbreastfeeding.org/wp-content/uploads/2025/01/image-7.png
ORGANIZER;CN="Kim Price":MAILTO:kimberlyp@bmbfa.org
END:VEVENT
BEGIN:VEVENT
DTSTART;TZID=America/Detroit:20250117T163000
DTEND;TZID=America/Detroit:20250117T183000
DTSTAMP:20260424T062430
CREATED:20241125T163538Z
LAST-MODIFIED:20241125T163542Z
UID:9408-1737131400-1737138600@blackmothersbreastfeeding.org
SUMMARY:BMBFC (In-Person)
DESCRIPTION:Interested in Breastfeeding club? Join us at The McKenny Center Gymnasium\, every 3rd Friday of the month from 4:30-6:30 pm! Please register at least 30 minutes in advance.
URL:https://blackmothersbreastfeeding.org/calendar/bmbfc-in-person-2/
LOCATION:McKenny Center\, 19750 Burt Rd\, Detroit\, Michigan\, 48219
ATTACH;FMTTYPE=image/png:https://blackmothersbreastfeeding.org/wp-content/uploads/2024/11/Winter-24-25-1.png
ORGANIZER;CN="Kim Price":MAILTO:kimberlyp@bmbfa.org
END:VEVENT
BEGIN:VEVENT
DTSTART;TZID=America/Detroit:20250115T113000
DTEND;TZID=America/Detroit:20250115T130000
DTSTAMP:20260424T062430
CREATED:20250107T145958Z
LAST-MODIFIED:20250107T150002Z
UID:9460-1736940600-1736946000@blackmothersbreastfeeding.org
SUMMARY:BLISS
DESCRIPTION:Birthing\, Lactating\, Inspiring\, & Supporting Series. Anything you want to know about birth & breastfeeding! Breastfeeding challenges and solutions. Learn how to involve your whole family. Resources and more! Questions? Contact Program Manager Kimberly Price.
URL:https://blackmothersbreastfeeding.org/calendar/bliss-9/
LOCATION:McKenny Center\, 19750 Burt Rd\, Detroit\, MI\, 48219\, United States
ATTACH;FMTTYPE=image/png:https://blackmothersbreastfeeding.org/wp-content/uploads/2025/01/image-6.png
ORGANIZER;CN="Kim Price":MAILTO:kimberlyp@bmbfa.org
END:VEVENT
BEGIN:VEVENT
DTSTART;TZID=America/Detroit:20250108T180000
DTEND;TZID=America/Detroit:20250108T190000
DTSTAMP:20260424T062430
CREATED:20250107T150853Z
LAST-MODIFIED:20250107T151812Z
UID:9474-1736359200-1736362800@blackmothersbreastfeeding.org
SUMMARY:BMBFC (Virtual)
DESCRIPTION:Interested in a Breastfeeding club? Join us on Zoom\, every 1st Wednesday of the month from 6-7 pm! Please register at least 30 minutes in advance.
URL:https://blackmothersbreastfeeding.org/calendar/breastfeeding-club-virtual/
LOCATION:Zoom
ATTACH;FMTTYPE=image/png:https://blackmothersbreastfeeding.org/wp-content/uploads/2025/01/image-7.png
ORGANIZER;CN="Kim Price":MAILTO:kimberlyp@bmbfa.org
END:VEVENT
BEGIN:VEVENT
DTSTART;TZID=America/Detroit:20250108T180000
DTEND;TZID=America/Detroit:20250108T190000
DTSTAMP:20260424T062430
CREATED:20241125T163938Z
LAST-MODIFIED:20241125T163941Z
UID:9412-1736359200-1736362800@blackmothersbreastfeeding.org
SUMMARY:BMBFC (Virtual)
DESCRIPTION:Interested in a Breastfeeding club? Join us on Zoom\, every 1st Wednesday of the month from 6-7 pm! Please register at least 30 minutes in advance.
URL:https://blackmothersbreastfeeding.org/calendar/bmbfc-virtual-2/
LOCATION:Zoom
ATTACH;FMTTYPE=image/png:https://blackmothersbreastfeeding.org/wp-content/uploads/2024/11/Winter-24-25-1.png
ORGANIZER;CN="Kim Price":MAILTO:kimberlyp@bmbfa.org
END:VEVENT
BEGIN:VEVENT
DTSTART;TZID=America/Detroit:20250108T113000
DTEND;TZID=America/Detroit:20250108T130000
DTSTAMP:20260424T062430
CREATED:20250107T145836Z
LAST-MODIFIED:20250107T145838Z
UID:9455-1736335800-1736341200@blackmothersbreastfeeding.org
SUMMARY:BLISS
DESCRIPTION:Birthing\, Lactating\, Inspiring\, & Supporting Series. Anything you want to know about birth & breastfeeding! Breastfeeding challenges and solutions. Learn how to involve your whole family. Resources and more! Questions? Contact Program Manager Kimberly Price.
URL:https://blackmothersbreastfeeding.org/calendar/bliss-8/
LOCATION:McKenny Center\, 19750 Burt Rd\, Detroit\, Michigan\, 48219
ATTACH;FMTTYPE=image/png:https://blackmothersbreastfeeding.org/wp-content/uploads/2025/01/image-6.png
ORGANIZER;CN="Kim Price":MAILTO:kimberlyp@bmbfa.org
END:VEVENT
BEGIN:VEVENT
DTSTART;TZID=America/Detroit:20241220T163000
DTEND;TZID=America/Detroit:20241220T183000
DTSTAMP:20260424T062430
CREATED:20241125T163300Z
LAST-MODIFIED:20241125T163303Z
UID:9405-1734712200-1734719400@blackmothersbreastfeeding.org
SUMMARY:BMBFC (In-Person)
DESCRIPTION:Interested in Breastfeeding club? Join us at The McKenny Center Gymnasium\, every 3rd Friday of the month from 4:30-6:30 pm! Please register at least 30 minutes in advance.
URL:https://blackmothersbreastfeeding.org/calendar/bmbfc-in-person/
LOCATION:McKenny Center\, 19750 Burt Rd\, Detroit\, Michigan\, 48219
ATTACH;FMTTYPE=image/png:https://blackmothersbreastfeeding.org/wp-content/uploads/2024/11/Winter-24-25-1.png
ORGANIZER;CN="Kim Price":MAILTO:kimberlyp@bmbfa.org
END:VEVENT
BEGIN:VEVENT
DTSTART;TZID=America/Detroit:20241212T130000
DTEND;TZID=America/Detroit:20241212T150000
DTSTAMP:20260424T062430
CREATED:20241202T170420Z
LAST-MODIFIED:20241202T170423Z
UID:9430-1734008400-1734015600@blackmothersbreastfeeding.org
SUMMARY:Breastfeeding Peer Counselor Training Informational
DESCRIPTION:Have you had a positive human milk-feeding experience? Want to educate\, advise\, and support moms on common breastfeeding concerns? Join us for our Breastfeeding Peer Counselor Training Informational to learn if you would be a great fit for our program! This session will provide an overview of the training\, the role of a Breastfeeding Peer Counselor\, and how you can make a difference in your community. Whether you’re looking to share your own experience or gain new skills to support families on their breastfeeding journey\, this training could be the perfect opportunity for you. Don’t miss out—join us to explore how you can empower moms and babies through breastfeeding support! \n\n\n\n\n\n\nRegister for the Informational!
URL:https://blackmothersbreastfeeding.org/calendar/breastfeeding-peer-counselor-training-informational-2/
LOCATION:McKenny Center\, 19750 Burt Rd\, Detroit\, Michigan\, 48219
ATTACH;FMTTYPE=image/jpeg:https://blackmothersbreastfeeding.org/wp-content/uploads/2024/12/Peer-Counselor-Information24-1.jpg
ORGANIZER;CN="Kim Price":MAILTO:kimberlyp@bmbfa.org
END:VEVENT
END:VCALENDAR