BEGIN:VCALENDAR
VERSION:2.0
PRODID:-//BMBFA - ECPv6.15.20//NONSGML v1.0//EN
CALSCALE:GREGORIAN
METHOD:PUBLISH
X-WR-CALNAME:BMBFA
X-ORIGINAL-URL:https://blackmothersbreastfeeding.org
X-WR-CALDESC:Events for BMBFA
REFRESH-INTERVAL;VALUE=DURATION:PT1H
X-Robots-Tag:noindex
X-PUBLISHED-TTL:PT1H
BEGIN:VTIMEZONE
TZID:America/Detroit
BEGIN:DAYLIGHT
TZOFFSETFROM:-0500
TZOFFSETTO:-0400
TZNAME:EDT
DTSTART:20240310T070000
END:DAYLIGHT
BEGIN:STANDARD
TZOFFSETFROM:-0400
TZOFFSETTO:-0500
TZNAME:EST
DTSTART:20241103T060000
END:STANDARD
BEGIN:DAYLIGHT
TZOFFSETFROM:-0500
TZOFFSETTO:-0400
TZNAME:EDT
DTSTART:20250309T070000
END:DAYLIGHT
BEGIN:STANDARD
TZOFFSETFROM:-0400
TZOFFSETTO:-0500
TZNAME:EST
DTSTART:20251102T060000
END:STANDARD
BEGIN:DAYLIGHT
TZOFFSETFROM:-0500
TZOFFSETTO:-0400
TZNAME:EDT
DTSTART:20260308T070000
END:DAYLIGHT
BEGIN:STANDARD
TZOFFSETFROM:-0400
TZOFFSETTO:-0500
TZNAME:EST
DTSTART:20261101T060000
END:STANDARD
END:VTIMEZONE
BEGIN:VEVENT
DTSTART;TZID=America/Detroit:20250919T163000
DTEND;TZID=America/Detroit:20250919T183000
DTSTAMP:20260424T081822
CREATED:20250513T191937Z
LAST-MODIFIED:20250825T145413Z
UID:9680-1758299400-1758306600@blackmothersbreastfeeding.org
SUMMARY:BMBFC(In-Person)
DESCRIPTION:Join us for our special In the Park series at Curtis Jones Park! We meet every 3rd* Friday of the month from 4:30–6:30 PM. \n\n\n\nCome for connection\, community\, and support\, all in the fresh air!Please register on the B’Right Hub app at least 30 minutes in advance.
URL:https://blackmothersbreastfeeding.org/calendar/bmbfcin-person-4/
LOCATION:Curtis Jones Park\, 1941 Ferry Park St.\, Detroit\, Michigan\, 48208\, United States
ATTACH;FMTTYPE=image/png:https://blackmothersbreastfeeding.org/wp-content/uploads/2025/05/updated-7.png
END:VEVENT
BEGIN:VEVENT
DTSTART;TZID=America/Detroit:20250917T113000
DTEND;TZID=America/Detroit:20250917T130000
DTSTAMP:20260424T081822
CREATED:20250514T152917Z
LAST-MODIFIED:20250825T145156Z
UID:9746-1758108600-1758114000@blackmothersbreastfeeding.org
SUMMARY:B.L.I.S.S
DESCRIPTION:Birthing\, Lactating\, Inspiring\, & Supporting SeriesLearn about birth & breastfeeding\, tackle challenges\, involve your family\, and access helpful resources! \n\n\n\nRegister through our Bright Hub app to attend.Questions? Contact Program Manager Kimberly Price.
URL:https://blackmothersbreastfeeding.org/calendar/b-l-i-s-s-31/
LOCATION:McKenny Center\, 19750 Burt Rd\, Detroit\, Michigan\, 48219
ATTACH;FMTTYPE=image/png:https://blackmothersbreastfeeding.org/wp-content/uploads/2025/05/BLISS-BD-2.png
END:VEVENT
BEGIN:VEVENT
DTSTART;TZID=America/Detroit:20250910T113000
DTEND;TZID=America/Detroit:20250910T130000
DTSTAMP:20260424T081822
CREATED:20250514T152643Z
LAST-MODIFIED:20250825T144613Z
UID:9744-1757503800-1757509200@blackmothersbreastfeeding.org
SUMMARY:B.L.I.S.S
DESCRIPTION:Birthing\, Lactating\, Inspiring\, & Supporting SeriesLearn about birth & breastfeeding\, tackle challenges\, involve your family\, and access helpful resources! \n\n\n\nRegister through our Bright Hub app to attend.Questions? Contact Program Manager Kimberly Price.
URL:https://blackmothersbreastfeeding.org/calendar/b-l-i-s-s-30/
LOCATION:McKenny Center\, 19750 Burt Rd\, Detroit\, Michigan\, 48219
ATTACH;FMTTYPE=image/png:https://blackmothersbreastfeeding.org/wp-content/uploads/2025/05/BLISS-BD-2-1.png
END:VEVENT
BEGIN:VEVENT
DTSTART;TZID=America/Detroit:20250903T180000
DTEND;TZID=America/Detroit:20250903T190000
DTSTAMP:20260424T081822
CREATED:20250513T200128Z
LAST-MODIFIED:20250825T143527Z
UID:9687-1756922400-1756926000@blackmothersbreastfeeding.org
SUMMARY:BMBFC (Virtual)
DESCRIPTION:Interested in a Breastfeeding club? Join us on Zoom\, every 1st Wednesday of the month from 6-7 pm! Please register on the B’Right Hub app at least 30 minutes in advance.
URL:https://blackmothersbreastfeeding.org/calendar/bmbfc-virtual-7/
LOCATION:Zoom
ATTACH;FMTTYPE=image/png:https://blackmothersbreastfeeding.org/wp-content/uploads/2025/05/updated-7.png
END:VEVENT
BEGIN:VEVENT
DTSTART;TZID=America/Detroit:20250903T113000
DTEND;TZID=America/Detroit:20250903T130000
DTSTAMP:20260424T081822
CREATED:20250514T152507Z
LAST-MODIFIED:20250825T143116Z
UID:9742-1756899000-1756904400@blackmothersbreastfeeding.org
SUMMARY:B.L.I.S.S
DESCRIPTION:Birthing\, Lactating\, Inspiring\, & Supporting SeriesLearn about birth & breastfeeding\, tackle challenges\, involve your family\, and access helpful resources! \n\n\n\nRegister through our Bright Hub app to attend.Questions? Contact Program Manager Kimberly Price.
URL:https://blackmothersbreastfeeding.org/calendar/b-l-i-s-s-29/
LOCATION:McKenny Center\, 19750 Burt Rd\, Detroit\, Michigan\, 48219
ATTACH;FMTTYPE=image/png:https://blackmothersbreastfeeding.org/wp-content/uploads/2025/05/BLISS-BD-2-1.png
END:VEVENT
BEGIN:VEVENT
DTSTART;TZID=America/Detroit:20250830T110000
DTEND;TZID=America/Detroit:20250830T140000
DTSTAMP:20260424T081822
CREATED:20250825T151740Z
LAST-MODIFIED:20250825T151745Z
UID:9963-1756551600-1756562400@blackmothersbreastfeeding.org
SUMMARY:Annual Black Mothers Breastfeeding Summit
DESCRIPTION:Join us for the Annual Black Mothers Breastfeeding Summit at the Buffalo Soldiers Heritage Association!A celebration for being Rooted in Breastfeeding Success\, and Grounded in Community Support! \n\n\n\nLive DJ • Horseback Riding • Panel + Q&A • Games • Food • GiveawaysRegister Now  at bmbfa.org/bbw2025
URL:https://blackmothersbreastfeeding.org/calendar/annual-black-mothers-breastfeeding-summit-3/
LOCATION:Buffalo Soldiers Heritage Association\, 8886 Lasher Rd\, Detroit\, Michigan\, 48239\, United States
ATTACH;FMTTYPE=image/png:https://blackmothersbreastfeeding.org/wp-content/uploads/2025/08/Open-House-Mothers-Day-Event-4.png
END:VEVENT
BEGIN:VEVENT
DTSTART;TZID=America/Detroit:20250827T113000
DTEND;TZID=America/Detroit:20250827T130000
DTSTAMP:20260424T081822
CREATED:20250514T151012Z
LAST-MODIFIED:20250825T141932Z
UID:9740-1756294200-1756299600@blackmothersbreastfeeding.org
SUMMARY:B.L.I.S.S
DESCRIPTION:Birthing\, Lactating\, Inspiring\, & Supporting SeriesLearn about birth & breastfeeding\, tackle challenges\, involve your family\, and access helpful resources! \n\n\n\nRegister through our Bright Hub app to attend.Questions? Contact Program Manager Kimberly Price.
URL:https://blackmothersbreastfeeding.org/calendar/b-l-i-s-s-28/
LOCATION:McKenny Center\, 19750 Burt Rd\, Detroit\, Michigan\, 48219
ATTACH;FMTTYPE=image/png:https://blackmothersbreastfeeding.org/wp-content/uploads/2025/05/BLISS-BD-2.png
END:VEVENT
BEGIN:VEVENT
DTSTART;TZID=America/Detroit:20250820T113000
DTEND;TZID=America/Detroit:20250820T130000
DTSTAMP:20260424T081822
CREATED:20250514T144808Z
LAST-MODIFIED:20250514T144812Z
UID:9721-1755689400-1755694800@blackmothersbreastfeeding.org
SUMMARY:B.L.I.S.S
DESCRIPTION:Birthing\, Lactating\, Inspiring\, & Supporting Series. Anything you want to know about birth & breastfeeding! Breastfeeding challenges and solutions. Learn how to involve your whole family. Resources and more! Questions? Contact Program Manager Kimberly Price.
URL:https://blackmothersbreastfeeding.org/calendar/b-l-i-s-s-27/
LOCATION:McKenny Center\, 19750 Burt Rd\, Detroit\, Michigan\, 48219
END:VEVENT
BEGIN:VEVENT
DTSTART;TZID=America/Detroit:20250815T163000
DTEND;TZID=America/Detroit:20250815T183000
DTSTAMP:20260424T081822
CREATED:20250513T191436Z
LAST-MODIFIED:20250717T203510Z
UID:9676-1755275400-1755282600@blackmothersbreastfeeding.org
SUMMARY:BMBFC(In-Person)
DESCRIPTION:Join us for our special In the Park series at Curtis Jones Park! We meet every 3rd* Friday of the month from 4:30–6:30 PM. \n\n\n\nCome for connection\, community\, and support\, all in the fresh air!Please register at least 30 minutes in advance.
URL:https://blackmothersbreastfeeding.org/calendar/bmbfcin-person-3/
LOCATION:Curtis Jones Park\, 1941 Ferry Park St.\, Detroit\, Michigan\, 48208\, United States
END:VEVENT
BEGIN:VEVENT
DTSTART;TZID=America/Detroit:20250813T113000
DTEND;TZID=America/Detroit:20250813T130000
DTSTAMP:20260424T081822
CREATED:20250514T144539Z
LAST-MODIFIED:20250514T150415Z
UID:9719-1755084600-1755090000@blackmothersbreastfeeding.org
SUMMARY:B.L.I.S.S
DESCRIPTION:Birthing\, Lactating\, Inspiring\, & Supporting Series. Anything you want to know about birth & breastfeeding! Breastfeeding challenges and solutions. Learn how to involve your whole family. Resources and more! Questions? Contact Program Manager Kimberly Price.
URL:https://blackmothersbreastfeeding.org/calendar/b-l-i-s-s-26/
LOCATION:McKenny Center\, 19750 Burt Rd\, Detroit\, Michigan\, 48219
END:VEVENT
BEGIN:VEVENT
DTSTART;TZID=America/Detroit:20250806T180000
DTEND;TZID=America/Detroit:20250806T190000
DTSTAMP:20260424T081822
CREATED:20250513T200843Z
LAST-MODIFIED:20250514T150311Z
UID:9689-1754503200-1754506800@blackmothersbreastfeeding.org
SUMMARY:BMBFC (Virtual)
DESCRIPTION:Interested in a Breastfeeding club? Join us on Zoom\, every 1st Wednesday of the month from 6-7 pm! Please register at least 30 minutes in advance.
URL:https://blackmothersbreastfeeding.org/calendar/bmbfc-virtual-8/
LOCATION:Zoom
END:VEVENT
BEGIN:VEVENT
DTSTART;TZID=America/Detroit:20250806T113000
DTEND;TZID=America/Detroit:20250806T130000
DTSTAMP:20260424T081822
CREATED:20250514T144351Z
LAST-MODIFIED:20250514T150159Z
UID:9717-1754479800-1754485200@blackmothersbreastfeeding.org
SUMMARY:B.L.I.S.S
DESCRIPTION:Birthing\, Lactating\, Inspiring\, & Supporting Series. Anything you want to know about birth & breastfeeding! Breastfeeding challenges and solutions. Learn how to involve your whole family. Resources and more! Questions? Contact Program Manager Kimberly Price.
URL:https://blackmothersbreastfeeding.org/calendar/b-l-i-s-s-25/
LOCATION:McKenny Center\, 19750 Burt Rd\, Detroit\, Michigan\, 48219
END:VEVENT
BEGIN:VEVENT
DTSTART;TZID=America/Detroit:20250730T113000
DTEND;TZID=America/Detroit:20250730T130000
DTSTAMP:20260424T081822
CREATED:20250513T211505Z
LAST-MODIFIED:20250514T150102Z
UID:9715-1753875000-1753880400@blackmothersbreastfeeding.org
SUMMARY:B.L.I.S.S
DESCRIPTION:Birthing\, Lactating\, Inspiring\, & Supporting Series. Anything you want to know about birth & breastfeeding! Breastfeeding challenges and solutions. Learn how to involve your whole family. Resources and more! Questions? Contact Program Manager Kimberly Price.
URL:https://blackmothersbreastfeeding.org/calendar/b-l-i-s-s-24/
LOCATION:McKenny Center\, 19750 Burt Rd\, Detroit\, Michigan\, 48219
END:VEVENT
BEGIN:VEVENT
DTSTART;TZID=America/Detroit:20250724T110000
DTEND;TZID=America/Detroit:20250724T123000
DTSTAMP:20260424T081822
CREATED:20250717T210048Z
LAST-MODIFIED:20250717T210054Z
UID:9891-1753354800-1753360200@blackmothersbreastfeeding.org
SUMMARY:Bridging Access: A Michigan Medicaid Toolkit Webinar for Doula Providers
DESCRIPTION:Join Black Mothers’ Breastfeeding Association (BMBFA)\, Focus: HOPE\, and Miigwech Inc. for an essential FREE training introducing the Michigan Doula Medicaid Provider Toolkit. This session is designed to guide doulas through enrollment\, billing\, and reimbursement processes with Medicaid in Michigan. Whether you’re already providing care or looking to enroll\, this free resource-packed webinar shares best practices\, common pitfalls\, and sustainability strategies for community-based doulas.
URL:https://blackmothersbreastfeeding.org/calendar/bridging-access-a-michigan-medicaid-toolkit-webinar-for-doula-providers/
LOCATION:Michigan
ATTACH;FMTTYPE=image/png:https://blackmothersbreastfeeding.org/wp-content/uploads/2025/06/HCO-x-BMBFA-Webinars.png
END:VEVENT
BEGIN:VEVENT
DTSTART;TZID=America/Detroit:20250723T113000
DTEND;TZID=America/Detroit:20250723T130000
DTSTAMP:20260424T081822
CREATED:20250513T211222Z
LAST-MODIFIED:20250514T145926Z
UID:9712-1753270200-1753275600@blackmothersbreastfeeding.org
SUMMARY:B.L.I.S.S
DESCRIPTION:Birthing\, Lactating\, Inspiring\, & Supporting Series. Anything you want to know about birth & breastfeeding! Breastfeeding challenges and solutions. Learn how to involve your whole family. Resources and more! Questions? Contact Program Manager Kimberly Price.
URL:https://blackmothersbreastfeeding.org/calendar/b-l-i-s-s-23/
LOCATION:McKenny Center\, 19750 Burt Rd\, Detroit\, Michigan\, 48219
END:VEVENT
BEGIN:VEVENT
DTSTART;TZID=America/Detroit:20250718T163000
DTEND;TZID=America/Detroit:20250718T183000
DTSTAMP:20260424T081822
CREATED:20250513T191131Z
LAST-MODIFIED:20250718T144532Z
UID:9674-1752856200-1752863400@blackmothersbreastfeeding.org
SUMMARY:BMBFC(In-Person)
DESCRIPTION:Interested in Breastfeeding Club? Join us at the McKenny Center lawn area! We meet every 3rd* Friday of the month from 4:30–6:30 PM. \n\n\n\nCome for connection\, community\, and support\, all in the fresh air!Please register at least 30 minutes in advance.
URL:https://blackmothersbreastfeeding.org/calendar/bmbfcin-person-2/
LOCATION:McKenny Center\, 19750 Burt Rd\, Detroit\, Michigan\, 48219
END:VEVENT
BEGIN:VEVENT
DTSTART;TZID=America/Detroit:20250716T113000
DTEND;TZID=America/Detroit:20250716T130000
DTSTAMP:20260424T081822
CREATED:20250513T211030Z
LAST-MODIFIED:20250513T211034Z
UID:9710-1752665400-1752670800@blackmothersbreastfeeding.org
SUMMARY:B.L.I.S.S
DESCRIPTION:Birthing\, Lactating\, Inspiring\, & Supporting Series. Anything you want to know about birth & breastfeeding! Breastfeeding challenges and solutions. Learn how to involve your whole family. Resources and more! Questions? Contact Program Manager Kimberly Price.
URL:https://blackmothersbreastfeeding.org/calendar/b-l-i-s-s-22/
LOCATION:McKenny Center\, 19750 Burt Rd\, Detroit\, Michigan\, 48219
ORGANIZER;CN="Kim Price":MAILTO:kimberlyp@bmbfa.org
END:VEVENT
BEGIN:VEVENT
DTSTART;TZID=America/Detroit:20250709T113000
DTEND;TZID=America/Detroit:20250709T130000
DTSTAMP:20260424T081822
CREATED:20250513T210712Z
LAST-MODIFIED:20250514T145729Z
UID:9708-1752060600-1752066000@blackmothersbreastfeeding.org
SUMMARY:B.L.I.S.S
DESCRIPTION:Birthing\, Lactating\, Inspiring\, & Supporting Series. Anything you want to know about birth & breastfeeding! Breastfeeding challenges and solutions. Learn how to involve your whole family. Resources and more! Questions? Contact Program Manager Kimberly Price.
URL:https://blackmothersbreastfeeding.org/calendar/b-l-i-s-s-21/
LOCATION:McKenny Center\, 19750 Burt Rd\, Detroit\, Michigan\, 48219
END:VEVENT
BEGIN:VEVENT
DTSTART;TZID=America/Detroit:20250702T180000
DTEND;TZID=America/Detroit:20250702T190000
DTSTAMP:20260424T081822
CREATED:20250513T192719Z
LAST-MODIFIED:20250513T192723Z
UID:9683-1751479200-1751482800@blackmothersbreastfeeding.org
SUMMARY:BMBFC (Virtual)
DESCRIPTION:Interested in a Breastfeeding club? Join us on Zoom\, every 1st Wednesday of the month from 6-7 pm! Please register at least 30 minutes in advance on the BMBFA B’Right Hub App.
URL:https://blackmothersbreastfeeding.org/calendar/bmbfc-virtual-6/
LOCATION:zoom
ORGANIZER;CN="Kim Price":MAILTO:kimberlyp@bmbfa.org
END:VEVENT
BEGIN:VEVENT
DTSTART;TZID=America/Detroit:20250702T113000
DTEND;TZID=America/Detroit:20250702T130000
DTSTAMP:20260424T081822
CREATED:20250513T210345Z
LAST-MODIFIED:20250514T145638Z
UID:9706-1751455800-1751461200@blackmothersbreastfeeding.org
SUMMARY:B.L.I.S.S
DESCRIPTION:Birthing\, Lactating\, Inspiring\, & Supporting Series. Anything you want to know about birth & breastfeeding! Breastfeeding challenges and solutions. Learn how to involve your whole family. Resources and more! Questions? Contact Program Manager Kimberly Price.
URL:https://blackmothersbreastfeeding.org/calendar/b-l-i-s-s-20/
LOCATION:McKenny Center\, 19750 Burt Rd\, Detroit\, Michigan\, 48219
END:VEVENT
BEGIN:VEVENT
DTSTART;TZID=America/Detroit:20250625T113000
DTEND;TZID=America/Detroit:20250625T130000
DTSTAMP:20260424T081822
CREATED:20250513T205940Z
LAST-MODIFIED:20250513T205943Z
UID:9704-1750851000-1750856400@blackmothersbreastfeeding.org
SUMMARY:B.L.I.S.S
DESCRIPTION:Birthing\, Lactating\, Inspiring\, & Supporting Series. Anything you want to know about birth & breastfeeding! Breastfeeding challenges and solutions. Learn how to involve your whole family. Resources and more! Questions? Contact Program Manager Kimberly Price.
URL:https://blackmothersbreastfeeding.org/calendar/b-l-i-s-s-19/
LOCATION:McKenny Center\, 19750 Burt Rd\, Detroit\, Michigan\, 48219
ORGANIZER;CN="Kim Price":MAILTO:kimberlyp@bmbfa.org
END:VEVENT
BEGIN:VEVENT
DTSTART;TZID=America/Detroit:20250620T163000
DTEND;TZID=America/Detroit:20250620T183000
DTSTAMP:20260424T081822
CREATED:20250513T181800Z
LAST-MODIFIED:20250514T145523Z
UID:9671-1750437000-1750444200@blackmothersbreastfeeding.org
SUMMARY:BMBFC (In-Person)
DESCRIPTION:Interested in Breastfeeding club? Join us at The McKenny Center Gymnasium\, every 3rd* Friday of the month from 4:30-6:30 pm! Please register at least 30 minutes in advance.
URL:https://blackmothersbreastfeeding.org/calendar/bmbfc-in-person-7/
LOCATION:McKenny Center\, 19750 Burt Rd\, Detroit\, Michigan\, 48219
ATTACH;FMTTYPE=image/png:https://blackmothersbreastfeeding.org/wp-content/uploads/2025/04/Social-Media-March25.zip-March-11th.png
END:VEVENT
BEGIN:VEVENT
DTSTART;TZID=America/Detroit:20250618T113000
DTEND;TZID=America/Detroit:20250618T130000
DTSTAMP:20260424T081822
CREATED:20250513T203130Z
LAST-MODIFIED:20250514T145257Z
UID:9702-1750246200-1750251600@blackmothersbreastfeeding.org
SUMMARY:B.L.I.S.S
DESCRIPTION:Birthing\, Lactating\, Inspiring\, & Supporting Series. Anything you want to know about birth & breastfeeding! Breastfeeding challenges and solutions. Learn how to involve your whole family. Resources and more! Questions? Contact Program Manager Kimberly Price.
URL:https://blackmothersbreastfeeding.org/calendar/b-l-i-s-s-18/
LOCATION:McKenny Center\, 19750 Burt Rd\, Detroit\, Michigan\, 48219
END:VEVENT
BEGIN:VEVENT
DTSTART;TZID=America/Detroit:20250611T113000
DTEND;TZID=America/Detroit:20250611T130000
DTSTAMP:20260424T081822
CREATED:20250513T202433Z
LAST-MODIFIED:20250514T145125Z
UID:9696-1749641400-1749646800@blackmothersbreastfeeding.org
SUMMARY:B.L.I.S.S
DESCRIPTION:Birthing\, Lactating\, Inspiring\, & Supporting Series. Anything you want to know about birth & breastfeeding! Breastfeeding challenges and solutions. Learn how to involve your whole family. Resources and more! Questions? Contact Program Manager Kimberly Price.
URL:https://blackmothersbreastfeeding.org/calendar/b-l-i-s-s-17/
LOCATION:McKenny Center\, 19750 Burt Rd\, Detroit\, Michigan\, 48219
END:VEVENT
BEGIN:VEVENT
DTSTART;TZID=America/Detroit:20250604T180000
DTEND;TZID=America/Detroit:20250604T190000
DTSTAMP:20260424T081822
CREATED:20250402T174045Z
LAST-MODIFIED:20250402T174048Z
UID:9551-1749060000-1749063600@blackmothersbreastfeeding.org
SUMMARY:BMBFC (Virtual)
DESCRIPTION:Interested in a Breastfeeding club? Join us on Zoom\, every 1st Wednesday of the month from 6-7 pm! Please register at least 30 minutes in advance on the BMBFA B’Right Hub App.
URL:https://blackmothersbreastfeeding.org/calendar/bmbfc-virtual-5/
LOCATION:Zoom
ATTACH;FMTTYPE=image/png:https://blackmothersbreastfeeding.org/wp-content/uploads/2025/04/Social-Media-March25.zip-March-11th.png
ORGANIZER;CN="Kim Price":MAILTO:kimberlyp@bmbfa.org
END:VEVENT
BEGIN:VEVENT
DTSTART;TZID=America/Detroit:20250604T113000
DTEND;TZID=America/Detroit:20250604T130000
DTSTAMP:20260424T081822
CREATED:20250513T202214Z
LAST-MODIFIED:20250513T202218Z
UID:9694-1749036600-1749042000@blackmothersbreastfeeding.org
SUMMARY:B.L.I.S.S
DESCRIPTION:Birthing\, Lactating\, Inspiring\, & Supporting Series. Anything you want to know about birth & breastfeeding! Breastfeeding challenges and solutions. Learn how to involve your whole family. Resources and more! Questions? Contact Program Manager Kimberly Price.
URL:https://blackmothersbreastfeeding.org/calendar/b-l-i-s-s-16/
LOCATION:McKenny Center\, 19750 Burt Rd\, Detroit\, Michigan\, 48219
ORGANIZER;CN="Kim Price":MAILTO:kimberlyp@bmbfa.org
END:VEVENT
BEGIN:VEVENT
DTSTART;TZID=America/Detroit:20250528T113000
DTEND;TZID=America/Detroit:20250528T130000
DTSTAMP:20260424T081822
CREATED:20250522T195707Z
LAST-MODIFIED:20250522T195711Z
UID:9755-1748431800-1748437200@blackmothersbreastfeeding.org
SUMMARY:B.L.I.S.S
DESCRIPTION:Birthing\, Lactating\, Inspiring\, & Supporting Series. Anything you want to know about birth & breastfeeding! Breastfeeding challenges and solutions. Learn how to involve your whole family. Resources and more! Questions? Contact Program Manager Kimberly Price.
URL:https://blackmothersbreastfeeding.org/calendar/b-l-i-s-s-32/
LOCATION:McKenny Center\, 19750 Burt Rd\, Detroit\, Michigan\, 48219
END:VEVENT
BEGIN:VEVENT
DTSTART;TZID=America/Detroit:20250516T163000
DTEND;TZID=America/Detroit:20250516T183000
DTSTAMP:20260424T081822
CREATED:20250513T175342Z
LAST-MODIFIED:20250513T175346Z
UID:9668-1747413000-1747420200@blackmothersbreastfeeding.org
SUMMARY:BMBFC(In-Person)
DESCRIPTION:Interested in Breastfeeding club? Join us at The McKenny Center Gymnasium\, every 3rd* Friday of the month from 4:30-6:30 pm! Please register at least 30 minutes in advance.
URL:https://blackmothersbreastfeeding.org/calendar/bmbfcin-person/
LOCATION:McKenny Center\, 19750 Burt Rd\, Detroit\, Michigan\, 48219
ATTACH;FMTTYPE=image/png:https://blackmothersbreastfeeding.org/wp-content/uploads/2025/04/Social-Media-March25.zip-March-11th.png
ORGANIZER;CN="Kim Price":MAILTO:kimberlyp@bmbfa.org
END:VEVENT
BEGIN:VEVENT
DTSTART;TZID=America/Detroit:20250514T113000
DTEND;TZID=America/Detroit:20250514T130000
DTSTAMP:20260424T081822
CREATED:20250408T162843Z
LAST-MODIFIED:20250408T162901Z
UID:9556-1747222200-1747227600@blackmothersbreastfeeding.org
SUMMARY:BLISS
DESCRIPTION:Birthing\, Lactating\, Inspiring\, & Supporting Series. Anything you want to know about birth & breastfeeding! Breastfeeding challenges and solutions. Learn how to involve your whole family. Resources and more! Questions? Contact Program Manager Kimberly Price.
URL:https://blackmothersbreastfeeding.org/calendar/bliss-16/
LOCATION:McKenny Center\, 19750 Burt Rd\, Detroit\, Michigan\, 48219
ATTACH;FMTTYPE=image/png:https://blackmothersbreastfeeding.org/wp-content/uploads/2025/04/BLISS-FL-8.png
ORGANIZER;CN="Kim Price":MAILTO:kimberlyp@bmbfa.org
END:VEVENT
BEGIN:VEVENT
DTSTART;TZID=America/Detroit:20250507T180000
DTEND;TZID=America/Detroit:20250507T190000
DTSTAMP:20260424T081822
CREATED:20250402T173752Z
LAST-MODIFIED:20250402T173937Z
UID:9547-1746640800-1746644400@blackmothersbreastfeeding.org
SUMMARY:BMBFC (Virtual)
DESCRIPTION:Interested in a Breastfeeding club? Join us on Zoom\, every 1st Wednesday of the month from 6-7 pm! Please register at least 30 minutes in advance on the BMBFA B’Right Hub App.
URL:https://blackmothersbreastfeeding.org/calendar/bmbfc-virtual-4/
LOCATION:Zoom
ATTACH;FMTTYPE=image/png:https://blackmothersbreastfeeding.org/wp-content/uploads/2025/04/Social-Media-March25.zip-March-11th.png
ORGANIZER;CN="Kim Price":MAILTO:kimberlyp@bmbfa.org
END:VEVENT
END:VCALENDAR