BEGIN:VCALENDAR
VERSION:2.0
PRODID:-//BMBFA - ECPv6.15.20//NONSGML v1.0//EN
CALSCALE:GREGORIAN
METHOD:PUBLISH
X-WR-CALNAME:BMBFA
X-ORIGINAL-URL:https://blackmothersbreastfeeding.org
X-WR-CALDESC:Events for BMBFA
REFRESH-INTERVAL;VALUE=DURATION:PT1H
X-Robots-Tag:noindex
X-PUBLISHED-TTL:PT1H
BEGIN:VTIMEZONE
TZID:America/Detroit
BEGIN:DAYLIGHT
TZOFFSETFROM:-0500
TZOFFSETTO:-0400
TZNAME:EDT
DTSTART:20210314T070000
END:DAYLIGHT
BEGIN:STANDARD
TZOFFSETFROM:-0400
TZOFFSETTO:-0500
TZNAME:EST
DTSTART:20211107T060000
END:STANDARD
BEGIN:DAYLIGHT
TZOFFSETFROM:-0500
TZOFFSETTO:-0400
TZNAME:EDT
DTSTART:20220313T070000
END:DAYLIGHT
BEGIN:STANDARD
TZOFFSETFROM:-0400
TZOFFSETTO:-0500
TZNAME:EST
DTSTART:20221106T060000
END:STANDARD
BEGIN:DAYLIGHT
TZOFFSETFROM:-0500
TZOFFSETTO:-0400
TZNAME:EDT
DTSTART:20230312T070000
END:DAYLIGHT
BEGIN:STANDARD
TZOFFSETFROM:-0400
TZOFFSETTO:-0500
TZNAME:EST
DTSTART:20231105T060000
END:STANDARD
BEGIN:DAYLIGHT
TZOFFSETFROM:-0500
TZOFFSETTO:-0400
TZNAME:EDT
DTSTART:20240310T070000
END:DAYLIGHT
BEGIN:STANDARD
TZOFFSETFROM:-0400
TZOFFSETTO:-0500
TZNAME:EST
DTSTART:20241103T060000
END:STANDARD
END:VTIMEZONE
BEGIN:VEVENT
DTSTART;TZID=America/Detroit:20230222T130000
DTEND;TZID=America/Detroit:20230222T140000
DTSTAMP:20260425T194924
CREATED:20230110T194735Z
LAST-MODIFIED:20230110T194735Z
UID:7408-1677070800-1677074400@blackmothersbreastfeeding.org
SUMMARY:Doula Peer Support Group
DESCRIPTION:Interested in the doula peer support group? Click here to register for the zoom meeting! For more information\, contact Robena Hill via email at RobenaH@bmbfa.org.
URL:https://blackmothersbreastfeeding.org/calendar/doula-peer-support-group-2/
LOCATION:Zoom
ORGANIZER;CN="Robena Hill":MAILTO:robenah@bmbfa.org
END:VEVENT
BEGIN:VEVENT
DTSTART;TZID=America/Detroit:20230217T163000
DTEND;TZID=America/Detroit:20230217T183000
DTSTAMP:20260425T194924
CREATED:20221220T181531Z
LAST-MODIFIED:20221228T172123Z
UID:7381-1676651400-1676658600@blackmothersbreastfeeding.org
SUMMARY:Black Mothers' Breastfeeding Club
DESCRIPTION:Interested in Breastfeeding club?  Join us at the McKenny Center every 3rd Friday of the month at 4:30pm! Please register at least 30 minutes in advance. Text IPHONE or ANDROID to 855-495-7979 to get texts from us. Contact Erica at (517) 285-9718 for more information.
URL:https://blackmothersbreastfeeding.org/calendar/black-mothers-breastfeeding-club-99/
LOCATION:McKenny Center\, 19750 Burt Rd\, Detroit\, Michigan\, 48219
CATEGORIES:Breastfeeding Club
ATTACH;FMTTYPE=image/png:https://blackmothersbreastfeeding.org/wp-content/uploads/2022/12/October-2022-Black-Mothers-Breastfeeding-Club-2-e1671552466681.png
ORGANIZER;CN="Erica Davis":MAILTO:ericad@bmbfa.org
END:VEVENT
BEGIN:VEVENT
DTSTART;TZID=America/Detroit:20230214T130000
DTEND;TZID=America/Detroit:20230214T140000
DTSTAMP:20260425T194924
CREATED:20230118T180212Z
LAST-MODIFIED:20230118T180212Z
UID:7443-1676379600-1676383200@blackmothersbreastfeeding.org
SUMMARY:Detroit Community-based Doula Taskforce Meeting
DESCRIPTION:Interested in the doula task force meetings? Click here to register!
URL:https://blackmothersbreastfeeding.org/calendar/detroit-community-based-doula-taskforce-meeting-5/
LOCATION:Zoom
CATEGORIES:Doula Support
END:VEVENT
BEGIN:VEVENT
DTSTART;TZID=America/Detroit:20230214T110000
DTEND;TZID=America/Detroit:20230214T133000
DTSTAMP:20260425T194924
CREATED:20230213T204245Z
LAST-MODIFIED:20230213T204245Z
UID:7516-1676372400-1676381400@blackmothersbreastfeeding.org
SUMMARY:POMM Prenatal Breastfeeding Bootcamp
DESCRIPTION:Join us on Tuesdays from 11:30am-1:00pm at the McKenny Center for our Precious Ounces of Mothers’ Milk Series! Find us on the BMBFA B’Right Hub. Contact Erica Davis at Ericad@bmbfa.org or (517) 285-9718 for questions!
URL:https://blackmothersbreastfeeding.org/calendar/pomm-prenatal-breastfeeding-bootcamp/
LOCATION:McKenny Center\, 19750 Burt Rd\, Detroit\, Michigan\, 48219
CATEGORIES:Community Breastfeeding Program
END:VEVENT
BEGIN:VEVENT
DTSTART;TZID=America/Detroit:20230201T180000
DTEND;TZID=America/Detroit:20230201T190000
DTSTAMP:20260425T194924
CREATED:20221220T160947Z
LAST-MODIFIED:20221228T172143Z
UID:7373-1675274400-1675278000@blackmothersbreastfeeding.org
SUMMARY:Virtual Black Mothers' Breastfeeding Club
DESCRIPTION:Have any breastfeeding questions? Join us on the first Wednesday of each month for Breastfeeding Club!  Please register at least 30 minutes in advance. Text IPHONE or ANDROID to 855-495-7979 to get texts from us. Contact Erica at (517) 285-9718 for more information.
URL:https://blackmothersbreastfeeding.org/calendar/virtual-black-mothers-breastfeeding-club-6/
LOCATION:Zoom
CATEGORIES:Breastfeeding Club
ATTACH;FMTTYPE=image/png:https://blackmothersbreastfeeding.org/wp-content/uploads/2022/12/October-2022-Black-Mothers-Breastfeeding-Club-2-e1671552466681.png
ORGANIZER;CN="Erica Davis":MAILTO:ericad@bmbfa.org
END:VEVENT
BEGIN:VEVENT
DTSTART;TZID=America/Detroit:20230131T113000
DTEND;TZID=America/Detroit:20230131T130000
DTSTAMP:20260425T194924
CREATED:20230117T180428Z
LAST-MODIFIED:20230117T180428Z
UID:7439-1675164600-1675170000@blackmothersbreastfeeding.org
SUMMARY:Precious Ounces of Mothers' Milk
DESCRIPTION:Join us on Tuesdays from 11:30am-1:00pm at the Mckenny Center for our Precious Ounces of Mothers’ Milk Series! Find us on the BMBFA B’Right Hub. Contact Erica Davis at Ericad@bmbfa.org or (517) 285-9718 for questions!
URL:https://blackmothersbreastfeeding.org/calendar/precious-ounces-of-mothers-milk-8/
LOCATION:McKenny Center\, 19750 Burt Rd\, Detroit\, MI\, 48219\, United States
CATEGORIES:Breastfeeding Information Session
ATTACH;FMTTYPE=image/png:https://blackmothersbreastfeeding.org/wp-content/uploads/2023/01/POMM-Series-in-person-2-e1673977884820.png
ORGANIZER;CN="Erica Davis":MAILTO:ericad@bmbfa.org
END:VEVENT
BEGIN:VEVENT
DTSTART;TZID=America/Detroit:20230124T113000
DTEND;TZID=America/Detroit:20230124T130000
DTSTAMP:20260425T194924
CREATED:20230117T175641Z
LAST-MODIFIED:20230117T175641Z
UID:7437-1674559800-1674565200@blackmothersbreastfeeding.org
SUMMARY:Precious Ounces of Mothers' Milk
DESCRIPTION:Join us on Tuesdays from 11:30am-1:00pm at the Mckenny Center for our Precious Ounces of Mothers’ Milk Series! Find us on the BMBFA B’Right Hub. Contact Erica Davis at Ericad@bmbfa.org or (517) 285-9718 for questions!
URL:https://blackmothersbreastfeeding.org/calendar/precious-ounces-of-mothers-milk-7/
LOCATION:McKenny Center\, 19750 Burt Rd\, Detroit\, Michigan\, 48219
CATEGORIES:Breastfeeding Information Session
ATTACH;FMTTYPE=image/png:https://blackmothersbreastfeeding.org/wp-content/uploads/2023/01/POMM-Series-in-person-2-e1673977884820.png
ORGANIZER;CN="Erica Davis":MAILTO:ericad@bmbfa.org
END:VEVENT
BEGIN:VEVENT
DTSTART;TZID=America/Detroit:20230120T163000
DTEND;TZID=America/Detroit:20230120T183000
DTSTAMP:20260425T194924
CREATED:20221220T173706Z
LAST-MODIFIED:20221228T172205Z
UID:7379-1674232200-1674239400@blackmothersbreastfeeding.org
SUMMARY:Black Mothers' Breastfeeding Club
DESCRIPTION:Interested in Breastfeeding club?  Join us at the McKenny Center every 3rd Friday of the month at 4:30pm! Please register at least 30 minutes in advance. Text IPHONE or ANDROID to 855-495-7979 to get texts from us. Contact Erica at (517) 285-9718 for more information.
URL:https://blackmothersbreastfeeding.org/calendar/black-mothers-breastfeeding-club-98/
LOCATION:McKenny Center\, 19750 Burt Rd\, Detroit\, MI\, 48219\, United States
CATEGORIES:Breastfeeding Club
ATTACH;FMTTYPE=image/png:https://blackmothersbreastfeeding.org/wp-content/uploads/2022/12/October-2022-Black-Mothers-Breastfeeding-Club-2-e1671552466681.png
ORGANIZER;CN="Erica Davis":MAILTO:ericad@bmbfa.org
END:VEVENT
BEGIN:VEVENT
DTSTART;TZID=America/Detroit:20230118T130000
DTEND;TZID=America/Detroit:20230118T140000
DTSTAMP:20260425T194924
CREATED:20230110T194530Z
LAST-MODIFIED:20230110T194530Z
UID:7405-1674046800-1674050400@blackmothersbreastfeeding.org
SUMMARY:Doula Peer Support Group
DESCRIPTION:Interested in the doula peer support group? Click here to register for the zoom meeting! For more information\, contact Robena Hill via email at RobenaH@bmbfa.org.
URL:https://blackmothersbreastfeeding.org/calendar/doula-peer-support-group/
LOCATION:Zoom
CATEGORIES:Doula Support
ORGANIZER;CN="Robena Hill":MAILTO:robenah@bmbfa.org
END:VEVENT
BEGIN:VEVENT
DTSTART;TZID=America/Detroit:20230117T113000
DTEND;TZID=America/Detroit:20230117T130000
DTSTAMP:20260425T194924
CREATED:20230117T175512Z
LAST-MODIFIED:20230117T175512Z
UID:7435-1673955000-1673960400@blackmothersbreastfeeding.org
SUMMARY:Precious Ounces of Mothers' Milk
DESCRIPTION:Join us on Tuesdays from 11:30am-1:00pm at the Mckenny Center for our Precious Ounces of Mothers’ Milk Series! Find us on the BMBFA B’Right Hub. Contact Erica Davis at Ericad@bmbfa.org or (517) 285-9718 for questions!
URL:https://blackmothersbreastfeeding.org/calendar/precious-ounces-of-mothers-milk-6/
LOCATION:McKenny Center\, 19750 Burt Rd\, Detroit\, Michigan\, 48219
CATEGORIES:Breastfeeding Information Session
ATTACH;FMTTYPE=image/png:https://blackmothersbreastfeeding.org/wp-content/uploads/2023/01/POMM-Series-in-person-2-e1673977884820.png
ORGANIZER;CN="Erica Davis":MAILTO:ericad@bmbfa.org
END:VEVENT
BEGIN:VEVENT
DTSTART;TZID=America/Detroit:20230110T113000
DTEND;TZID=America/Detroit:20230110T130000
DTSTAMP:20260425T194924
CREATED:20230117T175409Z
LAST-MODIFIED:20230117T175409Z
UID:7433-1673350200-1673355600@blackmothersbreastfeeding.org
SUMMARY:Precious Ounces of Mothers' Milk
DESCRIPTION:Join us on Tuesdays from 11:30am-1:00pm at the Mckenny Center for our Precious Ounces of Mothers’ Milk Series! Find us on the BMBFA B’Right Hub. Contact Erica Davis at Ericad@bmbfa.org or (517) 285-9718 for questions!
URL:https://blackmothersbreastfeeding.org/calendar/precious-ounces-of-mothers-milk-5/
LOCATION:McKenny Center\, 19750 Burt Rd\, Detroit\, Michigan\, 48219
CATEGORIES:Breastfeeding Information Session
ATTACH;FMTTYPE=image/png:https://blackmothersbreastfeeding.org/wp-content/uploads/2023/01/POMM-Series-in-person-2-e1673977884820.png
ORGANIZER;CN="Erica Davis":MAILTO:ericad@bmbfa.org
END:VEVENT
BEGIN:VEVENT
DTSTART;TZID=America/Detroit:20230104T180000
DTEND;TZID=America/Detroit:20230104T190000
DTSTAMP:20260425T194924
CREATED:20221220T160814Z
LAST-MODIFIED:20221228T172228Z
UID:7370-1672855200-1672858800@blackmothersbreastfeeding.org
SUMMARY:Virtual Black Mothers' Breastfeeding Club
DESCRIPTION:Join us on zoom every 1st Wednesday of the month for Breastfeeding Club! Please register at least 30 minutes in advance. Text IPHONE or ANDROID to 855-495-7979 to get texts from us. Contact Erica at (517) 285-9718 for more information.
URL:https://blackmothersbreastfeeding.org/calendar/virtual-black-mothers-breastfeeding-club-5/
LOCATION:Zoom
CATEGORIES:Breastfeeding Club
ATTACH;FMTTYPE=image/png:https://blackmothersbreastfeeding.org/wp-content/uploads/2022/12/October-2022-Black-Mothers-Breastfeeding-Club-2-e1671552466681.png
ORGANIZER;CN="Erica Davis":MAILTO:ericad@bmbfa.org
END:VEVENT
BEGIN:VEVENT
DTSTART;TZID=America/Detroit:20230103T113000
DTEND;TZID=America/Detroit:20230103T130000
DTSTAMP:20260425T194924
CREATED:20230117T175308Z
LAST-MODIFIED:20230117T175308Z
UID:7430-1672745400-1672750800@blackmothersbreastfeeding.org
SUMMARY:Precious Ounces of Mothers' Milk
DESCRIPTION:Join us on Tuesdays from 11:30am-1:00pm at the Mckenny Center for our Precious Ounces of Mothers’ Milk Series! Find us on the BMBFA B’Right Hub. Contact Erica Davis at Ericad@bmbfa.org or (517) 285-9718 for questions!
URL:https://blackmothersbreastfeeding.org/calendar/precious-ounces-of-mothers-milk-4/
LOCATION:McKenny Center\, 19750 Burt Rd\, Detroit\, Michigan\, 48219
CATEGORIES:Breastfeeding Information Session
ATTACH;FMTTYPE=image/png:https://blackmothersbreastfeeding.org/wp-content/uploads/2023/01/POMM-Series-in-person-2-e1673977884820.png
ORGANIZER;CN="Erica Davis":MAILTO:ericad@bmbfa.org
END:VEVENT
BEGIN:VEVENT
DTSTART;TZID=America/Detroit:20221220T113000
DTEND;TZID=America/Detroit:20221220T130000
DTSTAMP:20260425T194924
CREATED:20221206T162953Z
LAST-MODIFIED:20221206T163114Z
UID:7354-1671535800-1671541200@blackmothersbreastfeeding.org
SUMMARY:Detroit Precious Ounces of Mothers' Milk
DESCRIPTION:Join us on Tuesdays from 11:30am-1:00pm at the Mckenny Center for our Precious Ounces of Mothers’ Milk Series! Find us on the BMBFA B’Right Hub. Contact Erica Davis at Ericad@bmbfa.org or (517) 285-9718 for questions!
URL:https://blackmothersbreastfeeding.org/calendar/detroit-precious-ounces-of-mothers-milk-2/
LOCATION:McKenny Center\, 19750 Burt Rd\, Detroit\, Michigan\, 48219
CATEGORIES:Breastfeeding Club,Breastfeeding Information Session
ATTACH;FMTTYPE=image/png:https://blackmothersbreastfeeding.org/wp-content/uploads/2022/12/Screen-Shot-2022-12-06-at-11.22.16-AM-e1670343998714.png
ORGANIZER;CN="Erica Davis":MAILTO:ericad@bmbfa.org
END:VEVENT
BEGIN:VEVENT
DTSTART;TZID=America/Detroit:20221213T130000
DTEND;TZID=America/Detroit:20221213T140000
DTSTAMP:20260425T194924
CREATED:20220407T154703Z
LAST-MODIFIED:20220407T154703Z
UID:6598-1670936400-1670940000@blackmothersbreastfeeding.org
SUMMARY:Detroit Community-based Doula Taskforce Meeting
DESCRIPTION:Interested in joining the Detroit Community-based Doula Taskforce? This local task force will meet bi-monthly to coordinate resources and efforts for action toward community-based doula sustainability.
URL:https://blackmothersbreastfeeding.org/calendar/detroit-community-based-doula-taskforce-meeting-4/
LOCATION:Zoom
CATEGORIES:Professional Development
ORGANIZER;CN="Avonlea Rickerson":MAILTO:avonlear@bmbfa.org
END:VEVENT
BEGIN:VEVENT
DTSTART;TZID=America/Detroit:20221213T113000
DTEND;TZID=America/Detroit:20221213T130000
DTSTAMP:20260425T194924
CREATED:20221206T162711Z
LAST-MODIFIED:20221206T163222Z
UID:7349-1670931000-1670936400@blackmothersbreastfeeding.org
SUMMARY:Detroit P.O.M.M. Series Lunch & Learn
DESCRIPTION:Join us on Tuesdays from 11:30am-1:00pm at the Mckenny Center for our Precious Ounces of Mothers’ Milk Series! Find us on the BMBFA B’Right Hub. Contact Erica Davis at Ericad@bmbfa.org or (517) 285-9718 for questions!
URL:https://blackmothersbreastfeeding.org/calendar/detroit-p-o-m-m-series-lunch-learn/
LOCATION:McKenny Center\, 19750 Burt Rd\, Detroit\, Michigan\, 48219
CATEGORIES:Breastfeeding Club,Breastfeeding Information Session
ATTACH;FMTTYPE=image/png:https://blackmothersbreastfeeding.org/wp-content/uploads/2022/12/Screen-Shot-2022-12-06-at-11.22.16-AM-e1670343998714.png
ORGANIZER;CN="Erica Davis":MAILTO:ericad@bmbfa.org
END:VEVENT
BEGIN:VEVENT
DTSTART;TZID=America/Detroit:20221207T180000
DTEND;TZID=America/Detroit:20221207T190000
DTSTAMP:20260425T194924
CREATED:20221205T185111Z
LAST-MODIFIED:20221205T185111Z
UID:7347-1670436000-1670439600@blackmothersbreastfeeding.org
SUMMARY:Virtual Breastfeeding Club
DESCRIPTION:Join us on zoom every 1st Wednesday of the month for Breastfeeding Club! Please register at least 30 minutes in advance. Text BHUB to 313-332-7108 for registration link.
URL:https://blackmothersbreastfeeding.org/calendar/virtual-breastfeeding-club/
LOCATION:Zoom
CATEGORIES:Breastfeeding Club
ORGANIZER;CN="Erica Davis":MAILTO:ericad@bmbfa.org
END:VEVENT
BEGIN:VEVENT
DTSTART;TZID=America/Detroit:20221206T113000
DTEND;TZID=America/Detroit:20221206T130000
DTSTAMP:20260425T194924
CREATED:20221206T162845Z
LAST-MODIFIED:20221206T163151Z
UID:7352-1670326200-1670331600@blackmothersbreastfeeding.org
SUMMARY:Detroit Precious Ounces of Mothers' Milk
DESCRIPTION:Join us on Tuesdays from 11:30am-1:00pm at the Mckenny Center for our Precious Ounces of Mothers’ Milk Series! Find us on the BMBFA B’Right Hub. Contact Erica Davis at Ericad@bmbfa.org or (517) 285-9718 for questions!
URL:https://blackmothersbreastfeeding.org/calendar/detroit-precious-ounces-of-mothers-milk/
LOCATION:McKenny Center\, 19750 Burt Rd\, Detroit\, Michigan\, 48219
CATEGORIES:Breastfeeding Club,Breastfeeding Information Session
ATTACH;FMTTYPE=image/png:https://blackmothersbreastfeeding.org/wp-content/uploads/2022/12/Screen-Shot-2022-12-06-at-11.22.16-AM-e1670343998714.png
ORGANIZER;CN="Erica Davis":MAILTO:ericad@bmbfa.org
END:VEVENT
BEGIN:VEVENT
DTSTART;TZID=America/Detroit:20221122T113000
DTEND;TZID=America/Detroit:20221122T130000
DTSTAMP:20260425T194924
CREATED:20221031T163555Z
LAST-MODIFIED:20221031T163845Z
UID:7318-1669116600-1669122000@blackmothersbreastfeeding.org
SUMMARY:Precious Ounces of Mothers' Milk Series
DESCRIPTION:Join us at the McKenny Center for the POMM series! Sessions are every Tuesday from 11:30am to 1pm! Find us on the BMBFA B’Right Hub. Contact Erica Davis at Ericad@bmbfa.org or (517) 285-9718 for questions!
URL:https://blackmothersbreastfeeding.org/calendar/precious-ounces-of-mothers-milk-series-3/
LOCATION:McKenny Center\, 19750 Burt Rd\, Detroit\, Michigan\, 48219
CATEGORIES:Breastfeeding Club,Breastfeeding Information Session
ATTACH;FMTTYPE=image/png:https://blackmothersbreastfeeding.org/wp-content/uploads/2022/10/POMM-Series-in-person-e1667233704769.png
ORGANIZER;CN="Erica Davis":MAILTO:ericad@bmbfa.org
END:VEVENT
BEGIN:VEVENT
DTSTART;TZID=America/Detroit:20221115T183000
DTEND;TZID=America/Detroit:20221115T193000
DTSTAMP:20260425T194924
CREATED:20221109T142555Z
LAST-MODIFIED:20221109T142555Z
UID:7340-1668537000-1668540600@blackmothersbreastfeeding.org
SUMMARY:Paid Opportunity for Community-based Doulas
DESCRIPTION:Do you love making a difference in your community? \nAre you excited about impacting maternal & child health outcomes?\nAre you a trained community-based doula who loves supporting mothers and birthing people in Detroit or surrounding areas?   \n\nIf you answered YES! to any of these questions and would like to learn more about this awesome opportunity JOIN US for the Detroit Doula Pilot Program Virtual Info Session.\n\nWhen: Tuesday\, November 15\, 2022\nTime: 6:30PM \nWho: Certified doulas who are intimately connected to Detroit mothers\nWhy: To support Detroit mothers and babies\nWhere: Online (Register for login details)\nRegister: Click Here\n\nIn collaboration with HealthConnect One\, The Doula Network\, and Meridian Heath\, Black Mothers’ Breastfeeding Association (BMBFA) will host an information session for passionate community-based doulas in Detroit and surrounding areas interested in a paid doula initiative. To learn more about the program and how to become matched with pregnant mothers and birthing people to provide prenatal\, labor and postpartum care REGISTER NOW!\n\nIf you have additional questions\, feel free to contact Kiddada Green\, Founding Executive Director at KiddadaG@BMBFA.org. \n\nWe look forward to connecting with you soon!
URL:https://blackmothersbreastfeeding.org/calendar/paid-opportunity-for-community-based-doulas/
LOCATION:Zoom
ATTACH;FMTTYPE=application/pdf:https://blackmothersbreastfeeding.org/wp-content/uploads/2022/11/Paid-Opportunity-.pdf
END:VEVENT
BEGIN:VEVENT
DTSTART;TZID=America/Detroit:20221115T113000
DTEND;TZID=America/Detroit:20221115T130000
DTSTAMP:20260425T194924
CREATED:20221031T163445Z
LAST-MODIFIED:20221031T163445Z
UID:7316-1668511800-1668517200@blackmothersbreastfeeding.org
SUMMARY:Precious Ounces of Mothers' Milk
DESCRIPTION:Join us at the McKenny Center for the POMMS series! Sessions are every Tuesday from 11:30am to 1pm! Find us on the BMBFA B’Right Hub. Contact Erica Davis at Ericad@bmbfa.org or (517) 285-9718 for questions!
URL:https://blackmothersbreastfeeding.org/calendar/precious-ounces-of-mothers-milk-3/
LOCATION:McKenny Center\, 19750 Burt Rd\, Detroit\, Michigan\, 48219
CATEGORIES:Breastfeeding Club,Breastfeeding Information Session
ATTACH;FMTTYPE=image/png:https://blackmothersbreastfeeding.org/wp-content/uploads/2022/10/POMM-Series-in-person-e1667233704769.png
ORGANIZER;CN="Erica Davis":MAILTO:ericad@bmbfa.org
END:VEVENT
BEGIN:VEVENT
DTSTART;TZID=America/Detroit:20221108T113000
DTEND;TZID=America/Detroit:20221108T130000
DTSTAMP:20260425T194924
CREATED:20221031T163136Z
LAST-MODIFIED:20221031T163136Z
UID:7314-1667907000-1667912400@blackmothersbreastfeeding.org
SUMMARY:Precious Ounces of Mothers' Milk
DESCRIPTION:Join us at the McKenny Center for the POMM series! Sessions are every Tuesday from 11:30am to 1pm! Find us on the BMBFA B’Right Hub. Contact Erica Davis at Ericad@bmbfa.org or (517) 285-9718 for questions!
URL:https://blackmothersbreastfeeding.org/calendar/precious-ounces-of-mothers-milk-2/
LOCATION:McKenny Center\, 19750 Burt Rd\, Detroit\, Michigan\, 48219
CATEGORIES:Breastfeeding Club,Breastfeeding Information Session
ATTACH;FMTTYPE=image/png:https://blackmothersbreastfeeding.org/wp-content/uploads/2022/10/POMM-Series-in-person-e1667233704769.png
ORGANIZER;CN="Erica Davis":MAILTO:ericad@bmbfa.org
END:VEVENT
BEGIN:VEVENT
DTSTART;TZID=America/Detroit:20221101T113000
DTEND;TZID=America/Detroit:20221101T130000
DTSTAMP:20260425T194924
CREATED:20221031T162907Z
LAST-MODIFIED:20221031T163814Z
UID:7310-1667302200-1667307600@blackmothersbreastfeeding.org
SUMMARY:Precious Ounces of Mothers' Milk
DESCRIPTION:Join us in-person at the McKenny Center every Tuesday from 11:30am to 1pm! Find us on the BMBFA B’Right Hub. Contact Erica Davis at Ericad@bmbfa.org or (517) 285-9718 for questions!
URL:https://blackmothersbreastfeeding.org/calendar/precious-ounces-of-mothers-milk/
LOCATION:McKenny Center\, 19750 Burt Rd\, Detroit\, Michigan\, 48219
CATEGORIES:Breastfeeding Club,Breastfeeding Information Session
ATTACH;FMTTYPE=image/png:https://blackmothersbreastfeeding.org/wp-content/uploads/2022/10/POMM-Series-in-person-e1667233704769.png
ORGANIZER;CN="Erica Davis":MAILTO:ericad@bmbfa.org
END:VEVENT
BEGIN:VEVENT
DTSTART;TZID=America/Detroit:20221028T173000
DTEND;TZID=America/Detroit:20221028T193000
DTSTAMP:20260425T194924
CREATED:20221005T132459Z
LAST-MODIFIED:20221005T132459Z
UID:7293-1666978200-1666985400@blackmothersbreastfeeding.org
SUMMARY:Black Mothers' Breastfeeding Club Harvest Celebration in the Park
DESCRIPTION:Join us for a harvest celebration and Breastfeeding club in the park! Please register at least 30 minutes in advance. Text BHUB to 313-332-7108 for registration link.
URL:https://blackmothersbreastfeeding.org/calendar/black-mothers-breastfeeding-club-harvest-celebration-in-the-park/
LOCATION:Tuttle Park\, 19976 Stout St.\, Detroit\, MI\, 48219\, United States
CATEGORIES:Breastfeeding Club
ATTACH;FMTTYPE=image/png:https://blackmothersbreastfeeding.org/wp-content/uploads/2022/10/October-2022-Black-Mothers-Breastfeeding-Club-1-e1664976073203.png
ORGANIZER;CN="Erica Davis":MAILTO:ericad@bmbfa.org
END:VEVENT
BEGIN:VEVENT
DTSTART;TZID=America/Detroit:20221011T130000
DTEND;TZID=America/Detroit:20221011T140000
DTSTAMP:20260425T194924
CREATED:20220407T154554Z
LAST-MODIFIED:20220407T154739Z
UID:6596-1665493200-1665496800@blackmothersbreastfeeding.org
SUMMARY:Detroit Community-based Doula Taskforce Meeting
DESCRIPTION:Interested in joining the Detroit Community-based Doula Taskforce? This local task force will meet bi-monthly to coordinate resources and efforts for action toward community-based doula sustainability.
URL:https://blackmothersbreastfeeding.org/calendar/detroit-community-based-taskforce-meeting/
LOCATION:Zoom
CATEGORIES:Professional Development
ORGANIZER;CN="Avonlea Rickerson":MAILTO:avonlear@bmbfa.org
END:VEVENT
BEGIN:VEVENT
DTSTART;TZID=America/Detroit:20221005T180000
DTEND;TZID=America/Detroit:20221005T190000
DTSTAMP:20260425T194924
CREATED:20221005T132145Z
LAST-MODIFIED:20221005T132145Z
UID:7290-1664992800-1664996400@blackmothersbreastfeeding.org
SUMMARY:Virtual Black Mothers' Breastfeeding Club
DESCRIPTION:Join us on zoom every 1st Wednesday of the month for Breastfeeding Club! Please register at least 30 minutes in advance. Text BHUB to 313-332-7108 for registration link.
URL:https://blackmothersbreastfeeding.org/calendar/virtual-black-mothers-breastfeeding-club-4/
LOCATION:Zoom
CATEGORIES:Breastfeeding Club
ATTACH;FMTTYPE=image/png:https://blackmothersbreastfeeding.org/wp-content/uploads/2022/10/October-2022-Black-Mothers-Breastfeeding-Club-1-e1664976073203.png
ORGANIZER;CN="Erica Davis":MAILTO:ericad@bmbfa.org
END:VEVENT
BEGIN:VEVENT
DTSTART;VALUE=DATE:20221003
DTEND;VALUE=DATE:20221006
DTSTAMP:20260425T194924
CREATED:20220728T152021Z
LAST-MODIFIED:20220801T141633Z
UID:6951-1664755200-1665014399@blackmothersbreastfeeding.org
SUMMARY:The Virtual Road Trip: Birth & Breastfeeding Conference
DESCRIPTION:Join us on October 3rd through October 5th for the Virtual Roadtrip! Click here to visit the conference page! \nClick here to sign up for updates!
URL:https://blackmothersbreastfeeding.org/calendar/the-virtual-road-trip-birth-breastfeeding-conference/
CATEGORIES:Professional Development
ATTACH;FMTTYPE=image/png:https://blackmothersbreastfeeding.org/wp-content/uploads/2022/07/Virtual-Roadtrip-2022-Conference--e1659021352657.png
END:VEVENT
BEGIN:VEVENT
DTSTART;TZID=America/Detroit:20220927T160000
DTEND;TZID=America/Detroit:20220927T170000
DTSTAMP:20260425T194924
CREATED:20220816T150153Z
LAST-MODIFIED:20220829T161412Z
UID:7035-1664294400-1664298000@blackmothersbreastfeeding.org
SUMMARY:Precious Ounces of Mothers' Milk Series
DESCRIPTION:Join us in-person at the McKenny Center every Tuesday from 4-5pm! Find us on the BMBFA B’Right Hub. Contact Erica Davis at Ericad@bmbfa.org or (517) 285-9718 for questions!
URL:https://blackmothersbreastfeeding.org/calendar/virtual-precious-ounces-of-mothers-milk-series-5/
LOCATION:McKenny Center\, 19750 Burt Rd\, Detroit\, MI\, 48219\, United States
CATEGORIES:Breastfeeding Club,Breastfeeding Information Session
ATTACH;FMTTYPE=image/png:https://blackmothersbreastfeeding.org/wp-content/uploads/2022/08/POMM-Series-3-1.png
ORGANIZER;CN="Erica Davis":MAILTO:ericad@bmbfa.org
END:VEVENT
BEGIN:VEVENT
DTSTART;TZID=America/Detroit:20220923T180000
DTEND;TZID=America/Detroit:20220923T190000
DTSTAMP:20260425T194924
CREATED:20220913T180912Z
LAST-MODIFIED:20220913T180912Z
UID:7167-1663956000-1663959600@blackmothersbreastfeeding.org
SUMMARY:Black Mothers' Breastfeeding Club @ Tuttle Park
DESCRIPTION:Join us for Breastfeeding club in the park! Please register at least 30 minutes in advance. Text BHUB to 313-332-7108 for registration link.
URL:https://blackmothersbreastfeeding.org/calendar/black-mothers-breastfeeding-club-tuttle-park-3/
LOCATION:Tuttle Park\, 19976 Stout St.\, Detroit\, MI\, 48219\, United States
CATEGORIES:Breastfeeding Club
ATTACH;FMTTYPE=image/jpeg:https://blackmothersbreastfeeding.org/wp-content/uploads/2022/09/September-2022-BMBFC-e1663091906197.jpg
ORGANIZER;CN="Erica Davis":MAILTO:ericad@bmbfa.org
END:VEVENT
BEGIN:VEVENT
DTSTART;TZID=America/Detroit:20220920T160000
DTEND;TZID=America/Detroit:20220920T170000
DTSTAMP:20260425T194924
CREATED:20220816T150033Z
LAST-MODIFIED:20220829T161443Z
UID:7033-1663689600-1663693200@blackmothersbreastfeeding.org
SUMMARY:Precious Ounces of Mothers' Milk Series
DESCRIPTION:Join us in-person at the McKenny Center every Tuesday from 4-5pm! Find us on the BMBFA B’Right Hub. Contact Erica Davis at Ericad@bmbfa.org or (517) 285-9718 for questions!
URL:https://blackmothersbreastfeeding.org/calendar/virtual-precious-ounces-of-mothers-milk-series-4/
LOCATION:McKenny Center\, 19750 Burt Rd\, Detroit\, Michigan\, 48219
CATEGORIES:Breastfeeding Club,Breastfeeding Information Session
ATTACH;FMTTYPE=image/png:https://blackmothersbreastfeeding.org/wp-content/uploads/2022/08/POMM-Series-3-1.png
ORGANIZER;CN="Erica Davis":MAILTO:ericad@bmbfa.org
END:VEVENT
END:VCALENDAR