BEGIN:VCALENDAR
VERSION:2.0
PRODID:-//BMBFA - ECPv6.15.20//NONSGML v1.0//EN
CALSCALE:GREGORIAN
METHOD:PUBLISH
X-WR-CALNAME:BMBFA
X-ORIGINAL-URL:https://blackmothersbreastfeeding.org
X-WR-CALDESC:Events for BMBFA
REFRESH-INTERVAL;VALUE=DURATION:PT1H
X-Robots-Tag:noindex
X-PUBLISHED-TTL:PT1H
BEGIN:VTIMEZONE
TZID:America/Detroit
BEGIN:DAYLIGHT
TZOFFSETFROM:-0500
TZOFFSETTO:-0400
TZNAME:EDT
DTSTART:20220313T070000
END:DAYLIGHT
BEGIN:STANDARD
TZOFFSETFROM:-0400
TZOFFSETTO:-0500
TZNAME:EST
DTSTART:20221106T060000
END:STANDARD
BEGIN:DAYLIGHT
TZOFFSETFROM:-0500
TZOFFSETTO:-0400
TZNAME:EDT
DTSTART:20230312T070000
END:DAYLIGHT
BEGIN:STANDARD
TZOFFSETFROM:-0400
TZOFFSETTO:-0500
TZNAME:EST
DTSTART:20231105T060000
END:STANDARD
BEGIN:DAYLIGHT
TZOFFSETFROM:-0500
TZOFFSETTO:-0400
TZNAME:EDT
DTSTART:20240310T070000
END:DAYLIGHT
BEGIN:STANDARD
TZOFFSETFROM:-0400
TZOFFSETTO:-0500
TZNAME:EST
DTSTART:20241103T060000
END:STANDARD
END:VTIMEZONE
BEGIN:VEVENT
DTSTART;VALUE=DATE:20231128
DTEND;VALUE=DATE:20231129
DTSTAMP:20260425T122720
CREATED:20231025T152226Z
LAST-MODIFIED:20231025T152226Z
UID:8382-1701129600-1701215999@blackmothersbreastfeeding.org
SUMMARY:BMBFA Giving Tuesday
DESCRIPTION:More than 15 years ago\, BMBFA was established with the goal of diminishing racial disparities in breastfeeding assistance for Black families. Today\, the mission endures! This #GivingTuesday\, support us in our mission to #EmpowerChange through your contribution at www.bmbfa.org/donate. Your donation helps bridge gaps and improve lives. Make a difference today ? 
URL:https://blackmothersbreastfeeding.org/calendar/bmbfa-giving-tuesday/
LOCATION:MI
ATTACH;FMTTYPE=image/png:https://blackmothersbreastfeeding.org/wp-content/uploads/2023/10/Copy-of-Giving-Tuesday-Facebook-Banner.png
END:VEVENT
BEGIN:VEVENT
DTSTART;TZID=America/Detroit:20231115T130000
DTEND;TZID=America/Detroit:20231115T140000
DTSTAMP:20260425T122720
CREATED:20230110T203739Z
LAST-MODIFIED:20230110T203739Z
UID:7424-1700053200-1700056800@blackmothersbreastfeeding.org
SUMMARY:Doula Peer Support Group
DESCRIPTION:Interested in the doula peer support group? Click here to register! For more information\, contact Robena Hill via email at RobenaH@bmbfa.org.
URL:https://blackmothersbreastfeeding.org/calendar/doula-peer-support-group-10/
LOCATION:Zoom
CATEGORIES:Doula Support
ORGANIZER;CN="Robena Hill":MAILTO:robenah@bmbfa.org
END:VEVENT
BEGIN:VEVENT
DTSTART;TZID=America/Detroit:20231114T130000
DTEND;TZID=America/Detroit:20231114T140000
DTSTAMP:20260425T122720
CREATED:20230118T182408Z
LAST-MODIFIED:20230118T182408Z
UID:7466-1699966800-1699970400@blackmothersbreastfeeding.org
SUMMARY:Detroit Community-based Doula Taskforce Meeting
DESCRIPTION:Interested in the task force meetings? Click here to register! Meetings are every month on the second Tuesday.
URL:https://blackmothersbreastfeeding.org/calendar/detroit-community-based-doula-taskforce-meeting-14/
LOCATION:Zoom
CATEGORIES:Doula Support
END:VEVENT
BEGIN:VEVENT
DTSTART;TZID=America/Detroit:20231114T113000
DTEND;TZID=America/Detroit:20231114T130000
DTSTAMP:20260425T122720
CREATED:20230510T142805Z
LAST-MODIFIED:20231011T173819Z
UID:7772-1699961400-1699966800@blackmothersbreastfeeding.org
SUMMARY:Precious Ounces of Mothers’ Milk (POMM) Series
DESCRIPTION:Join us at the McKenny Center for the POMM series! Sessions are every Tuesday from 11:30am to 1pm! Find us on the BMBFA B’Right Hub. Contact Erica Davis at Ericad@bmbfa.org or (517) 285-9718 for questions!
URL:https://blackmothersbreastfeeding.org/calendar/precious-ounces-of-mothers-milk-pomm-series-5/
LOCATION:McKenny Center\, 19750 Burt Rd\, Detroit\, Michigan\, 48219
CATEGORIES:Breastfeeding Information Session,Community Breastfeeding Program
ATTACH;FMTTYPE=image/png:https://blackmothersbreastfeeding.org/wp-content/uploads/2023/09/Spring-2023-3.png
ORGANIZER;CN="Erica Davis":MAILTO:ericad@bmbfa.org
END:VEVENT
BEGIN:VEVENT
DTSTART;TZID=America/Detroit:20231026T090000
DTEND;TZID=America/Detroit:20231026T160000
DTSTAMP:20260425T122720
CREATED:20231025T145955Z
LAST-MODIFIED:20231025T145955Z
UID:8378-1698310800-1698336000@blackmothersbreastfeeding.org
SUMMARY:SEMPQIC's first Annual Black Women's Health Summit
DESCRIPTION:The Black Women’s Health Summit will be centered around the impact of Project Detroit: Voices for Life and the community partners. During the Summit\, you will learn how collective impact is creating needed change in Black maternal health through the efforts of Henry Ford Health\, the Detroit Health Department/SisterFriends\, Focus: HOPE\, and Black Mothers Breastfeeding Association. \nThe partners will share the framework and data-driven outcomes of each intervention to inform local agencies on effective measures of change. SEMPQIC is calling it a Summit as it is a Call to Action to address disparities in Black birth outcomes.
URL:https://blackmothersbreastfeeding.org/calendar/sempqics-first-annual-black-womens-health-summit/
LOCATION:Focus HOPE\, 1400 Oakman Blvd\, Detroit\, 48238\, United States
ATTACH;FMTTYPE=image/jpeg:https://blackmothersbreastfeeding.org/wp-content/uploads/2023/10/Image-10-25-23-at-10.59?AM.jpeg
END:VEVENT
BEGIN:VEVENT
DTSTART;TZID=America/Detroit:20231020T043000
DTEND;TZID=America/Detroit:20231020T183000
DTSTAMP:20260425T122720
CREATED:20231006T034755Z
LAST-MODIFIED:20231006T034755Z
UID:8346-1697776200-1697826600@blackmothersbreastfeeding.org
SUMMARY:BMBFC: Harvest Party
DESCRIPTION:We cordially invite you to be part of the festivities at the Black Mothers’ Breastfeeding Club’s Annual Harvest Party. Delight in a fun-filled evening featuring family-friendly activities with a harvest twist\, entertaining games\, and\, most importantly\, fantastic opportunities to connect with breastfeeding individuals and their families. Register HERE \nJoin us on the B’Right Hub!
URL:https://blackmothersbreastfeeding.org/calendar/bmbfc-harvest-party/
LOCATION:Tuttle Park\, 19976 Stout St.\, Detroit\, MI\, 48219\, United States
CATEGORIES:Breastfeeding Club
ATTACH;FMTTYPE=image/png:https://blackmothersbreastfeeding.org/wp-content/uploads/2023/04/harvest-party-2023-2.png
ORGANIZER;CN="Erica Davis":MAILTO:ericad@bmbfa.org
END:VEVENT
BEGIN:VEVENT
DTSTART;TZID=America/Detroit:20231018T130000
DTEND;TZID=America/Detroit:20231018T140000
DTSTAMP:20260425T122720
CREATED:20230110T203453Z
LAST-MODIFIED:20230110T203453Z
UID:7422-1697634000-1697637600@blackmothersbreastfeeding.org
SUMMARY:Doula Peer Support Group
DESCRIPTION:Interested in the doula peer support group? Click here to register! For more information\, contact Robena Hill via email at RobenaH@bmbfa.org.
URL:https://blackmothersbreastfeeding.org/calendar/doula-peer-support-group-9/
LOCATION:Zoom
CATEGORIES:Doula Support
ORGANIZER;CN="Robena Hill":MAILTO:robenah@bmbfa.org
END:VEVENT
BEGIN:VEVENT
DTSTART;TZID=America/Detroit:20231010T130000
DTEND;TZID=America/Detroit:20231010T140000
DTSTAMP:20260425T122720
CREATED:20230118T182304Z
LAST-MODIFIED:20230118T182304Z
UID:7464-1696942800-1696946400@blackmothersbreastfeeding.org
SUMMARY:Detroit Community-based Doula Taskforce Meeting
DESCRIPTION:Interested in the task force meetings? Click here to register! Meetings are every month on the second Tuesday.
URL:https://blackmothersbreastfeeding.org/calendar/detroit-community-based-doula-taskforce-meeting-13/
LOCATION:Zoom
CATEGORIES:Doula Support
END:VEVENT
BEGIN:VEVENT
DTSTART;TZID=America/Detroit:20230920T130000
DTEND;TZID=America/Detroit:20230920T140000
DTSTAMP:20260425T122720
CREATED:20230110T203242Z
LAST-MODIFIED:20230110T203242Z
UID:7420-1695214800-1695218400@blackmothersbreastfeeding.org
SUMMARY:Doula Peer Support Group
DESCRIPTION:Interested in the doula peer support group? Click here to register! For more information\, contact Robena Hill via email at RobenaH@bmbfa.org.
URL:https://blackmothersbreastfeeding.org/calendar/doula-peer-support-group-8/
LOCATION:Zoom
CATEGORIES:Doula Support
ORGANIZER;CN="Robena Hill":MAILTO:robenah@bmbfa.org
END:VEVENT
BEGIN:VEVENT
DTSTART;TZID=America/Detroit:20230912T130000
DTEND;TZID=America/Detroit:20230912T140000
DTSTAMP:20260425T122720
CREATED:20230118T182058Z
LAST-MODIFIED:20230118T182058Z
UID:7462-1694523600-1694527200@blackmothersbreastfeeding.org
SUMMARY:Detroit Community-based Doula Taskforce Meeting
DESCRIPTION:Interested in the task force meetings? Click here to register! Meetings are every month on the second Tuesday.
URL:https://blackmothersbreastfeeding.org/calendar/detroit-community-based-doula-taskforce-meeting-12/
LOCATION:Zoom
CATEGORIES:Doula Support
END:VEVENT
BEGIN:VEVENT
DTSTART;TZID=America/Detroit:20230905T113000
DTEND;TZID=America/Detroit:20230905T130000
DTSTAMP:20260425T122720
CREATED:20230510T143553Z
LAST-MODIFIED:20230814T190125Z
UID:7779-1693913400-1693918800@blackmothersbreastfeeding.org
SUMMARY:Precious Ounces of Mothers’ Milk (POMM) Series
DESCRIPTION:Join us at the McKenny Center for the POMM series! Sessions are every Tuesday from 11:30am to 1pm! Find us on the BMBFA B’Right Hub. Contact Erica Davis at Ericad@bmbfa.org or (517) 285-9718 for questions!
URL:https://blackmothersbreastfeeding.org/calendar/precious-ounces-of-mothers-milk-pomm-series-8/
LOCATION:McKenny Center\, 19750 Burt Rd\, Detroit\, Michigan\, 48219
CATEGORIES:Breastfeeding Information Session,Community Breastfeeding Program
ATTACH;FMTTYPE=image/png:https://blackmothersbreastfeeding.org/wp-content/uploads/2023/05/Spring-2023.png
ORGANIZER;CN="Erica Davis":MAILTO:ericad@bmbfa.org
END:VEVENT
BEGIN:VEVENT
DTSTART;TZID=America/Detroit:20230826T110000
DTEND;TZID=America/Detroit:20230826T150000
DTSTAMP:20260425T122721
CREATED:20230814T190755Z
LAST-MODIFIED:20230814T190845Z
UID:8225-1693047600-1693062000@blackmothersbreastfeeding.org
SUMMARY:Annual Black Mothers' Breastfeeding Summit
DESCRIPTION:This Black Breastfeeding Week\, BMBFA’s annual Black Mothers’ Breastfeeding Summit is back! \nJoin us as we celebrate #BBW23  Saturday\, August 26\, 2023 at 11 AM-3 PM at Sawyer Playground\, 14118 Lyndon St Detroit MI 48227
URL:https://blackmothersbreastfeeding.org/calendar/annual-black-mothers-breastfeeding-summit-2/
LOCATION:Sawyer Playground\, 14118 Lyndon st\, detroit\, MI\, 48227
CATEGORIES:BBW
ATTACH;FMTTYPE=image/png:https://blackmothersbreastfeeding.org/wp-content/uploads/2023/08/1-3.png
ORGANIZER;CN="Aja Burnett":MAILTO:ajab@bmbfa.org
END:VEVENT
BEGIN:VEVENT
DTSTART;TZID=America/Detroit:20230825T170000
DTEND;TZID=America/Detroit:20230825T190000
DTSTAMP:20260425T122721
CREATED:20230825T193818Z
LAST-MODIFIED:20230825T193818Z
UID:8279-1692982800-1692990000@blackmothersbreastfeeding.org
SUMMARY:Capturing Liquid Gold
DESCRIPTION:Capturing Liquid Gold is a conversational gallery event. Five Black breastfeeding mothers will be featured in beautiful imagery that represents their infant feeding journey. Stories from a mom who’s breastfed two children over the past five years\, to an exclusively pumping mom and even more in between. Spend time admiring the exquisite photos while engaging in meaningful conversation on the unique experiences of these five Black women.
URL:https://blackmothersbreastfeeding.org/calendar/capturing-liquid-gold/
LOCATION:Corwell Health\, MI\, United States
ATTACH;FMTTYPE=image/png:https://blackmothersbreastfeeding.org/wp-content/uploads/2023/08/image001.png
ORGANIZER;CN="Rita Little":MAILTO:charita.little@beaumont.org
END:VEVENT
BEGIN:VEVENT
DTSTART;TZID=America/Detroit:20230816T130000
DTEND;TZID=America/Detroit:20230816T140000
DTSTAMP:20260425T122721
CREATED:20230110T201353Z
LAST-MODIFIED:20230110T201353Z
UID:7418-1692190800-1692194400@blackmothersbreastfeeding.org
SUMMARY:Doula Peer Support Group
DESCRIPTION:Interested in the doula peer support group? Click here to register! For more information\, contact Robena Hill via email at RobenaH@bmbfa.org.
URL:https://blackmothersbreastfeeding.org/calendar/doula-peer-support-group-7/
LOCATION:Zoom
CATEGORIES:Doula Support
ORGANIZER;CN="Robena Hill":MAILTO:robenah@bmbfa.org
END:VEVENT
BEGIN:VEVENT
DTSTART;TZID=America/Detroit:20230815T113000
DTEND;TZID=America/Detroit:20230815T130000
DTSTAMP:20260425T122721
CREATED:20230510T143848Z
LAST-MODIFIED:20230814T185723Z
UID:7783-1692099000-1692104400@blackmothersbreastfeeding.org
SUMMARY:Precious Ounces of Mothers’ Milk (POMM) Series
DESCRIPTION:Join us at the McKenny Center for the POMM series! Sessions are every Tuesday from 11:30am to 1pm! Find us on the BMBFA B’Right Hub. Contact Erica Davis at Ericad@bmbfa.org or (517) 285-9718 for questions!
URL:https://blackmothersbreastfeeding.org/calendar/precious-ounces-of-mothers-milk-pomm-series-10/
LOCATION:McKenny Center\, 19750 Burt Rd\, Detroit\, MI\, 48219\, United States
CATEGORIES:Breastfeeding Information Session,Community Breastfeeding Program
ATTACH;FMTTYPE=image/png:https://blackmothersbreastfeeding.org/wp-content/uploads/2023/05/Spring-2023.png
ORGANIZER;CN="Erica Davis":MAILTO:ericad@bmbfa.org
END:VEVENT
BEGIN:VEVENT
DTSTART;TZID=America/Detroit:20230809T093000
DTEND;TZID=America/Detroit:20230809T113000
DTSTAMP:20260425T122721
CREATED:20230802T174557Z
LAST-MODIFIED:20230802T174557Z
UID:8073-1691573400-1691580600@blackmothersbreastfeeding.org
SUMMARY:Doula 101 Watch Party
DESCRIPTION:Black Mothers Breastfeeding Association (BMBFA) and Focus: Hope invite you to attend a live interactive viewing of Doula 101\, presented by Michigan Medicaid Provider Outreach and Provider Support. \nThis webinar will introduce doula providers to the Medicaid basics\, offer an overview of the CHAMPS provider enrollment process\, how to check a patient’s eligibility\, submitting Medicaid fee for service claims\, common claim denials\, and additional resources. \nFirst\, click HERE to register for a Doula 101 session either Wednesday\, August 2 or Wednesday\, August 9. \nThen register HERE for a Watch Party session. \nThis is an opportunity to watch Doula 101 with other doulas\, network\, brainstorm and receive guidance on the Medicaid reimbursement process. \nWe are serving food and we have an opportunity for you to win a new TV! \nWe look forward to seeing you!
URL:https://blackmothersbreastfeeding.org/calendar/doula-101-watch-party/
LOCATION:MI
ATTACH;FMTTYPE=image/png:https://blackmothersbreastfeeding.org/wp-content/uploads/2023/08/Doula-Watch-Party.png
END:VEVENT
BEGIN:VEVENT
DTSTART;TZID=America/Detroit:20230808T130000
DTEND;TZID=America/Detroit:20230808T140000
DTSTAMP:20260425T122721
CREATED:20230118T181939Z
LAST-MODIFIED:20230118T181939Z
UID:7460-1691499600-1691503200@blackmothersbreastfeeding.org
SUMMARY:Detroit Community-based Doula Taskforce Meeting
DESCRIPTION:Interested in the task force meetings? Click here to register! Meetings are every month on the second Tuesday.
URL:https://blackmothersbreastfeeding.org/calendar/detroit-community-based-doula-taskforce-meeting-11/
LOCATION:Zoom
CATEGORIES:Doula Support
END:VEVENT
BEGIN:VEVENT
DTSTART;TZID=America/Detroit:20230802T180000
DTEND;TZID=America/Detroit:20230808T190000
DTSTAMP:20260425T122721
CREATED:20230802T174124Z
LAST-MODIFIED:20230802T174124Z
UID:8070-1690999200-1691521200@blackmothersbreastfeeding.org
SUMMARY:World Breastfeeding Week
DESCRIPTION:Let’s make breastfeeding and work\, work! Join us and the Black Mothers Breastfeeding Association as we celebrate #WorldBreastfeedingWeek with the empowering theme of supporting workplace-related breastfeeding. Together\, we strive to promote practices that enable mothers to nourish their babies while pursuing their careers\, regardless of borders or boundaries. With unwavering strength and unity\, we foster a community that uplifts and empowers working mothers worldwide! ? Join us at our virtual Breastfeeding Club\, August 2nd\, 6PM-7PM register by downloading the BMBFA B’right Hub App in your App Store and join our gathering.
URL:https://blackmothersbreastfeeding.org/calendar/world-breastfeeding-week/
LOCATION:MI
ATTACH;FMTTYPE=image/png:https://blackmothersbreastfeeding.org/wp-content/uploads/2023/08/Join-Us-at-our-virtual-Breastfeeding-Club-August-2nd-6PM-7PM-as-we-celebrate.png
END:VEVENT
BEGIN:VEVENT
DTSTART;VALUE=DATE:20230726
DTEND;VALUE=DATE:20230729
DTSTAMP:20260425T122721
CREATED:20230330T035840Z
LAST-MODIFIED:20230330T035840Z
UID:7626-1690329600-1690588799@blackmothersbreastfeeding.org
SUMMARY:2023 Motown Experience Birth & Breastfeeding Conference
DESCRIPTION:The 2023 Motown Experience: Birth & Breastfeeding Conference\nHollywood Casino Hotel at Greektown | Detroit\, MI\nJuly 26 – 28\, 2023\nLearn more\, register or become a sponsor.\nThe goal of the 2023 Motown Experience: Birth & Breastfeeding Conference is to provide an immersive exploration of Detroit’s maternal-child-health landscape while amplifying local and national efforts to positively impact birth & breastfeeding outcomes for Black families.
URL:https://blackmothersbreastfeeding.org/calendar/2023-motown-experience-birth-breastfeeding-conference/
LOCATION:Hollywood Casino Hotel at Greektown\, 555 East Lafayette\, Detroit\, MI\, 48226\, United States
ORGANIZER;CN="Taylor Mobley":MAILTO:conference@bmbfa.org
END:VEVENT
BEGIN:VEVENT
DTSTART;TZID=America/Detroit:20230711T130000
DTEND;TZID=America/Detroit:20230711T140000
DTSTAMP:20260425T122721
CREATED:20230118T181810Z
LAST-MODIFIED:20230118T181810Z
UID:7458-1689080400-1689084000@blackmothersbreastfeeding.org
SUMMARY:Detroit Community-based Doula Taskforce Meeting
DESCRIPTION:Interested in the task force meetings? Click here to register! Meetings are every month on the second Tuesday.
URL:https://blackmothersbreastfeeding.org/calendar/detroit-community-based-doula-taskforce-meeting-10/
LOCATION:Zoom
CATEGORIES:Doula Support
END:VEVENT
BEGIN:VEVENT
DTSTART;TZID=America/Detroit:20230621T130000
DTEND;TZID=America/Detroit:20230621T140000
DTSTAMP:20260425T122721
CREATED:20230110T200732Z
LAST-MODIFIED:20230110T200732Z
UID:7416-1687352400-1687356000@blackmothersbreastfeeding.org
SUMMARY:Doula Peer Support Group
DESCRIPTION:Interested in the doula peer support group? Click here to register! For more information\, contact Robena Hill via email at RobenaH@bmbfa.org.
URL:https://blackmothersbreastfeeding.org/calendar/doula-peer-support-group-6/
LOCATION:Zoom
CATEGORIES:Doula Support
ORGANIZER;CN="Robena Hill":MAILTO:robenah@bmbfa.org
END:VEVENT
BEGIN:VEVENT
DTSTART;TZID=America/Detroit:20230613T130000
DTEND;TZID=America/Detroit:20230613T140000
DTSTAMP:20260425T122721
CREATED:20230118T181653Z
LAST-MODIFIED:20230118T181653Z
UID:7456-1686661200-1686664800@blackmothersbreastfeeding.org
SUMMARY:Detroit Community-based Doula Taskforce Meeting
DESCRIPTION:Interested in the task force meetings? Click here to register! Meetings are every month on the second Tuesday.
URL:https://blackmothersbreastfeeding.org/calendar/detroit-community-based-doula-taskforce-meeting-9/
LOCATION:Zoom
CATEGORIES:Doula Support
END:VEVENT
BEGIN:VEVENT
DTSTART;TZID=America/Detroit:20230523T113000
DTEND;TZID=America/Detroit:20230523T130000
DTSTAMP:20260425T122721
CREATED:20230510T142923Z
LAST-MODIFIED:20230510T144032Z
UID:7775-1684841400-1684846800@blackmothersbreastfeeding.org
SUMMARY:Precious Ounces of Mothers’ Milk (POMM) Series
DESCRIPTION:Join us at the McKenny Center for the POMM series! Sessions are every Tuesday from 11:30am to 1pm! Find us on the BMBFA B’Right Hub. Contact Erica Davis at Ericad@bmbfa.org or (517) 285-9718 for questions!
URL:https://blackmothersbreastfeeding.org/calendar/precious-ounces-of-mothers-milk-pomm-series-6/
LOCATION:McKenny Center\, 19750 Burt Rd\, Detroit\, Michigan\, 48219
CATEGORIES:Breastfeeding Information Session,Community Breastfeeding Program
ATTACH;FMTTYPE=image/png:https://blackmothersbreastfeeding.org/wp-content/uploads/2023/05/POMM-Spring-2023-2.png
ORGANIZER;CN="Erica Davis":MAILTO:ericad@bmbfa.org
END:VEVENT
BEGIN:VEVENT
DTSTART;TZID=America/Detroit:20230517T130000
DTEND;TZID=America/Detroit:20230517T140000
DTSTAMP:20260425T122721
CREATED:20230110T195953Z
LAST-MODIFIED:20230110T195953Z
UID:7414-1684328400-1684332000@blackmothersbreastfeeding.org
SUMMARY:Doula Peer Support Group
DESCRIPTION:Interested in the doula peer support group? Click here to register! For more information\, contact Robena Hill via email at RobenaH@bmbfa.org.
URL:https://blackmothersbreastfeeding.org/calendar/doula-peer-support-group-5/
LOCATION:Zoom
CATEGORIES:Doula Support
ORGANIZER;CN="Robena Hill":MAILTO:robenah@bmbfa.org
END:VEVENT
BEGIN:VEVENT
DTSTART;TZID=America/Detroit:20230509T130000
DTEND;TZID=America/Detroit:20230509T140000
DTSTAMP:20260425T122721
CREATED:20230118T181600Z
LAST-MODIFIED:20230118T181600Z
UID:7454-1683637200-1683640800@blackmothersbreastfeeding.org
SUMMARY:Detroit Community-based Doula Taskforce Meeting
DESCRIPTION:Interested in the task force meetings? Click here to register! Meetings are every month on the second Tuesday.
URL:https://blackmothersbreastfeeding.org/calendar/detroit-community-based-doula-taskforce-meeting-8/
LOCATION:Zoom
CATEGORIES:Doula Support
END:VEVENT
BEGIN:VEVENT
DTSTART;TZID=America/Detroit:20230419T130000
DTEND;TZID=America/Detroit:20230419T140000
DTSTAMP:20260425T122721
CREATED:20230110T195654Z
LAST-MODIFIED:20230110T195654Z
UID:7412-1681909200-1681912800@blackmothersbreastfeeding.org
SUMMARY:Doula Peer Support Group
DESCRIPTION:Interested in the doula peer support group? Click here to register! For more information\, contact Robena Hill via email at RobenaH@bmbfa.org.
URL:https://blackmothersbreastfeeding.org/calendar/doula-peer-support-group-4/
LOCATION:Zoom
CATEGORIES:Doula Support
ORGANIZER;CN="Robena Hill":MAILTO:robenah@bmbfa.org
END:VEVENT
BEGIN:VEVENT
DTSTART;TZID=America/Detroit:20230411T130000
DTEND;TZID=America/Detroit:20230411T140000
DTSTAMP:20260425T122721
CREATED:20230118T181151Z
LAST-MODIFIED:20230118T181151Z
UID:7449-1681218000-1681221600@blackmothersbreastfeeding.org
SUMMARY:Detroit Community-based Doula Taskforce Meeting
DESCRIPTION:Interested in the task force meetings? Click here to register! Meetings are every month on the second Tuesday.
URL:https://blackmothersbreastfeeding.org/calendar/detroit-community-based-doula-taskforce-meeting-7/
LOCATION:Zoom
CATEGORIES:Doula Support
END:VEVENT
BEGIN:VEVENT
DTSTART;TZID=America/Detroit:20230411T113000
DTEND;TZID=America/Detroit:20230411T130000
DTSTAMP:20260425T122721
CREATED:20230207T012334Z
LAST-MODIFIED:20230401T163814Z
UID:7501-1681212600-1681218000@blackmothersbreastfeeding.org
SUMMARY:Precious Ounces of Mothers Milk
DESCRIPTION:Join us at the McKenny Center for the POMM series! Sessions are every Tuesday from 11:30am to 1pm! Find us on the BMBFA B’Right Hub. Contact Erica Davis at Ericad@bmbfa.org or (517) 285-9718 for questions!
URL:https://blackmothersbreastfeeding.org/calendar/precious-ounces-of-mothers-milk-9/
LOCATION:McKenny Center\, 19750 Burt Rd\, Detroit\, Michigan\, 48219
CATEGORIES:Community Breastfeeding Program
ORGANIZER;CN="Erica Davis":MAILTO:ericad@bmbfa.org
END:VEVENT
BEGIN:VEVENT
DTSTART;TZID=America/Detroit:20230405T180000
DTEND;TZID=America/Detroit:20230405T190000
DTSTAMP:20260425T122721
CREATED:20221220T161958Z
LAST-MODIFIED:20221228T172013Z
UID:7377-1680717600-1680721200@blackmothersbreastfeeding.org
SUMMARY:Virtual Black Mothers' Breastfeeding Club
DESCRIPTION:Have any breastfeeding questions? Join us on the first Wednesday of each month for Breastfeeding Club!  Please register at least 30 minutes in advance.Text IPHONE or ANDROID to 855-495-7979 to get texts from us. Contact Erica at (517) 285-9718 for more information.
URL:https://blackmothersbreastfeeding.org/calendar/virtual-black-mothers-breastfeeding-club-8/
LOCATION:Zoom
CATEGORIES:Breastfeeding Club
ATTACH;FMTTYPE=image/png:https://blackmothersbreastfeeding.org/wp-content/uploads/2022/12/October-2022-Black-Mothers-Breastfeeding-Club-2-e1671552466681.png
ORGANIZER;CN="Erica Davis":MAILTO:ericad@bmbfa.org
END:VEVENT
BEGIN:VEVENT
DTSTART;TZID=America/Detroit:20230404T113000
DTEND;TZID=America/Detroit:20230404T130000
DTSTAMP:20260425T122721
CREATED:20230216T203011Z
LAST-MODIFIED:20230401T163740Z
UID:7526-1680607800-1680613200@blackmothersbreastfeeding.org
SUMMARY:Precious Ounces of Mothers' Milk (POMM) Series
DESCRIPTION:Join us at the McKenny Center for the POMM series! Sessions are every Tuesday from 11:30am to 1pm! Find us on the BMBFA B’Right Hub. Contact Erica Davis at Ericad@bmbfa.org or (517) 285-9718 for questions!
URL:https://blackmothersbreastfeeding.org/calendar/precious-ounces-of-mothers-milk-pomm-series-3/
LOCATION:McKenny Center\, 19750 Burt Rd\, Detroit\, Michigan\, 48219
CATEGORIES:Breastfeeding Information Session,Community Breastfeeding Program
ORGANIZER;CN="Erica Davis":MAILTO:ericad@bmbfa.org
END:VEVENT
END:VCALENDAR