BEGIN:VCALENDAR
VERSION:2.0
PRODID:-//BMBFA - ECPv6.15.20//NONSGML v1.0//EN
CALSCALE:GREGORIAN
METHOD:PUBLISH
X-WR-CALNAME:BMBFA
X-ORIGINAL-URL:https://blackmothersbreastfeeding.org
X-WR-CALDESC:Events for BMBFA
REFRESH-INTERVAL;VALUE=DURATION:PT1H
X-Robots-Tag:noindex
X-PUBLISHED-TTL:PT1H
BEGIN:VTIMEZONE
TZID:America/Detroit
BEGIN:DAYLIGHT
TZOFFSETFROM:-0500
TZOFFSETTO:-0400
TZNAME:EDT
DTSTART:20240310T070000
END:DAYLIGHT
BEGIN:STANDARD
TZOFFSETFROM:-0400
TZOFFSETTO:-0500
TZNAME:EST
DTSTART:20241103T060000
END:STANDARD
BEGIN:DAYLIGHT
TZOFFSETFROM:-0500
TZOFFSETTO:-0400
TZNAME:EDT
DTSTART:20250309T070000
END:DAYLIGHT
BEGIN:STANDARD
TZOFFSETFROM:-0400
TZOFFSETTO:-0500
TZNAME:EST
DTSTART:20251102T060000
END:STANDARD
BEGIN:DAYLIGHT
TZOFFSETFROM:-0500
TZOFFSETTO:-0400
TZNAME:EDT
DTSTART:20260308T070000
END:DAYLIGHT
BEGIN:STANDARD
TZOFFSETFROM:-0400
TZOFFSETTO:-0500
TZNAME:EST
DTSTART:20261101T060000
END:STANDARD
BEGIN:DAYLIGHT
TZOFFSETFROM:-0500
TZOFFSETTO:-0400
TZNAME:EDT
DTSTART:20270314T070000
END:DAYLIGHT
BEGIN:STANDARD
TZOFFSETFROM:-0400
TZOFFSETTO:-0500
TZNAME:EST
DTSTART:20271107T060000
END:STANDARD
END:VTIMEZONE
BEGIN:VEVENT
DTSTART;TZID=America/Detroit:20260415T163000
DTEND;TZID=America/Detroit:20260415T183000
DTSTAMP:20260423T174009
CREATED:20260325T184119Z
LAST-MODIFIED:20260325T184124Z
UID:10400-1776270600-1776277800@blackmothersbreastfeeding.org
SUMMARY:Black Mothers' Breastfeeding Club (In-Person)
DESCRIPTION:Interested in Breastfeeding Club?Breastfeeding Club is a warm\, supportive community for moms who are breastfeeding for the first time\, returning to breastfeeding\, or currently on their journey. This is your safe space to connect with others\, celebrate milestones\, vent about the hard moments\, and ask questions without judgment. \n\n\n\nJoin us every 3rd Wednesday of the month at Westminster Church of Detroit (Parlor Room) from 4:30pm –6:30 PM.Please register at least 30 minutes in advance using our B’Right Hub app.
URL:https://blackmothersbreastfeeding.org/calendar/black-mothers-breastfeeding-club-in-person-4/
LOCATION:Westminster Church of Detroit\, 17567 Hubbell Ave\, Detroit\, MI\, 48235\, United States
ATTACH;FMTTYPE=image/png:https://blackmothersbreastfeeding.org/wp-content/uploads/2026/02/2024-BMBFC-Flyer-Instagram-Post-45-13.png
ORGANIZER;CN="Isha Johnson":MAILTO:Ishaj@bmbfa.org
END:VEVENT
BEGIN:VEVENT
DTSTART;TZID=America/Detroit:20260401T180000
DTEND;TZID=America/Detroit:20260401T190000
DTSTAMP:20260423T174009
CREATED:20260325T184702Z
LAST-MODIFIED:20260325T184706Z
UID:10407-1775066400-1775070000@blackmothersbreastfeeding.org
SUMMARY:Black Mothers Breastfeeding Club (Virtual)
DESCRIPTION:Interested in Virtual Breastfeeding Club?Virtual Breastfeeding Club is a warm\, supportive community for moms\, whether you’re starting your breastfeeding journey\, returning to it\, or currently on it. This is your safe space to connect\, celebrate\, vent\, and ask questions\, just like our in-person meetings. \n\n\n\nJoin us every 1st Wednesday of the month from 6:00–7:00 PM on Zoom.Please register at least 30 minutes in advance using our B’Right Hub app.
URL:https://blackmothersbreastfeeding.org/calendar/black-mothers-breastfeeding-club-virtual-14/
ATTACH;FMTTYPE=image/png:https://blackmothersbreastfeeding.org/wp-content/uploads/2026/02/2024-BMBFC-Flyer-Instagram-Post-45-13.png
ORGANIZER;CN="Isha Johnson":MAILTO:Ishaj@bmbfa.org
END:VEVENT
BEGIN:VEVENT
DTSTART;TZID=America/Detroit:20260326T180000
DTEND;TZID=America/Detroit:20260326T200000
DTSTAMP:20260423T174009
CREATED:20250429T164718Z
LAST-MODIFIED:20260310T181613Z
UID:9602-1774548000-1774555200@blackmothersbreastfeeding.org
SUMMARY:Open House & World Doula Week Appreciation
DESCRIPTION:Let’s get ready for a sweet time! BMBFA is thrilled to invite you to our Open House & Doula Appreciation celebration! \n\n\n\nDate: Thursday\, March 26\, 2026Time: 6:00 PM – 8:00 PMLocation: Westminster Church\, 17567 Hubbell Ave\, Detroit\, MI  48235 \n\n\n\nLearn about our Birth & Breastfeeding Leadership Institute\, meet our amazing Doulas and Breastfeeding Peer Counselors\, explore our programs\, and enjoy:MusicFoodGiveawaysFamily fun…and so much more! \n\n\n\nRegistration is FREE\, but pre-registration is required.Don’t wait\, secure your spot today! \n\n\n\n\n\n\n\n\nRegister Now
URL:https://blackmothersbreastfeeding.org/calendar/open-house-mothers-day-event/
LOCATION:Westminster Church of Detroit\, 17567 Hubbell Ave\, Detroit\, MI\, 48235\, United States
ATTACH;FMTTYPE=image/png:https://blackmothersbreastfeeding.org/wp-content/uploads/2025/04/Open-House-Mothers-Day-Event-1.png
END:VEVENT
BEGIN:VEVENT
DTSTART;TZID=America/Detroit:20260318T163000
DTEND;TZID=America/Detroit:20260318T183000
DTSTAMP:20260423T174009
CREATED:20260223T195517Z
LAST-MODIFIED:20260223T195812Z
UID:10339-1773851400-1773858600@blackmothersbreastfeeding.org
SUMMARY:Black Mothers' Breastfeeding Club (In-Person)
DESCRIPTION:Interested in Breastfeeding Club?Breastfeeding Club is a warm\, supportive community for moms who are breastfeeding for the first time\, returning to breastfeeding\, or currently on their journey. This is your safe space to connect with others\, celebrate milestones\, vent about the hard moments\, and ask questions without judgment. \n\n\n\nJoin us every 3rd Friday of the month at Westminster Church of Detroit (Parlor Room) from 4:30pm –6:30 PM.Please register at least 30 minutes in advance using our B’Right Hub app.
URL:https://blackmothersbreastfeeding.org/calendar/black-mothers-breastfeeding-club-109/
LOCATION:Westminster Church of Detroit\, 17567 Hubbell Ave\, Detroit\, MI\, 48235\, United States
ATTACH;FMTTYPE=image/png:https://blackmothersbreastfeeding.org/wp-content/uploads/2026/02/2024-BMBFC-Flyer-Instagram-Post-45-13.png
ORGANIZER;CN="Isha Johnson":MAILTO:Ishaj@bmbfa.org
END:VEVENT
BEGIN:VEVENT
DTSTART;TZID=America/Detroit:20260304T180000
DTEND;TZID=America/Detroit:20260304T190000
DTSTAMP:20260423T174009
CREATED:20260223T200550Z
LAST-MODIFIED:20260223T200556Z
UID:10346-1772647200-1772650800@blackmothersbreastfeeding.org
SUMMARY:Black Mothers Breastfeeding Club (Virtual)
DESCRIPTION:Interested in Virtual Breastfeeding Club?Virtual Breastfeeding Club is a warm\, supportive community for moms\, whether you’re starting your breastfeeding journey\, returning to it\, or currently on it. This is your safe space to connect\, celebrate\, vent\, and ask questions\, just like our in-person meetings. \n\n\n\nJoin us every 1st Wednesday of the month from 6:00–7:00 PM on Zoom.Please register at least 30 minutes in advance using our B’Right Hub app.
URL:https://blackmothersbreastfeeding.org/calendar/black-mothers-breastfeeding-club-virtual-13/
ATTACH;FMTTYPE=image/png:https://blackmothersbreastfeeding.org/wp-content/uploads/2026/02/2024-BMBFC-Flyer-Instagram-Post-45-13.png
ORGANIZER;CN="Isha Johnson":MAILTO:Ishaj@bmbfa.org
END:VEVENT
BEGIN:VEVENT
DTSTART;TZID=America/Detroit:20251219T163000
DTEND;TZID=America/Detroit:20251219T183000
DTSTAMP:20260423T174009
CREATED:20251002T161806Z
LAST-MODIFIED:20251216T195238Z
UID:10156-1766161800-1766169000@blackmothersbreastfeeding.org
SUMMARY:Black Mothers Breastfeeding Club                (In-Person)
DESCRIPTION:Interested in Breastfeeding club?  Join us at Westminster Church Parlor Room\, every 3rd Friday of the month at 4:30-6:30pm! Please register at least 30 minutes in advance using our B’Right Hub app.
URL:https://blackmothersbreastfeeding.org/calendar/black-mothers-breastfeeding-club-in-person-5/
ATTACH;FMTTYPE=image/png:https://blackmothersbreastfeeding.org/wp-content/uploads/2025/10/2024-BMBFC-Flyer-Instagram-Post-45-7.png
END:VEVENT
BEGIN:VEVENT
DTSTART;TZID=America/Detroit:20251203T180000
DTEND;TZID=America/Detroit:20251203T190000
DTSTAMP:20260423T174009
CREATED:20251002T163451Z
LAST-MODIFIED:20251002T163456Z
UID:10164-1764784800-1764788400@blackmothersbreastfeeding.org
SUMMARY:Black Mothers Breastfeeding Club (Virtual)
DESCRIPTION:Interested in Breastfeeding club? Join us on Zoom\, every 1st Wednesday of the month from 6:00-7:00pm! Please register at least 30 minutes in advance using our B’Right Hub app.
URL:https://blackmothersbreastfeeding.org/calendar/black-mothers-breastfeeding-club-virtual-12/
ATTACH;FMTTYPE=image/png:https://blackmothersbreastfeeding.org/wp-content/uploads/2025/10/2-2.png
END:VEVENT
BEGIN:VEVENT
DTSTART;TZID=America/Detroit:20251126T113000
DTEND;TZID=America/Detroit:20251126T130000
DTSTAMP:20260423T174009
CREATED:20251007T142655Z
LAST-MODIFIED:20251007T145420Z
UID:10191-1764156600-1764162000@blackmothersbreastfeeding.org
SUMMARY:B.L.I.S.S
DESCRIPTION:Birthing\, Lactating\, Inspiring\, & Supporting SeriesLearn about birth & breastfeeding\, tackle challenges\, involve your family\, and access helpful resources! \n\n\n\nRegister through our Bright Hub app to attend.Questions? Contact Program Manager Kimberly Price.
URL:https://blackmothersbreastfeeding.org/calendar/b-l-i-s-s-40/
ATTACH;FMTTYPE=image/png:https://blackmothersbreastfeeding.org/wp-content/uploads/2025/05/BLISS-BD-2-1.png
END:VEVENT
BEGIN:VEVENT
DTSTART;TZID=America/Detroit:20251119T113000
DTEND;TZID=America/Detroit:20251119T130000
DTSTAMP:20260423T174009
CREATED:20251003T152123Z
LAST-MODIFIED:20251003T152127Z
UID:10181-1763551800-1763557200@blackmothersbreastfeeding.org
SUMMARY:B.L.I.S.S
DESCRIPTION:Birthing\, Lactating\, Inspiring\, & Supporting SeriesLearn about birth & breastfeeding\, tackle challenges\, involve your family\, and access helpful resources! \n\n\n\nRegister through our Bright Hub app to attend.Questions? Contact Program Manager Kimberly Price.
URL:https://blackmothersbreastfeeding.org/calendar/b-l-i-s-s-39/
ATTACH;FMTTYPE=image/png:https://blackmothersbreastfeeding.org/wp-content/uploads/2025/05/BLISS-BD-2-1.png
END:VEVENT
BEGIN:VEVENT
DTSTART;TZID=America/Detroit:20251112T113000
DTEND;TZID=America/Detroit:20251112T130000
DTSTAMP:20260423T174009
CREATED:20251003T151819Z
LAST-MODIFIED:20251003T151823Z
UID:10179-1762947000-1762952400@blackmothersbreastfeeding.org
SUMMARY:B.L.I.S.S
DESCRIPTION:Birthing\, Lactating\, Inspiring\, & Supporting SeriesLearn about birth & breastfeeding\, tackle challenges\, involve your family\, and access helpful resources! \n\n\n\nRegister through our Bright Hub app to attend.Questions? Contact Program Manager Kimberly Price.
URL:https://blackmothersbreastfeeding.org/calendar/b-l-i-s-s-38/
ATTACH;FMTTYPE=image/png:https://blackmothersbreastfeeding.org/wp-content/uploads/2025/05/BLISS-BD-2-1.png
END:VEVENT
BEGIN:VEVENT
DTSTART;TZID=America/Detroit:20251105T173000
DTEND;TZID=America/Detroit:20251105T183000
DTSTAMP:20260423T174009
CREATED:20251002T163021Z
LAST-MODIFIED:20251104T210015Z
UID:10162-1762363800-1762367400@blackmothersbreastfeeding.org
SUMMARY:Black Mothers Breastfeeding Club- In Person
DESCRIPTION:Heads up! Our virtual club meeting scheduled for Wednesday\, November 5th\, has been moved to a special IN-PERSON EVENT! \n\n\n\n\nWhen: Wednesday\, November 5th\, 5:30 PM – 7:30 PM\n\n\n\nWhere: Westminster Church of Detroit\, 17567 Hubbell Ave Suite 149\, Detroit\, MI 48235\n\n\n\nImportant Note: We will be filming this session\, so please come camera ready!\n\n\n\n\nThis special event replaces the virtual meeting originally planned for this date.
URL:https://blackmothersbreastfeeding.org/calendar/black-mothers-breastfeeding-club-virtual-11/
ATTACH;FMTTYPE=image/png:https://blackmothersbreastfeeding.org/wp-content/uploads/2025/10/2024-BMBFC-Flyer-Instagram-Post-45-4.png
END:VEVENT
BEGIN:VEVENT
DTSTART;TZID=America/Detroit:20251105T113000
DTEND;TZID=America/Detroit:20251105T130000
DTSTAMP:20260423T174009
CREATED:20251003T151555Z
LAST-MODIFIED:20251003T151600Z
UID:10177-1762342200-1762347600@blackmothersbreastfeeding.org
SUMMARY:B.L.I.S.S
DESCRIPTION:Birthing\, Lactating\, Inspiring\, & Supporting SeriesLearn about birth & breastfeeding\, tackle challenges\, involve your family\, and access helpful resources! \n\n\n\nRegister through our Bright Hub app to attend.Questions? Contact Program Manager Kimberly Price.
URL:https://blackmothersbreastfeeding.org/calendar/b-l-i-s-s-37/
END:VEVENT
BEGIN:VEVENT
DTSTART;TZID=America/Detroit:20251029T113000
DTEND;TZID=America/Detroit:20251029T130000
DTSTAMP:20260423T174009
CREATED:20251002T171635Z
LAST-MODIFIED:20251002T171639Z
UID:10175-1761737400-1761742800@blackmothersbreastfeeding.org
SUMMARY:B.L.I.S.S
DESCRIPTION:Birthing\, Lactating\, Inspiring\, & Supporting SeriesLearn about birth & breastfeeding\, tackle challenges\, involve your family\, and access helpful resources! \n\n\n\nRegister through our Bright Hub app to attend.Questions? Contact Program Manager Kimberly Price.
URL:https://blackmothersbreastfeeding.org/calendar/b-l-i-s-s-36/
ATTACH;FMTTYPE=image/png:https://blackmothersbreastfeeding.org/wp-content/uploads/2025/05/BLISS-BD-2-1.png
END:VEVENT
BEGIN:VEVENT
DTSTART;TZID=America/Detroit:20251022T113000
DTEND;TZID=America/Detroit:20251022T130000
DTSTAMP:20260423T174009
CREATED:20251002T170720Z
LAST-MODIFIED:20251002T170724Z
UID:10173-1761132600-1761138000@blackmothersbreastfeeding.org
SUMMARY:B.L.I.S.S
DESCRIPTION:Birthing\, Lactating\, Inspiring\, & Supporting SeriesLearn about birth & breastfeeding\, tackle challenges\, involve your family\, and access helpful resources! \n\n\n\nRegister through our Bright Hub app to attend.Questions? Contact Program Manager Kimberly Price.
URL:https://blackmothersbreastfeeding.org/calendar/b-l-i-s-s-35/
ATTACH;FMTTYPE=image/png:https://blackmothersbreastfeeding.org/wp-content/uploads/2025/05/BLISS-BD-2-1.png
END:VEVENT
BEGIN:VEVENT
DTSTART;TZID=America/Detroit:20251021T093000
DTEND;TZID=America/Detroit:20251021T113000
DTSTAMP:20260423T174009
CREATED:20251006T204450Z
LAST-MODIFIED:20251006T204755Z
UID:10186-1761039000-1761046200@blackmothersbreastfeeding.org
SUMMARY:Community-Based Doula Training Informational Session: Cohort 10
DESCRIPTION:Interested in becoming a Community-Based Doula with BMBFA’s 2025 Cohort 10? \n\n\n\nAttendance at this informational session is required as part of the application process. \n\n\n\nDuring the session\, you’ll learn about: \n\n\n\n\nThe requirements and expectations for Cohort 10\n\n\n\nThe application and interview process\n\n\n\nProvided materials and general course topics\n\n\n\n\nFor more information\, contact Mackenzie Currie. at mackenziec@bmbfa.org. \n\n\n\n\n\n\n\nRegister (Free) for the 2025 CBD Cohort 10 Informational Session
URL:https://blackmothersbreastfeeding.org/calendar/community-based-doula-training-informational-session-cohort-10-2/
LOCATION:McKenny Center\, 19750 Burt Rd\, Detroit\, Michigan\, 48219\, United States
ATTACH;FMTTYPE=image/png:https://blackmothersbreastfeeding.org/wp-content/uploads/2024/03/2025-Cohorts.png
ORGANIZER;CN="Black Mothers&#8217%3B Breastfeeding Association":MAILTO:info@bmbfa.org
END:VEVENT
BEGIN:VEVENT
DTSTART;TZID=America/Detroit:20251017T163000
DTEND;TZID=America/Detroit:20251017T183000
DTSTAMP:20260423T174009
CREATED:20250922T140135Z
LAST-MODIFIED:20250930T124406Z
UID:10122-1760718600-1760725800@blackmothersbreastfeeding.org
SUMMARY:Harvest Festival
DESCRIPTION:Join us for Harvest Fest & the Last Outdoor Breastfeeding Club of the Season! Enjoy fall-themed activities\, family fun\, and community connection while celebrating our final outdoor gathering of the year. Bring your chairs\, blankets\, little ones\, and loved ones for an afternoon of support\, laughter\, and harvest joy.
URL:https://blackmothersbreastfeeding.org/calendar/harvest-festival/
LOCATION:Curtis Jones Park\, 1941 Ferry Park St.\, Detroit\, Michigan\, 48208\, United States
ATTACH;FMTTYPE=image/png:https://blackmothersbreastfeeding.org/wp-content/uploads/2025/09/Harvest-fest-flyer.png
END:VEVENT
BEGIN:VEVENT
DTSTART;TZID=America/Detroit:20251015T113000
DTEND;TZID=America/Detroit:20251015T130000
DTSTAMP:20260423T174009
CREATED:20251002T170309Z
LAST-MODIFIED:20251002T170316Z
UID:10171-1760527800-1760533200@blackmothersbreastfeeding.org
SUMMARY:B.L.I.S.S
DESCRIPTION:Birthing\, Lactating\, Inspiring\, & Supporting SeriesLearn about birth & breastfeeding\, tackle challenges\, involve your family\, and access helpful resources! \n\n\n\nRegister through our Bright Hub app to attend.Questions? Contact Program Manager Kimberly Price.
URL:https://blackmothersbreastfeeding.org/calendar/b-l-i-s-s-34/
ATTACH;FMTTYPE=image/png:https://blackmothersbreastfeeding.org/wp-content/uploads/2025/05/BLISS-BD-2-1.png
END:VEVENT
BEGIN:VEVENT
DTSTART;TZID=America/Detroit:20251008T003000
DTEND;TZID=America/Detroit:20251008T130000
DTSTAMP:20260423T174009
CREATED:20251002T165428Z
LAST-MODIFIED:20251002T165458Z
UID:10168-1759883400-1759928400@blackmothersbreastfeeding.org
SUMMARY:B.L.I.S.S
DESCRIPTION:Birthing\, Lactating\, Inspiring\, & Supporting SeriesLearn about birth & breastfeeding\, tackle challenges\, involve your family\, and access helpful resources! \n\n\n\nRegister through our Bright Hub app to attend.Questions? Contact Program Manager Kimberly Price.
URL:https://blackmothersbreastfeeding.org/calendar/b-l-i-s-s-33/
ATTACH;FMTTYPE=image/png:https://blackmothersbreastfeeding.org/wp-content/uploads/2025/05/BLISS-BD-2-1.png
END:VEVENT
BEGIN:VEVENT
DTSTART;TZID=America/Detroit:20251001T180000
DTEND;TZID=America/Detroit:20251001T190000
DTSTAMP:20260423T174009
CREATED:20251002T162828Z
LAST-MODIFIED:20251002T162834Z
UID:10160-1759341600-1759345200@blackmothersbreastfeeding.org
SUMMARY:Black Mothers Breastfeeding Club (Virtual)
DESCRIPTION:Interested in Breastfeeding club? Join us on Zoom\, every 1st Wednesday of the month from 6:00-7:00pm! Please register at least 30 minutes in advance using our B’Right Hub app.
URL:https://blackmothersbreastfeeding.org/calendar/black-mothers-breastfeeding-club-virtual-10/
ATTACH;FMTTYPE=image/png:https://blackmothersbreastfeeding.org/wp-content/uploads/2025/10/2-2.png
END:VEVENT
BEGIN:VEVENT
DTSTART;TZID=America/Detroit:20250925T180000
DTEND;TZID=America/Detroit:20250925T210000
DTSTAMP:20260423T174009
CREATED:20250904T163942Z
LAST-MODIFIED:20250904T163949Z
UID:10007-1758823200-1758834000@blackmothersbreastfeeding.org
SUMMARY:An Evening of Art\, Soul & Legacy with Lauren J. Turner
DESCRIPTION:Celebrate culture and community through soulful art and storytelling by renowned artist Lauren J. Turner. This unforgettable night will not only showcase her powerful artistry\, but also celebrate the history and legacy of Black Mothers’ Breastfeeding Association.
URL:https://blackmothersbreastfeeding.org/calendar/an-evening-of-art-soul-legacy-with-lauren-j-turner/
LOCATION:Hollywood Casino Hotel at Greektown\, 555 East Lafayette\, Detroit\, MI\, 48226\, United States
ATTACH;FMTTYPE=image/png:https://blackmothersbreastfeeding.org/wp-content/uploads/2025/09/IG-POST-Dinner-Entertainment-reveal.png
ORGANIZER;CN="BMBFA Conference Planning Committee":MAILTO:conference@bmbfa.org
END:VEVENT
BEGIN:VEVENT
DTSTART;TZID=America/Detroit:20250924T120000
DTEND;TZID=America/Detroit:20250924T140000
DTSTAMP:20260423T174009
CREATED:20250904T161721Z
LAST-MODIFIED:20250904T163142Z
UID:10000-1758715200-1758722400@blackmothersbreastfeeding.org
SUMMARY:Black Breastfeeding Caucus Luncheon
DESCRIPTION:Kick off The 2025 Motown Experience with the Black Breastfeeding Caucus Luncheon: an open-to-the-public space for community\, strategy\, and action.This is more than a luncheon; it’s where the work begins. Seats are limited\, Secure yours today!
URL:https://blackmothersbreastfeeding.org/calendar/black-breastfeeding-caucus-luncheon/
LOCATION:Hollywood Casino Hotel at Greektown\, 555 East Lafayette\, Detroit\, MI\, 48226\, United States
ATTACH;FMTTYPE=image/png:https://blackmothersbreastfeeding.org/wp-content/uploads/2025/09/bbc.png
ORGANIZER;CN="BMBFA Conference Planning Committee":MAILTO:conference@bmbfa.org
END:VEVENT
BEGIN:VEVENT
DTSTART;TZID=America/Detroit:20250924T080000
DTEND;TZID=America/Detroit:20250926T170000
DTSTAMP:20260423T174009
CREATED:20250717T212443Z
LAST-MODIFIED:20250718T142616Z
UID:9900-1758700800-1758906000@blackmothersbreastfeeding.org
SUMMARY:The 2025 Motown Experience: Birth & Breastfeeding Conference
DESCRIPTION:Join us for an immersive 3-day experience like no other! The Motown Experience is more than a conference – it is a celebration\, a learning platform\, and a call to action. This powerful event is designed to amplify local efforts to improve birth and breastfeeding outcomes for Black families\, with Detroit’s vibrant culture and community as our backdrop.
URL:https://blackmothersbreastfeeding.org/calendar/the-2025-motown-experience-birth-breastfeeding-conference/
LOCATION:Hollywood Casino Hotel at Greektown\, 555 East Lafayette\, Detroit\, MI\, 48226\, United States
ATTACH;FMTTYPE=image/png:https://blackmothersbreastfeeding.org/wp-content/uploads/2025/07/Whova-Event-Logo.png
END:VEVENT
BEGIN:VEVENT
DTSTART;TZID=America/Detroit:20250919T163000
DTEND;TZID=America/Detroit:20250919T183000
DTSTAMP:20260423T174009
CREATED:20250513T191937Z
LAST-MODIFIED:20250825T145413Z
UID:9680-1758299400-1758306600@blackmothersbreastfeeding.org
SUMMARY:BMBFC(In-Person)
DESCRIPTION:Join us for our special In the Park series at Curtis Jones Park! We meet every 3rd* Friday of the month from 4:30–6:30 PM. \n\n\n\nCome for connection\, community\, and support\, all in the fresh air!Please register on the B’Right Hub app at least 30 minutes in advance.
URL:https://blackmothersbreastfeeding.org/calendar/bmbfcin-person-4/
LOCATION:Curtis Jones Park\, 1941 Ferry Park St.\, Detroit\, Michigan\, 48208\, United States
ATTACH;FMTTYPE=image/png:https://blackmothersbreastfeeding.org/wp-content/uploads/2025/05/updated-7.png
END:VEVENT
BEGIN:VEVENT
DTSTART;TZID=America/Detroit:20250917T113000
DTEND;TZID=America/Detroit:20250917T130000
DTSTAMP:20260423T174009
CREATED:20250514T152917Z
LAST-MODIFIED:20250825T145156Z
UID:9746-1758108600-1758114000@blackmothersbreastfeeding.org
SUMMARY:B.L.I.S.S
DESCRIPTION:Birthing\, Lactating\, Inspiring\, & Supporting SeriesLearn about birth & breastfeeding\, tackle challenges\, involve your family\, and access helpful resources! \n\n\n\nRegister through our Bright Hub app to attend.Questions? Contact Program Manager Kimberly Price.
URL:https://blackmothersbreastfeeding.org/calendar/b-l-i-s-s-31/
LOCATION:McKenny Center\, 19750 Burt Rd\, Detroit\, Michigan\, 48219
ATTACH;FMTTYPE=image/png:https://blackmothersbreastfeeding.org/wp-content/uploads/2025/05/BLISS-BD-2.png
END:VEVENT
BEGIN:VEVENT
DTSTART;TZID=America/Detroit:20250910T113000
DTEND;TZID=America/Detroit:20250910T130000
DTSTAMP:20260423T174009
CREATED:20250514T152643Z
LAST-MODIFIED:20250825T144613Z
UID:9744-1757503800-1757509200@blackmothersbreastfeeding.org
SUMMARY:B.L.I.S.S
DESCRIPTION:Birthing\, Lactating\, Inspiring\, & Supporting SeriesLearn about birth & breastfeeding\, tackle challenges\, involve your family\, and access helpful resources! \n\n\n\nRegister through our Bright Hub app to attend.Questions? Contact Program Manager Kimberly Price.
URL:https://blackmothersbreastfeeding.org/calendar/b-l-i-s-s-30/
LOCATION:McKenny Center\, 19750 Burt Rd\, Detroit\, Michigan\, 48219
ATTACH;FMTTYPE=image/png:https://blackmothersbreastfeeding.org/wp-content/uploads/2025/05/BLISS-BD-2-1.png
END:VEVENT
BEGIN:VEVENT
DTSTART;TZID=America/Detroit:20250903T180000
DTEND;TZID=America/Detroit:20250903T190000
DTSTAMP:20260423T174009
CREATED:20250513T200128Z
LAST-MODIFIED:20250825T143527Z
UID:9687-1756922400-1756926000@blackmothersbreastfeeding.org
SUMMARY:BMBFC (Virtual)
DESCRIPTION:Interested in a Breastfeeding club? Join us on Zoom\, every 1st Wednesday of the month from 6-7 pm! Please register on the B’Right Hub app at least 30 minutes in advance.
URL:https://blackmothersbreastfeeding.org/calendar/bmbfc-virtual-7/
LOCATION:Zoom
ATTACH;FMTTYPE=image/png:https://blackmothersbreastfeeding.org/wp-content/uploads/2025/05/updated-7.png
END:VEVENT
BEGIN:VEVENT
DTSTART;TZID=America/Detroit:20250903T113000
DTEND;TZID=America/Detroit:20250903T130000
DTSTAMP:20260423T174009
CREATED:20250514T152507Z
LAST-MODIFIED:20250825T143116Z
UID:9742-1756899000-1756904400@blackmothersbreastfeeding.org
SUMMARY:B.L.I.S.S
DESCRIPTION:Birthing\, Lactating\, Inspiring\, & Supporting SeriesLearn about birth & breastfeeding\, tackle challenges\, involve your family\, and access helpful resources! \n\n\n\nRegister through our Bright Hub app to attend.Questions? Contact Program Manager Kimberly Price.
URL:https://blackmothersbreastfeeding.org/calendar/b-l-i-s-s-29/
LOCATION:McKenny Center\, 19750 Burt Rd\, Detroit\, Michigan\, 48219
ATTACH;FMTTYPE=image/png:https://blackmothersbreastfeeding.org/wp-content/uploads/2025/05/BLISS-BD-2-1.png
END:VEVENT
BEGIN:VEVENT
DTSTART;TZID=America/Detroit:20250830T110000
DTEND;TZID=America/Detroit:20250830T140000
DTSTAMP:20260423T174009
CREATED:20250825T151740Z
LAST-MODIFIED:20250825T151745Z
UID:9963-1756551600-1756562400@blackmothersbreastfeeding.org
SUMMARY:Annual Black Mothers Breastfeeding Summit
DESCRIPTION:Join us for the Annual Black Mothers Breastfeeding Summit at the Buffalo Soldiers Heritage Association!A celebration for being Rooted in Breastfeeding Success\, and Grounded in Community Support! \n\n\n\nLive DJ • Horseback Riding • Panel + Q&A • Games • Food • GiveawaysRegister Now  at bmbfa.org/bbw2025
URL:https://blackmothersbreastfeeding.org/calendar/annual-black-mothers-breastfeeding-summit-3/
LOCATION:Buffalo Soldiers Heritage Association\, 8886 Lasher Rd\, Detroit\, Michigan\, 48239\, United States
ATTACH;FMTTYPE=image/png:https://blackmothersbreastfeeding.org/wp-content/uploads/2025/08/Open-House-Mothers-Day-Event-4.png
END:VEVENT
BEGIN:VEVENT
DTSTART;TZID=America/Detroit:20250827T113000
DTEND;TZID=America/Detroit:20250827T130000
DTSTAMP:20260423T174009
CREATED:20250514T151012Z
LAST-MODIFIED:20250825T141932Z
UID:9740-1756294200-1756299600@blackmothersbreastfeeding.org
SUMMARY:B.L.I.S.S
DESCRIPTION:Birthing\, Lactating\, Inspiring\, & Supporting SeriesLearn about birth & breastfeeding\, tackle challenges\, involve your family\, and access helpful resources! \n\n\n\nRegister through our Bright Hub app to attend.Questions? Contact Program Manager Kimberly Price.
URL:https://blackmothersbreastfeeding.org/calendar/b-l-i-s-s-28/
LOCATION:McKenny Center\, 19750 Burt Rd\, Detroit\, Michigan\, 48219
ATTACH;FMTTYPE=image/png:https://blackmothersbreastfeeding.org/wp-content/uploads/2025/05/BLISS-BD-2.png
END:VEVENT
BEGIN:VEVENT
DTSTART;TZID=America/Detroit:20250820T113000
DTEND;TZID=America/Detroit:20250820T130000
DTSTAMP:20260423T174009
CREATED:20250514T144808Z
LAST-MODIFIED:20250514T144812Z
UID:9721-1755689400-1755694800@blackmothersbreastfeeding.org
SUMMARY:B.L.I.S.S
DESCRIPTION:Birthing\, Lactating\, Inspiring\, & Supporting Series. Anything you want to know about birth & breastfeeding! Breastfeeding challenges and solutions. Learn how to involve your whole family. Resources and more! Questions? Contact Program Manager Kimberly Price.
URL:https://blackmothersbreastfeeding.org/calendar/b-l-i-s-s-27/
LOCATION:McKenny Center\, 19750 Burt Rd\, Detroit\, Michigan\, 48219
END:VEVENT
END:VCALENDAR