BEGIN:VCALENDAR
VERSION:2.0
PRODID:-//BMBFA - ECPv6.15.20//NONSGML v1.0//EN
CALSCALE:GREGORIAN
METHOD:PUBLISH
X-ORIGINAL-URL:https://blackmothersbreastfeeding.org
X-WR-CALDESC:Events for BMBFA
REFRESH-INTERVAL;VALUE=DURATION:PT1H
X-Robots-Tag:noindex
X-PUBLISHED-TTL:PT1H
BEGIN:VTIMEZONE
TZID:America/Detroit
BEGIN:DAYLIGHT
TZOFFSETFROM:-0500
TZOFFSETTO:-0400
TZNAME:EDT
DTSTART:20220313T070000
END:DAYLIGHT
BEGIN:STANDARD
TZOFFSETFROM:-0400
TZOFFSETTO:-0500
TZNAME:EST
DTSTART:20221106T060000
END:STANDARD
BEGIN:DAYLIGHT
TZOFFSETFROM:-0500
TZOFFSETTO:-0400
TZNAME:EDT
DTSTART:20230312T070000
END:DAYLIGHT
BEGIN:STANDARD
TZOFFSETFROM:-0400
TZOFFSETTO:-0500
TZNAME:EST
DTSTART:20231105T060000
END:STANDARD
BEGIN:DAYLIGHT
TZOFFSETFROM:-0500
TZOFFSETTO:-0400
TZNAME:EDT
DTSTART:20240310T070000
END:DAYLIGHT
BEGIN:STANDARD
TZOFFSETFROM:-0400
TZOFFSETTO:-0500
TZNAME:EST
DTSTART:20241103T060000
END:STANDARD
END:VTIMEZONE
BEGIN:VEVENT
DTSTART;TZID=America/Detroit:20230711T130000
DTEND;TZID=America/Detroit:20230711T140000
DTSTAMP:20260423T160402
CREATED:20230118T181810Z
LAST-MODIFIED:20230118T181810Z
UID:7458-1689080400-1689084000@blackmothersbreastfeeding.org
SUMMARY:Detroit Community-based Doula Taskforce Meeting
DESCRIPTION:Interested in the task force meetings? Click here to register! Meetings are every month on the second Tuesday.
URL:https://blackmothersbreastfeeding.org/calendar/detroit-community-based-doula-taskforce-meeting-10/
LOCATION:Zoom
CATEGORIES:Doula Support
END:VEVENT
BEGIN:VEVENT
DTSTART;TZID=America/Detroit:20230621T130000
DTEND;TZID=America/Detroit:20230621T140000
DTSTAMP:20260423T160402
CREATED:20230110T200732Z
LAST-MODIFIED:20230110T200732Z
UID:7416-1687352400-1687356000@blackmothersbreastfeeding.org
SUMMARY:Doula Peer Support Group
DESCRIPTION:Interested in the doula peer support group? Click here to register! For more information\, contact Robena Hill via email at RobenaH@bmbfa.org.
URL:https://blackmothersbreastfeeding.org/calendar/doula-peer-support-group-6/
LOCATION:Zoom
CATEGORIES:Doula Support
ORGANIZER;CN="Robena Hill":MAILTO:robenah@bmbfa.org
END:VEVENT
BEGIN:VEVENT
DTSTART;TZID=America/Detroit:20230613T130000
DTEND;TZID=America/Detroit:20230613T140000
DTSTAMP:20260423T160402
CREATED:20230118T181653Z
LAST-MODIFIED:20230118T181653Z
UID:7456-1686661200-1686664800@blackmothersbreastfeeding.org
SUMMARY:Detroit Community-based Doula Taskforce Meeting
DESCRIPTION:Interested in the task force meetings? Click here to register! Meetings are every month on the second Tuesday.
URL:https://blackmothersbreastfeeding.org/calendar/detroit-community-based-doula-taskforce-meeting-9/
LOCATION:Zoom
CATEGORIES:Doula Support
END:VEVENT
BEGIN:VEVENT
DTSTART;TZID=America/Detroit:20230517T130000
DTEND;TZID=America/Detroit:20230517T140000
DTSTAMP:20260423T160402
CREATED:20230110T195953Z
LAST-MODIFIED:20230110T195953Z
UID:7414-1684328400-1684332000@blackmothersbreastfeeding.org
SUMMARY:Doula Peer Support Group
DESCRIPTION:Interested in the doula peer support group? Click here to register! For more information\, contact Robena Hill via email at RobenaH@bmbfa.org.
URL:https://blackmothersbreastfeeding.org/calendar/doula-peer-support-group-5/
LOCATION:Zoom
CATEGORIES:Doula Support
ORGANIZER;CN="Robena Hill":MAILTO:robenah@bmbfa.org
END:VEVENT
BEGIN:VEVENT
DTSTART;TZID=America/Detroit:20230509T130000
DTEND;TZID=America/Detroit:20230509T140000
DTSTAMP:20260423T160402
CREATED:20230118T181600Z
LAST-MODIFIED:20230118T181600Z
UID:7454-1683637200-1683640800@blackmothersbreastfeeding.org
SUMMARY:Detroit Community-based Doula Taskforce Meeting
DESCRIPTION:Interested in the task force meetings? Click here to register! Meetings are every month on the second Tuesday.
URL:https://blackmothersbreastfeeding.org/calendar/detroit-community-based-doula-taskforce-meeting-8/
LOCATION:Zoom
CATEGORIES:Doula Support
END:VEVENT
BEGIN:VEVENT
DTSTART;TZID=America/Detroit:20230419T130000
DTEND;TZID=America/Detroit:20230419T140000
DTSTAMP:20260423T160402
CREATED:20230110T195654Z
LAST-MODIFIED:20230110T195654Z
UID:7412-1681909200-1681912800@blackmothersbreastfeeding.org
SUMMARY:Doula Peer Support Group
DESCRIPTION:Interested in the doula peer support group? Click here to register! For more information\, contact Robena Hill via email at RobenaH@bmbfa.org.
URL:https://blackmothersbreastfeeding.org/calendar/doula-peer-support-group-4/
LOCATION:Zoom
CATEGORIES:Doula Support
ORGANIZER;CN="Robena Hill":MAILTO:robenah@bmbfa.org
END:VEVENT
BEGIN:VEVENT
DTSTART;TZID=America/Detroit:20230411T130000
DTEND;TZID=America/Detroit:20230411T140000
DTSTAMP:20260423T160402
CREATED:20230118T181151Z
LAST-MODIFIED:20230118T181151Z
UID:7449-1681218000-1681221600@blackmothersbreastfeeding.org
SUMMARY:Detroit Community-based Doula Taskforce Meeting
DESCRIPTION:Interested in the task force meetings? Click here to register! Meetings are every month on the second Tuesday.
URL:https://blackmothersbreastfeeding.org/calendar/detroit-community-based-doula-taskforce-meeting-7/
LOCATION:Zoom
CATEGORIES:Doula Support
END:VEVENT
BEGIN:VEVENT
DTSTART;TZID=America/Detroit:20230322T130000
DTEND;TZID=America/Detroit:20230322T140000
DTSTAMP:20260423T160402
CREATED:20230110T194909Z
LAST-MODIFIED:20230110T194909Z
UID:7410-1679490000-1679493600@blackmothersbreastfeeding.org
SUMMARY:Doula Peer Support Group
DESCRIPTION:Interested in the doula peer support group? Click here to register for the zoom meeting! For more information\, contact Robena Hill via email at RobenaH@bmbfa.org.
URL:https://blackmothersbreastfeeding.org/calendar/doula-peer-support-group-3/
LOCATION:Zoom
CATEGORIES:Doula Support
ORGANIZER;CN="Robena Hill":MAILTO:robenah@bmbfa.org
END:VEVENT
BEGIN:VEVENT
DTSTART;TZID=America/Detroit:20230314T130000
DTEND;TZID=America/Detroit:20230314T140000
DTSTAMP:20260423T160402
CREATED:20230118T180949Z
LAST-MODIFIED:20230118T180949Z
UID:7447-1678798800-1678802400@blackmothersbreastfeeding.org
SUMMARY:Detroit Community-based Doula Taskforce Meeting
DESCRIPTION:Interested in the task force meetings? Click here to register! Meetings are every month on the second Tuesday.
URL:https://blackmothersbreastfeeding.org/calendar/detroit-community-based-doula-taskforce-meeting-6/
LOCATION:Zoom
CATEGORIES:Doula Support
END:VEVENT
BEGIN:VEVENT
DTSTART;TZID=America/Detroit:20230214T130000
DTEND;TZID=America/Detroit:20230214T140000
DTSTAMP:20260423T160402
CREATED:20230118T180212Z
LAST-MODIFIED:20230118T180212Z
UID:7443-1676379600-1676383200@blackmothersbreastfeeding.org
SUMMARY:Detroit Community-based Doula Taskforce Meeting
DESCRIPTION:Interested in the doula task force meetings? Click here to register!
URL:https://blackmothersbreastfeeding.org/calendar/detroit-community-based-doula-taskforce-meeting-5/
LOCATION:Zoom
CATEGORIES:Doula Support
END:VEVENT
BEGIN:VEVENT
DTSTART;TZID=America/Detroit:20230118T130000
DTEND;TZID=America/Detroit:20230118T140000
DTSTAMP:20260423T160402
CREATED:20230110T194530Z
LAST-MODIFIED:20230110T194530Z
UID:7405-1674046800-1674050400@blackmothersbreastfeeding.org
SUMMARY:Doula Peer Support Group
DESCRIPTION:Interested in the doula peer support group? Click here to register for the zoom meeting! For more information\, contact Robena Hill via email at RobenaH@bmbfa.org.
URL:https://blackmothersbreastfeeding.org/calendar/doula-peer-support-group/
LOCATION:Zoom
CATEGORIES:Doula Support
ORGANIZER;CN="Robena Hill":MAILTO:robenah@bmbfa.org
END:VEVENT
END:VCALENDAR