BEGIN:VCALENDAR
VERSION:2.0
PRODID:-//BMBFA - ECPv6.15.20//NONSGML v1.0//EN
CALSCALE:GREGORIAN
METHOD:PUBLISH
X-WR-CALNAME:BMBFA
X-ORIGINAL-URL:https://blackmothersbreastfeeding.org
X-WR-CALDESC:Events for BMBFA
REFRESH-INTERVAL;VALUE=DURATION:PT1H
X-Robots-Tag:noindex
X-PUBLISHED-TTL:PT1H
BEGIN:VTIMEZONE
TZID:America/Detroit
BEGIN:DAYLIGHT
TZOFFSETFROM:-0500
TZOFFSETTO:-0400
TZNAME:EDT
DTSTART:20230312T070000
END:DAYLIGHT
BEGIN:STANDARD
TZOFFSETFROM:-0400
TZOFFSETTO:-0500
TZNAME:EST
DTSTART:20231105T060000
END:STANDARD
BEGIN:DAYLIGHT
TZOFFSETFROM:-0500
TZOFFSETTO:-0400
TZNAME:EDT
DTSTART:20240310T070000
END:DAYLIGHT
BEGIN:STANDARD
TZOFFSETFROM:-0400
TZOFFSETTO:-0500
TZNAME:EST
DTSTART:20241103T060000
END:STANDARD
BEGIN:DAYLIGHT
TZOFFSETFROM:-0500
TZOFFSETTO:-0400
TZNAME:EDT
DTSTART:20250309T070000
END:DAYLIGHT
BEGIN:STANDARD
TZOFFSETFROM:-0400
TZOFFSETTO:-0500
TZNAME:EST
DTSTART:20251102T060000
END:STANDARD
END:VTIMEZONE
BEGIN:VEVENT
DTSTART;TZID=America/Detroit:20241106T180000
DTEND;TZID=America/Detroit:20241106T190000
DTSTAMP:20260422T185052
CREATED:20240930T191138Z
LAST-MODIFIED:20240930T191315Z
UID:9248-1730916000-1730919600@blackmothersbreastfeeding.org
SUMMARY:Black Mothers' Breastfeeding Club (Virtual)
DESCRIPTION:Interested in a Breastfeeding club? Join us on Zoom\, every 1st Wednesday of the month from 6-7 pm! Please register at least 30 minutes in advance.
URL:https://blackmothersbreastfeeding.org/calendar/black-mothers-breastfeeding-club-virtual-9/
LOCATION:Zoom
CATEGORIES:Breastfeeding Club,Community Breastfeeding Program
ATTACH;FMTTYPE=image/png:https://blackmothersbreastfeeding.org/wp-content/uploads/2024/09/Fall24-3.png
ORGANIZER;CN="Kim Price":MAILTO:kimberlyp@bmbfa.org
END:VEVENT
BEGIN:VEVENT
DTSTART;TZID=America/Detroit:20241106T113000
DTEND;TZID=America/Detroit:20241106T130000
DTSTAMP:20260422T185052
CREATED:20240930T192808Z
LAST-MODIFIED:20240930T192812Z
UID:9259-1730892600-1730898000@blackmothersbreastfeeding.org
SUMMARY:B.L.I.S.S.
DESCRIPTION:Birthing\, Lactating\, Inspiring\, & Supporting Series. Anything you want to know about birth & breastfeeding! Breastfeeding challenges and solutions. Learn how to involve your whole family. Resources and more! Questions? Contact Program Manager Kimberly Price.
URL:https://blackmothersbreastfeeding.org/calendar/b-l-i-s-s-11/
LOCATION:McKenny Center\, 19750 Burt Rd\, Detroit\, Michigan\, 48219
CATEGORIES:Breastfeeding Information Session,Community Breastfeeding Program
ATTACH;FMTTYPE=image/png:https://blackmothersbreastfeeding.org/wp-content/uploads/2024/09/BLISS-FL-4.png
ORGANIZER;CN="Kim Price":MAILTO:kimberlyp@bmbfa.org
END:VEVENT
BEGIN:VEVENT
DTSTART;TZID=America/Detroit:20241030T113000
DTEND;TZID=America/Detroit:20241030T130000
DTSTAMP:20260422T185052
CREATED:20240930T192622Z
LAST-MODIFIED:20240930T192627Z
UID:9257-1730287800-1730293200@blackmothersbreastfeeding.org
SUMMARY:B.L.I.S.S.
DESCRIPTION:Birthing\, Lactating\, Inspiring\, & Supporting Series. Anything you want to know about birth & breastfeeding! Breastfeeding challenges and solutions. Learn how to involve your whole family. Resources and more! Questions? Contact Program Manager Kimberly Price.
URL:https://blackmothersbreastfeeding.org/calendar/b-l-i-s-s-10/
LOCATION:McKenny Center\, 19750 Burt Rd\, Detroit\, Michigan\, 48219
CATEGORIES:Breastfeeding Information Session,Community Breastfeeding Program
ATTACH;FMTTYPE=image/png:https://blackmothersbreastfeeding.org/wp-content/uploads/2024/09/BLISS-FL-4.png
ORGANIZER;CN="Kim Price":MAILTO:kimberlyp@bmbfa.org
END:VEVENT
BEGIN:VEVENT
DTSTART;TZID=America/Detroit:20241023T113000
DTEND;TZID=America/Detroit:20241023T130000
DTSTAMP:20260422T185052
CREATED:20240930T192410Z
LAST-MODIFIED:20240930T192415Z
UID:9255-1729683000-1729688400@blackmothersbreastfeeding.org
SUMMARY:B.L.I.S.S.
DESCRIPTION:Birthing\, Lactating\, Inspiring\, & Supporting Series. Anything you want to know about birth & breastfeeding! Breastfeeding challenges and solutions. Learn how to involve your whole family. Resources and more! Questions? Contact Program Manager Kimberly Price.
URL:https://blackmothersbreastfeeding.org/calendar/b-l-i-s-s-9/
LOCATION:McKenny Center\, 19750 Burt Rd\, Detroit\, Michigan\, 48219
CATEGORIES:Breastfeeding Information Session,Community Breastfeeding Program
ATTACH;FMTTYPE=image/png:https://blackmothersbreastfeeding.org/wp-content/uploads/2024/09/BLISS-FL-4.png
ORGANIZER;CN="Kim Price":MAILTO:kimberlyp@bmbfa.org
END:VEVENT
BEGIN:VEVENT
DTSTART;TZID=America/Detroit:20241016T113000
DTEND;TZID=America/Detroit:20241016T130000
DTSTAMP:20260422T185052
CREATED:20240930T192023Z
LAST-MODIFIED:20240930T192029Z
UID:9253-1729078200-1729083600@blackmothersbreastfeeding.org
SUMMARY:B.L.I.S.S.
DESCRIPTION:Birthing\, Lactating\, Inspiring\, & Supporting Series. Anything you want to know about birth & breastfeeding! Breastfeeding challenges and solutions. Learn how to involve your whole family. Resources and more! Questions? Contact Program Manager Kimberly Price.
URL:https://blackmothersbreastfeeding.org/calendar/b-l-i-s-s-8/
LOCATION:McKenny Center\, 19750 Burt Rd\, Detroit\, Michigan\, 48219
CATEGORIES:Breastfeeding Information Session,Community Breastfeeding Program
ATTACH;FMTTYPE=image/png:https://blackmothersbreastfeeding.org/wp-content/uploads/2024/09/BLISS-FL-4.png
ORGANIZER;CN="Kim Price":MAILTO:kimberlyp@bmbfa.org
END:VEVENT
BEGIN:VEVENT
DTSTART;TZID=America/Detroit:20241002T180000
DTEND;TZID=America/Detroit:20241002T190000
DTSTAMP:20260422T185052
CREATED:20240930T190618Z
LAST-MODIFIED:20240930T191331Z
UID:9245-1727892000-1727895600@blackmothersbreastfeeding.org
SUMMARY:Black Mothers' Breastfeeding Club (Virtual)
DESCRIPTION: Interested in a Breastfeeding club? Join us on Zoom\, every 1st Wednesday of the month from 6-7 pm! Please register at least 30 minutes in advance.
URL:https://blackmothersbreastfeeding.org/calendar/black-mothers-breastfeeding-club-virtual-8/
LOCATION:Zoom
CATEGORIES:Breastfeeding Club,Community Breastfeeding Program
ATTACH;FMTTYPE=image/png:https://blackmothersbreastfeeding.org/wp-content/uploads/2024/09/Fall24-3.png
ORGANIZER;CN="Kim Price":MAILTO:kimberlyp@bmbfa.org
END:VEVENT
BEGIN:VEVENT
DTSTART;TZID=America/Detroit:20241002T113000
DTEND;TZID=America/Detroit:20241002T130000
DTSTAMP:20260422T185052
CREATED:20240930T191702Z
LAST-MODIFIED:20240930T191707Z
UID:9250-1727868600-1727874000@blackmothersbreastfeeding.org
SUMMARY:B.L.I.S.S.
DESCRIPTION:Birthing\, Lactating\, Inspiring\, & Supporting Series. Anything you want to know about birth & breastfeeding! Breastfeeding challenges and solutions. Learn how to involve your whole family. Resources and more! Questions? Contact Program Manager Kimberly Price.
URL:https://blackmothersbreastfeeding.org/calendar/b-l-i-s-s-7/
LOCATION:McKenny Center\, 19750 Burt Rd\, Detroit\, Michigan\, 48219
CATEGORIES:Breastfeeding Information Session,Community Breastfeeding Program
ATTACH;FMTTYPE=image/png:https://blackmothersbreastfeeding.org/wp-content/uploads/2024/09/BLISS-FL-4.png
ORGANIZER;CN="Kim Price":MAILTO:kimberlyp@bmbfa.org
END:VEVENT
BEGIN:VEVENT
DTSTART;TZID=America/Detroit:20240920T080000
DTEND;TZID=America/Detroit:20240920T170000
DTSTAMP:20260422T185052
CREATED:20240627T161801Z
LAST-MODIFIED:20240627T162906Z
UID:9073-1726819200-1726851600@blackmothersbreastfeeding.org
SUMMARY:Black Mothers' Breastfeeding Club In the Park
DESCRIPTION:Interested in Breastfeeding club?  Join us for Black Mothers’ Breastfeeding Club in the Park\, every 3rd Friday of the month from 4:30-6:30 pm! Please register at least 30 minutes in advance.
URL:https://blackmothersbreastfeeding.org/calendar/black-mothers-breastfeeding-club-in-the-park/
LOCATION:Curtis Jones Park\, 1941 Ferry Park St.\, Detroit\, Michigan\, 48208\, United States
CATEGORIES:Breastfeeding Club,Community Breastfeeding Program
ATTACH;FMTTYPE=image/png:https://blackmothersbreastfeeding.org/wp-content/uploads/2024/06/BMBFC-SUMMER-24.png
ORGANIZER;CN="Kim Price":MAILTO:kimberlyp@bmbfa.org
END:VEVENT
BEGIN:VEVENT
DTSTART;TZID=America/Detroit:20240904T080000
DTEND;TZID=America/Detroit:20240904T170000
DTSTAMP:20260422T185052
CREATED:20240627T163701Z
LAST-MODIFIED:20240627T163712Z
UID:9088-1725436800-1725469200@blackmothersbreastfeeding.org
SUMMARY:Black Mothers' Breastfeeding Club (Virtual)
DESCRIPTION:Interested in a Breastfeeding club? Join us on Zoom\, every 1st Wednesday of the month from 6-7 pm! Please register at least 30 minutes in advance.
URL:https://blackmothersbreastfeeding.org/calendar/black-mothers-breastfeeding-club-virtual-7/
LOCATION:Zoom
CATEGORIES:Breastfeeding Club,Community Breastfeeding Program
ATTACH;FMTTYPE=image/png:https://blackmothersbreastfeeding.org/wp-content/uploads/2024/06/BMBFC-SUMMER-24.png
ORGANIZER;CN="Kim Price":MAILTO:kimberlyp@bmbfa.org
END:VEVENT
BEGIN:VEVENT
DTSTART;TZID=America/Detroit:20240816T163000
DTEND;TZID=America/Detroit:20240816T183000
DTSTAMP:20260422T185052
CREATED:20240603T194209Z
LAST-MODIFIED:20240627T163141Z
UID:9010-1723825800-1723833000@blackmothersbreastfeeding.org
SUMMARY:Black Mothers' Breastfeeding Club In the Park
DESCRIPTION:Interested in Breastfeeding club?  Join us for Black Mothers’ Breastfeeding Club in the Park\, every 3rd Friday of the month at 4:30-6:30pm! Please register at least 30 minutes in advance.
URL:https://blackmothersbreastfeeding.org/calendar/black-mothers-breastfeeding-club-in-person-3/
LOCATION:Curtis Jones Park\, 1941 Ferry Park St.\, Detroit\, Michigan\, 48208\, United States
CATEGORIES:Breastfeeding Club,Community Breastfeeding Program
ATTACH;FMTTYPE=image/png:https://blackmothersbreastfeeding.org/wp-content/uploads/2024/06/BMBFC-SUMMER-24.png
ORGANIZER;CN="Kim Price":MAILTO:kimberlyp@bmbfa.org
END:VEVENT
BEGIN:VEVENT
DTSTART;TZID=America/Detroit:20240807T180000
DTEND;TZID=America/Detroit:20240807T190000
DTSTAMP:20260422T185052
CREATED:20240603T185440Z
LAST-MODIFIED:20240627T160823Z
UID:9001-1723053600-1723057200@blackmothersbreastfeeding.org
SUMMARY:Black Mothers' Breastfeeding Club (Virtual)
DESCRIPTION:Interested in Breastfeeding club?  Join us on Zoom\, every 1st Wednesday of the month from 6-7 pm! Please register at least 30 minutes in advance.
URL:https://blackmothersbreastfeeding.org/calendar/black-mothers-breastfeeding-club-virtual-6/
LOCATION:Zoom
CATEGORIES:Breastfeeding Club,Community Breastfeeding Program
ATTACH;FMTTYPE=image/png:https://blackmothersbreastfeeding.org/wp-content/uploads/2024/06/BMBFC-SUMMER-24.png
ORGANIZER;CN="Kim Price":MAILTO:kimberlyp@bmbfa.org
END:VEVENT
BEGIN:VEVENT
DTSTART;TZID=America/Detroit:20240719T163000
DTEND;TZID=America/Detroit:20240719T183000
DTSTAMP:20260422T185052
CREATED:20240603T193020Z
LAST-MODIFIED:20240627T162625Z
UID:9005-1721406600-1721413800@blackmothersbreastfeeding.org
SUMMARY:Black Mothers' Breastfeeding Club In the Park
DESCRIPTION:Interested in Breastfeeding club?  Join us for Black Mothers’ Breastfeeding Club in the Park\, every 3rd Friday of the month from 4:30-6:30 pm! Please register at least 30 minutes in advance.
URL:https://blackmothersbreastfeeding.org/calendar/black-mothers-breastfeeding-club-in-person-2/
LOCATION:Spotlight Park\, 5945 Linwood St.\, Detroit\, Michigan\, 48208\, United States
CATEGORIES:Breastfeeding Club,Community Breastfeeding Program
ATTACH;FMTTYPE=image/png:https://blackmothersbreastfeeding.org/wp-content/uploads/2024/06/BMBFC-SUMMER-24.png
ORGANIZER;CN="Kim Price":MAILTO:kimberlyp@bmbfa.org
END:VEVENT
BEGIN:VEVENT
DTSTART;TZID=America/Detroit:20240703T180000
DTEND;TZID=America/Detroit:20240703T190000
DTSTAMP:20260422T185052
CREATED:20240603T185130Z
LAST-MODIFIED:20240627T160432Z
UID:8999-1720029600-1720033200@blackmothersbreastfeeding.org
SUMMARY:Black Mothers' Breastfeeding Club (Virtual)
DESCRIPTION:Interested in Breastfeeding club?  Join us on Zoom\, every 1st Wednesday of the month from 6-7 pm! Please register at least 30 minutes in advance.
URL:https://blackmothersbreastfeeding.org/calendar/black-mothers-breastfeeding-club-virtual-5/
LOCATION:Zoom
CATEGORIES:Breastfeeding Club,Community Breastfeeding Program
ATTACH;FMTTYPE=image/png:https://blackmothersbreastfeeding.org/wp-content/uploads/2024/06/BMBFC-SUMMER-24.png
ORGANIZER;CN="Kim Price":MAILTO:kimberlyp@bmbfa.org
END:VEVENT
BEGIN:VEVENT
DTSTART;TZID=America/Detroit:20240621T163000
DTEND;TZID=America/Detroit:20240621T183000
DTSTAMP:20260422T185052
CREATED:20240603T185957Z
LAST-MODIFIED:20240605T150133Z
UID:9003-1718987400-1718994600@blackmothersbreastfeeding.org
SUMMARY:Black Mothers' Breastfeeding Club (In-Person)
DESCRIPTION: Interested in Breastfeeding club?  Join us at The McKenny Center Gymnasium\, every 3rd Friday of the month from 4:30-6:30 pm! Please register at least 30 minutes in advance.
URL:https://blackmothersbreastfeeding.org/calendar/black-mothers-breastfeeding-club-in-person/
LOCATION:McKenny Center\, 19750 Burt Rd\, Detroit\, Michigan\, 48219
CATEGORIES:Breastfeeding Club,Community Breastfeeding Program
ATTACH;FMTTYPE=application/pdf:https://blackmothersbreastfeeding.org/wp-content/uploads/2024/06/BMBFC-SUMMER24-1.pdf
ORGANIZER;CN="Kim Price":MAILTO:kimberlyp@bmbfa.org
END:VEVENT
BEGIN:VEVENT
DTSTART;TZID=America/Detroit:20240605T180000
DTEND;TZID=America/Detroit:20240605T190000
DTSTAMP:20260422T185052
CREATED:20240603T184909Z
LAST-MODIFIED:20240605T145840Z
UID:8996-1717610400-1717614000@blackmothersbreastfeeding.org
SUMMARY:Black Mothers' Breastfeeding Club (Virtual)
DESCRIPTION:Interested in Breastfeeding club?  Join us on Zoom\, every 1st Wednesday of the month from 6-7 pm! Please register at least 30 minutes in advance.
URL:https://blackmothersbreastfeeding.org/calendar/black-mothers-breastfeeding-club-virtual-4/
LOCATION:Zoom
CATEGORIES:Breastfeeding Club,Breastfeeding Information Session,Community Breastfeeding Program
ATTACH;FMTTYPE=application/pdf:https://blackmothersbreastfeeding.org/wp-content/uploads/2024/06/BMBFC-SUMMER24.pdf
ORGANIZER;CN="Kim Price":MAILTO:kimberlyp@bmbfa.org
END:VEVENT
BEGIN:VEVENT
DTSTART;TZID=America/Detroit:20240529T113000
DTEND;TZID=America/Detroit:20240529T130000
DTSTAMP:20260422T185052
CREATED:20240207T185316Z
LAST-MODIFIED:20240313T132153Z
UID:8633-1716982200-1716987600@blackmothersbreastfeeding.org
SUMMARY:BMBFA B.L.I.S.S. (Birthing\, Lactating\, Inspiring\, Supporting Series)
DESCRIPTION:Join us at the McKenny Center for the BMBFA B.L.I.S.S. (Birthing\, Lactating\, Inspiring\, Supporting Series)! Join our B’Right Hub App for times\, dates & location! Contact Kim Price at 313-920-6860 OR kimberlyp@bmbfa.org for questions!
URL:https://blackmothersbreastfeeding.org/calendar/precious-ounces-of-mothers-milk-pomm-series-28/
LOCATION:McKenny Center\, 19750 Burt Rd\, Detroit\, Michigan\, 48219
CATEGORIES:Breastfeeding Information Session,Community Breastfeeding Program
ATTACH;FMTTYPE=image/jpeg:https://blackmothersbreastfeeding.org/wp-content/uploads/2024/03/BLISS-FL.jpg
ORGANIZER;CN="Kim Price":MAILTO:kimberlyp@bmbfa.org
END:VEVENT
BEGIN:VEVENT
DTSTART;TZID=America/Detroit:20240522T113000
DTEND;TZID=America/Detroit:20240522T130000
DTSTAMP:20260422T185052
CREATED:20240207T185140Z
LAST-MODIFIED:20240313T135052Z
UID:8631-1716377400-1716382800@blackmothersbreastfeeding.org
SUMMARY:BMBFA B.L.I.S.S. (Birthing\, Lactating\, Inspiring\, Supporting Series)
DESCRIPTION:Join us at the McKenny Center for the BMBFA B.L.I.S.S. (Birthing\, Lactating\, Inspiring\, Supporting Series)! Join our B’Right Hub App for times\, dates & location! Contact Kim Price at 313-920-6860 OR kimberlyp@bmbfa.org for questions!
URL:https://blackmothersbreastfeeding.org/calendar/precious-ounces-of-mothers-milk-pomm-series-27/
LOCATION:McKenny Center\, 19750 Burt Rd\, Detroit\, Michigan\, 48219
CATEGORIES:Breastfeeding Information Session,Community Breastfeeding Program
ATTACH;FMTTYPE=image/jpeg:https://blackmothersbreastfeeding.org/wp-content/uploads/2024/03/BLISS-FL.jpg
ORGANIZER;CN="Kim Price":MAILTO:kimberlyp@bmbfa.org
END:VEVENT
BEGIN:VEVENT
DTSTART;TZID=America/Detroit:20240517T163000
DTEND;TZID=America/Detroit:20240517T183000
DTSTAMP:20260422T185052
CREATED:20240216T175141Z
LAST-MODIFIED:20240216T175141Z
UID:8682-1715963400-1715970600@blackmothersbreastfeeding.org
SUMMARY:Black Mothers' Breastfeeding Club
DESCRIPTION:Interested in Breastfeeding club?  Join us at The Mckenny Center Gymnasium\, every 3rd Friday of the month at 4:30-6:30pm! Please register at least 30 minutes in advance. Text IPHONE or ANDROID to 855-495-7979 to get texts from us. Contact Erica at (517) 285-9718 for more information.
URL:https://blackmothersbreastfeeding.org/calendar/black-mothers-breastfeeding-club-108/
LOCATION:McKenny Center\, 19750 Burt Rd\, Detroit\, Michigan\, 48219
CATEGORIES:Breastfeeding Club,Community Breastfeeding Program
ATTACH;FMTTYPE=image/jpeg:https://blackmothersbreastfeeding.org/wp-content/uploads/2024/02/2024-BMBFC-Flyer-Spring.jpg
ORGANIZER;CN="Erica Davis":MAILTO:ericad@bmbfa.org
END:VEVENT
BEGIN:VEVENT
DTSTART;TZID=America/Detroit:20240515T113000
DTEND;TZID=America/Detroit:20240515T130000
DTSTAMP:20260422T185052
CREATED:20240207T185030Z
LAST-MODIFIED:20240313T134852Z
UID:8629-1715772600-1715778000@blackmothersbreastfeeding.org
SUMMARY:BMBFA B.L.I.S.S. (Birthing\, Lactating\, Inspiring\, Supporting Series)
DESCRIPTION:Join us at the McKenny Center for the BMBFA B.L.I.S.S. (Birthing\, Lactating\, Inspiring\, Supporting Series)! Join our B’Right Hub App for times\, dates & location! Contact Kim Price at 313-920-6860 OR kimberlyp@bmbfa.org for questions!
URL:https://blackmothersbreastfeeding.org/calendar/precious-ounces-of-mothers-milk-pomm-series-26/
LOCATION:McKenny Center\, 19750 Burt Rd\, Detroit\, Michigan\, 48219
CATEGORIES:Breastfeeding Information Session,Community Breastfeeding Program
ATTACH;FMTTYPE=image/jpeg:https://blackmothersbreastfeeding.org/wp-content/uploads/2024/03/BLISS-FL.jpg
ORGANIZER;CN="Kim Price":MAILTO:kimberlyp@bmbfa.org
END:VEVENT
BEGIN:VEVENT
DTSTART;TZID=America/Detroit:20240508T113000
DTEND;TZID=America/Detroit:20240508T130000
DTSTAMP:20260422T185052
CREATED:20240207T184921Z
LAST-MODIFIED:20240313T134650Z
UID:8627-1715167800-1715173200@blackmothersbreastfeeding.org
SUMMARY:BMBFA B.L.I.S.S. (Birthing\, Lactating\, Inspiring\, Supporting Series)
DESCRIPTION:Join us at the McKenny Center for the BMBFA B.L.I.S.S. (Birthing\, Lactating\, Inspiring\, Supporting Series)! Join our B’Right Hub App for times\, dates & location! Contact Kim Price at 313-920-6860 OR kimberlyp@bmbfa.org for questions!
URL:https://blackmothersbreastfeeding.org/calendar/precious-ounces-of-mothers-milk-pomm-series-25/
LOCATION:McKenny Center\, 19750 Burt Rd\, Detroit\, Michigan\, 48219
CATEGORIES:Breastfeeding Information Session,Community Breastfeeding Program
ATTACH;FMTTYPE=image/jpeg:https://blackmothersbreastfeeding.org/wp-content/uploads/2024/03/BLISS-FL.jpg
ORGANIZER;CN="Kim Price":MAILTO:kimberlyp@bmbfa.org
END:VEVENT
BEGIN:VEVENT
DTSTART;TZID=America/Detroit:20240501T180000
DTEND;TZID=America/Detroit:20240501T190000
DTSTAMP:20260422T185052
CREATED:20240216T175116Z
LAST-MODIFIED:20240216T175116Z
UID:8688-1714586400-1714590000@blackmothersbreastfeeding.org
SUMMARY:Black Mothers' Breastfeeding Club: VIRTUAL
DESCRIPTION:Interested in Breastfeeding club?  Join us virtually every first Wednesday of the month at 6pm! Please register at least 30 minutes in advance. Text IPHONE or ANDROID to 855-495-7979 to get texts from us. Contact Erica at (517) 285-9718 for more information.
URL:https://blackmothersbreastfeeding.org/calendar/black-mothers-breastfeeding-club-virtual-3/
LOCATION:Zoom
CATEGORIES:Breastfeeding Club,Community Breastfeeding Program
ATTACH;FMTTYPE=image/jpeg:https://blackmothersbreastfeeding.org/wp-content/uploads/2024/02/2024-BMBFC-Flyer-Spring.jpg
ORGANIZER;CN="Erica Davis":MAILTO:ericad@bmbfa.org
END:VEVENT
BEGIN:VEVENT
DTSTART;TZID=America/Detroit:20240501T113000
DTEND;TZID=America/Detroit:20240501T130000
DTSTAMP:20260422T185052
CREATED:20240207T184756Z
LAST-MODIFIED:20240313T134441Z
UID:8625-1714563000-1714568400@blackmothersbreastfeeding.org
SUMMARY:BMBFA B.L.I.S.S. (Birthing\, Lactating\, Inspiring\, Supporting Series)
DESCRIPTION:Join us at the McKenny Center for the BMBFA B.L.I.S.S. (Birthing\, Lactating\, Inspiring\, Supporting Series)! Join our B’Right Hub App for times\, dates & location! Contact Kim Price at 313-920-6860 OR kimberlyp@bmbfa.org for questions!
URL:https://blackmothersbreastfeeding.org/calendar/precious-ounces-of-mothers-milk-pomm-series-24/
LOCATION:McKenny Center\, 19750 Burt Rd\, Detroit\, Michigan\, 48219
CATEGORIES:Breastfeeding Information Session,Community Breastfeeding Program
ATTACH;FMTTYPE=image/jpeg:https://blackmothersbreastfeeding.org/wp-content/uploads/2024/03/BLISS-FL.jpg
ORGANIZER;CN="Kim Price":MAILTO:kimberlyp@bmbfa.org
END:VEVENT
BEGIN:VEVENT
DTSTART;TZID=America/Detroit:20240424T113000
DTEND;TZID=America/Detroit:20240424T130000
DTSTAMP:20260422T185052
CREATED:20240207T184608Z
LAST-MODIFIED:20240313T134242Z
UID:8623-1713958200-1713963600@blackmothersbreastfeeding.org
SUMMARY:BMBFA B.L.I.S.S. (Birthing\, Lactating\, Inspiring\, Supporting Series)
DESCRIPTION:Join us at the McKenny Center for the BMBFA B.L.I.S.S. (Birthing\, Lactating\, Inspiring\, Supporting Series)! Join our B’Right Hub App for times\, dates & location! Contact Kim Price at 313-920-6860 OR kimberlyp@bmbfa.org for questions!
URL:https://blackmothersbreastfeeding.org/calendar/precious-ounces-of-mothers-milk-pomm-series-23/
LOCATION:McKenny Center\, 19750 Burt Rd\, Detroit\, Michigan\, 48219
CATEGORIES:Breastfeeding Information Session,Community Breastfeeding Program
ATTACH;FMTTYPE=image/jpeg:https://blackmothersbreastfeeding.org/wp-content/uploads/2024/03/BLISS-FL.jpg
ORGANIZER;CN="Kim Price":MAILTO:kimberlyp@bmbfa.org
END:VEVENT
BEGIN:VEVENT
DTSTART;TZID=America/Detroit:20240419T163000
DTEND;TZID=America/Detroit:20240419T183000
DTSTAMP:20260422T185052
CREATED:20240216T173758Z
LAST-MODIFIED:20240327T204302Z
UID:8679-1713544200-1713551400@blackmothersbreastfeeding.org
SUMMARY:Black Mothers' Breastfeeding Club
DESCRIPTION:Interested in Breastfeeding club?  Join us at The Mckenny Center Gymnasium\, every 3rd Friday of the month at 4:30-6:30pm! Please register at least 30 minutes in advance. Text IPHONE or ANDROID to 855-495-7979 to get texts from us. Contact Erica at (517) 285-9718 for more information.
URL:https://blackmothersbreastfeeding.org/calendar/black-mothers-breastfeeding-club-103/
LOCATION:McKenny Center\, 19750 Burt Rd\, Detroit\, MI\, 48219\, United States
CATEGORIES:Breastfeeding Club,Community Breastfeeding Program
ATTACH;FMTTYPE=image/jpeg:https://blackmothersbreastfeeding.org/wp-content/uploads/2024/02/2024-BMBFC-Flyer-Spring.jpg
ORGANIZER;CN="Erica Davis":MAILTO:ericad@bmbfa.org
END:VEVENT
BEGIN:VEVENT
DTSTART;TZID=America/Detroit:20240417T113000
DTEND;TZID=America/Detroit:20240417T130000
DTSTAMP:20260422T185052
CREATED:20240207T184457Z
LAST-MODIFIED:20240313T133837Z
UID:8621-1713353400-1713358800@blackmothersbreastfeeding.org
SUMMARY:BMBFA B.L.I.S.S. (Birthing\, Lactating\, Inspiring\, Supporting Series)
DESCRIPTION:Join us at the McKenny Center for the BMBFA B.L.I.S.S. (Birthing\, Lactating\, Inspiring\, Supporting Series)! Join our B’Right Hub App for times\, dates & location! Contact Kim Price at 313-920-6860 OR kimberlyp@bmbfa.org for questions!
URL:https://blackmothersbreastfeeding.org/calendar/precious-ounces-of-mothers-milk-pomm-series-22/
LOCATION:McKenny Center\, 19750 Burt Rd\, Detroit\, Michigan\, 48219
CATEGORIES:Breastfeeding Information Session,Community Breastfeeding Program
ATTACH;FMTTYPE=image/jpeg:https://blackmothersbreastfeeding.org/wp-content/uploads/2024/03/BLISS-FL.jpg
ORGANIZER;CN="Kim Price":MAILTO:kimberlyp@bmbfa.org
END:VEVENT
BEGIN:VEVENT
DTSTART;TZID=America/Detroit:20240410T113000
DTEND;TZID=America/Detroit:20240410T130000
DTSTAMP:20260422T185053
CREATED:20240207T184347Z
LAST-MODIFIED:20240313T133538Z
UID:8619-1712748600-1712754000@blackmothersbreastfeeding.org
SUMMARY:BMBFA B.L.I.S.S. (Birthing\, Lactating\, Inspiring\, Supporting Series)
DESCRIPTION:Join us at the McKenny Center for the BMBFA B.L.I.S.S. (Birthing\, Lactating\, Inspiring\, Supporting Series)! Join our B’Right Hub App for times\, dates & location! Contact Kim Price at 313-920-6860 OR kimberlyp@bmbfa.org for questions!
URL:https://blackmothersbreastfeeding.org/calendar/precious-ounces-of-mothers-milk-pomm-series-21/
LOCATION:McKenny Center\, 19750 Burt Rd\, Detroit\, Michigan\, 48219
CATEGORIES:Breastfeeding Information Session,Community Breastfeeding Program
ATTACH;FMTTYPE=image/jpeg:https://blackmothersbreastfeeding.org/wp-content/uploads/2024/03/BLISS-FL.jpg
ORGANIZER;CN="Kim Price":MAILTO:kimberlyp@bmbfa.org
END:VEVENT
BEGIN:VEVENT
DTSTART;TZID=America/Detroit:20240403T180000
DTEND;TZID=America/Detroit:20240403T190000
DTSTAMP:20260422T185053
CREATED:20240216T175051Z
LAST-MODIFIED:20240327T204041Z
UID:8686-1712167200-1712170800@blackmothersbreastfeeding.org
SUMMARY:Black Mothers' Breastfeeding Club: VIRTUAL
DESCRIPTION:Interested in Breastfeeding club?  Join us virtually every first Wednesday of the month at 6pm! Please register at least 30 minutes in advance. Text IPHONE or ANDROID to 855-495-7979 to get texts from us. Contact Kim P at kimberlyp@bmbfa.org OR call 1 800-313-6141 for more information.
URL:https://blackmothersbreastfeeding.org/calendar/black-mothers-breastfeeding-club-virtual-2/
LOCATION:Zoom
CATEGORIES:Breastfeeding Club,Community Breastfeeding Program
ATTACH;FMTTYPE=image/png:https://blackmothersbreastfeeding.org/wp-content/uploads/2024/02/BMBFC-SPRING-24.png
END:VEVENT
BEGIN:VEVENT
DTSTART;TZID=America/Detroit:20240403T113000
DTEND;TZID=America/Detroit:20240403T130000
DTSTAMP:20260422T185053
CREATED:20240207T184202Z
LAST-MODIFIED:20240313T133349Z
UID:8617-1712143800-1712149200@blackmothersbreastfeeding.org
SUMMARY:BMBFA B.L.I.S.S. (Birthing\, Lactating\, Inspiring\, Supporting Series)
DESCRIPTION:Join us at the McKenny Center for the BMBFA B.L.I.S.S. (Birthing\, Lactating\, Inspiring\, Supporting Series)! Join our B’Right Hub App for times\, dates & location! Contact Kim Price at 313-920-6860 OR kimberlyp@bmbfa.org for questions!
URL:https://blackmothersbreastfeeding.org/calendar/precious-ounces-of-mothers-milk-pomm-series-20/
LOCATION:McKenny Center\, 19750 Burt Rd\, Detroit\, Michigan\, 48219
CATEGORIES:Breastfeeding Information Session,Community Breastfeeding Program
ATTACH;FMTTYPE=image/jpeg:https://blackmothersbreastfeeding.org/wp-content/uploads/2024/03/BLISS-FL.jpg
ORGANIZER;CN="Kim Price":MAILTO:kimberlyp@bmbfa.org
END:VEVENT
BEGIN:VEVENT
DTSTART;TZID=America/Detroit:20240327T113000
DTEND;TZID=America/Detroit:20240327T130000
DTSTAMP:20260422T185053
CREATED:20240207T184043Z
LAST-MODIFIED:20240313T133110Z
UID:8615-1711539000-1711544400@blackmothersbreastfeeding.org
SUMMARY:BMBFA B.L.I.S.S. (Birthing\, Lactating\, Inspiring\, Supporting Series)
DESCRIPTION:Join us at the McKenny Center for the BMBFA B.L.I.S.S. (Birthing\, Lactating\, Inspiring\, Supporting Series)! Join our B’Right Hub App for times\, dates & location! Contact Kim Price at 313-920-6860 OR kimberlyp@bmbfa.org for questions!
URL:https://blackmothersbreastfeeding.org/calendar/precious-ounces-of-mothers-milk-pomm-series-19/
LOCATION:McKenny Center\, 19750 Burt Rd\, Detroit\, Michigan\, 48219
CATEGORIES:Breastfeeding Information Session,Community Breastfeeding Program
ATTACH;FMTTYPE=image/jpeg:https://blackmothersbreastfeeding.org/wp-content/uploads/2024/03/BLISS-FL.jpg
END:VEVENT
BEGIN:VEVENT
DTSTART;TZID=America/Detroit:20240320T113000
DTEND;TZID=America/Detroit:20240320T133000
DTSTAMP:20260422T185053
CREATED:20240207T183705Z
LAST-MODIFIED:20240313T132907Z
UID:8613-1710934200-1710941400@blackmothersbreastfeeding.org
SUMMARY:BMBFA B.L.I.S.S. (Birthing\, Lactating\, Inspiring\, Supporting Series)
DESCRIPTION:Join us at the McKenny Center for the BMBFA B.L.I.S.S. (Birthing\, Lactating\, Inspiring\, Supporting Series)! Join our B’Right Hub App for times\, dates & location! Contact Kim Price at 313-920-6860 OR kimberlyp@bmbfa.org for questions!
URL:https://blackmothersbreastfeeding.org/calendar/precious-ounces-of-mothers-milk-pomm-series-18/
LOCATION:McKenny Center\, 19750 Burt Rd\, Detroit\, Michigan\, 48219
CATEGORIES:Breastfeeding Information Session,Community Breastfeeding Program
ATTACH;FMTTYPE=image/jpeg:https://blackmothersbreastfeeding.org/wp-content/uploads/2024/03/BLISS-FL.jpg
ORGANIZER;CN="Kim Price":MAILTO:kimberlyp@bmbfa.org
END:VEVENT
END:VCALENDAR