BEGIN:VCALENDAR
VERSION:2.0
PRODID:-//BMBFA - ECPv6.15.20//NONSGML v1.0//EN
CALSCALE:GREGORIAN
METHOD:PUBLISH
X-ORIGINAL-URL:https://blackmothersbreastfeeding.org
X-WR-CALDESC:Events for BMBFA
REFRESH-INTERVAL;VALUE=DURATION:PT1H
X-Robots-Tag:noindex
X-PUBLISHED-TTL:PT1H
BEGIN:VTIMEZONE
TZID:America/Detroit
BEGIN:DAYLIGHT
TZOFFSETFROM:-0500
TZOFFSETTO:-0400
TZNAME:EDT
DTSTART:20250309T070000
END:DAYLIGHT
BEGIN:STANDARD
TZOFFSETFROM:-0400
TZOFFSETTO:-0500
TZNAME:EST
DTSTART:20251102T060000
END:STANDARD
BEGIN:DAYLIGHT
TZOFFSETFROM:-0500
TZOFFSETTO:-0400
TZNAME:EDT
DTSTART:20260308T070000
END:DAYLIGHT
BEGIN:STANDARD
TZOFFSETFROM:-0400
TZOFFSETTO:-0500
TZNAME:EST
DTSTART:20261101T060000
END:STANDARD
BEGIN:DAYLIGHT
TZOFFSETFROM:-0500
TZOFFSETTO:-0400
TZNAME:EDT
DTSTART:20270314T070000
END:DAYLIGHT
BEGIN:STANDARD
TZOFFSETFROM:-0400
TZOFFSETTO:-0500
TZNAME:EST
DTSTART:20271107T060000
END:STANDARD
END:VTIMEZONE
BEGIN:VEVENT
DTSTART;TZID=America/Detroit:20260326T180000
DTEND;TZID=America/Detroit:20260326T200000
DTSTAMP:20260424T095409
CREATED:20250429T164718Z
LAST-MODIFIED:20260310T181613Z
UID:9602-1774548000-1774555200@blackmothersbreastfeeding.org
SUMMARY:Open House & World Doula Week Appreciation
DESCRIPTION:Let’s get ready for a sweet time! BMBFA is thrilled to invite you to our Open House & Doula Appreciation celebration! \n\n\n\nDate: Thursday\, March 26\, 2026Time: 6:00 PM – 8:00 PMLocation: Westminster Church\, 17567 Hubbell Ave\, Detroit\, MI  48235 \n\n\n\nLearn about our Birth & Breastfeeding Leadership Institute\, meet our amazing Doulas and Breastfeeding Peer Counselors\, explore our programs\, and enjoy:MusicFoodGiveawaysFamily fun…and so much more! \n\n\n\nRegistration is FREE\, but pre-registration is required.Don’t wait\, secure your spot today! \n\n\n\n\n\n\n\n\nRegister Now
URL:https://blackmothersbreastfeeding.org/calendar/open-house-mothers-day-event/
LOCATION:Westminster Church of Detroit\, 17567 Hubbell Ave\, Detroit\, MI\, 48235\, United States
ATTACH;FMTTYPE=image/png:https://blackmothersbreastfeeding.org/wp-content/uploads/2025/04/Open-House-Mothers-Day-Event-1.png
END:VEVENT
END:VCALENDAR