BEGIN:VCALENDAR
VERSION:2.0
PRODID:-//BMBFA - ECPv6.15.20//NONSGML v1.0//EN
CALSCALE:GREGORIAN
METHOD:PUBLISH
X-ORIGINAL-URL:https://blackmothersbreastfeeding.org
X-WR-CALDESC:Events for BMBFA
REFRESH-INTERVAL;VALUE=DURATION:PT1H
X-Robots-Tag:noindex
X-PUBLISHED-TTL:PT1H
BEGIN:VTIMEZONE
TZID:America/Detroit
BEGIN:DAYLIGHT
TZOFFSETFROM:-0500
TZOFFSETTO:-0400
TZNAME:EDT
DTSTART:20240310T070000
END:DAYLIGHT
BEGIN:STANDARD
TZOFFSETFROM:-0400
TZOFFSETTO:-0500
TZNAME:EST
DTSTART:20241103T060000
END:STANDARD
BEGIN:DAYLIGHT
TZOFFSETFROM:-0500
TZOFFSETTO:-0400
TZNAME:EDT
DTSTART:20250309T070000
END:DAYLIGHT
BEGIN:STANDARD
TZOFFSETFROM:-0400
TZOFFSETTO:-0500
TZNAME:EST
DTSTART:20251102T060000
END:STANDARD
BEGIN:DAYLIGHT
TZOFFSETFROM:-0500
TZOFFSETTO:-0400
TZNAME:EDT
DTSTART:20260308T070000
END:DAYLIGHT
BEGIN:STANDARD
TZOFFSETFROM:-0400
TZOFFSETTO:-0500
TZNAME:EST
DTSTART:20261101T060000
END:STANDARD
END:VTIMEZONE
BEGIN:VEVENT
DTSTART;TZID=America/Detroit:20251105T113000
DTEND;TZID=America/Detroit:20251105T130000
DTSTAMP:20260424T125443
CREATED:20251003T151555Z
LAST-MODIFIED:20251003T151600Z
UID:10177-1762342200-1762347600@blackmothersbreastfeeding.org
SUMMARY:B.L.I.S.S
DESCRIPTION:Birthing\, Lactating\, Inspiring\, & Supporting SeriesLearn about birth & breastfeeding\, tackle challenges\, involve your family\, and access helpful resources! \n\n\n\nRegister through our Bright Hub app to attend.Questions? Contact Program Manager Kimberly Price.
URL:https://blackmothersbreastfeeding.org/calendar/b-l-i-s-s-37/
END:VEVENT
BEGIN:VEVENT
DTSTART;TZID=America/Detroit:20251105T173000
DTEND;TZID=America/Detroit:20251105T183000
DTSTAMP:20260424T125443
CREATED:20251002T163021Z
LAST-MODIFIED:20251104T210015Z
UID:10162-1762363800-1762367400@blackmothersbreastfeeding.org
SUMMARY:Black Mothers Breastfeeding Club- In Person
DESCRIPTION:Heads up! Our virtual club meeting scheduled for Wednesday\, November 5th\, has been moved to a special IN-PERSON EVENT! \n\n\n\n\nWhen: Wednesday\, November 5th\, 5:30 PM – 7:30 PM\n\n\n\nWhere: Westminster Church of Detroit\, 17567 Hubbell Ave Suite 149\, Detroit\, MI 48235\n\n\n\nImportant Note: We will be filming this session\, so please come camera ready!\n\n\n\n\nThis special event replaces the virtual meeting originally planned for this date.
URL:https://blackmothersbreastfeeding.org/calendar/black-mothers-breastfeeding-club-virtual-11/
ATTACH;FMTTYPE=image/png:https://blackmothersbreastfeeding.org/wp-content/uploads/2025/10/2024-BMBFC-Flyer-Instagram-Post-45-4.png
END:VEVENT
END:VCALENDAR